BEGIN:VCALENDAR
VERSION:2.0
PRODID:-//Wheeler Opera House - ECPv6.15.18//NONSGML v1.0//EN
CALSCALE:GREGORIAN
METHOD:PUBLISH
X-WR-CALNAME:Wheeler Opera House
X-ORIGINAL-URL:https://wheeleroperahouse.com
X-WR-CALDESC:Events for Wheeler Opera House
REFRESH-INTERVAL;VALUE=DURATION:PT1H
X-Robots-Tag:noindex
X-PUBLISHED-TTL:PT1H
BEGIN:VTIMEZONE
TZID:America/Denver
BEGIN:DAYLIGHT
TZOFFSETFROM:-0700
TZOFFSETTO:-0600
TZNAME:MDT
DTSTART:20230312T090000
END:DAYLIGHT
BEGIN:STANDARD
TZOFFSETFROM:-0600
TZOFFSETTO:-0700
TZNAME:MST
DTSTART:20231105T080000
END:STANDARD
BEGIN:DAYLIGHT
TZOFFSETFROM:-0700
TZOFFSETTO:-0600
TZNAME:MDT
DTSTART:20240310T090000
END:DAYLIGHT
BEGIN:STANDARD
TZOFFSETFROM:-0600
TZOFFSETTO:-0700
TZNAME:MST
DTSTART:20241103T080000
END:STANDARD
BEGIN:DAYLIGHT
TZOFFSETFROM:-0700
TZOFFSETTO:-0600
TZNAME:MDT
DTSTART:20250309T090000
END:DAYLIGHT
BEGIN:STANDARD
TZOFFSETFROM:-0600
TZOFFSETTO:-0700
TZNAME:MST
DTSTART:20251102T080000
END:STANDARD
END:VTIMEZONE
BEGIN:VEVENT
DTSTART;TZID=America/Denver:20240419T180000
DTEND;TZID=America/Denver:20240419T180000
DTSTAMP:20260422T155205
CREATED:20240403T142711Z
LAST-MODIFIED:20240403T142711Z
UID:10000442-1713549600-1713549600@wheeleroperahouse.com
SUMMARY:+ERBA: A Forest in the City
DESCRIPTION:+ERBA: A Forest in the City\, a special Aspen edition commissioned by the Wheeler Opera House\, is an interactive environmental piece that Compagnia TPO has adapted to our valley’s character\, monuments\, and ecosystem. Their pioneering\, multi-disciplinary performances meld music\, dance\, art\, sculpture\, digital media\, lighting\, and sound into a one-of-kind\, immersive experience. \nThe interactive nature of this performance is most appropriate for children ages 4-10\, as the audience will be seated on the stage with the performers. \nLast May\, the company studied the Roaring Fork Valley’s landscapes then performed a movement workshop mimicking the cycle of butterflies at the Riverview School in Glenwood Springs. Their pioneering\, multi-disciplinary performances meld music\, dance\, art\, sculpture\, digital media\, lighting\, and sound into a one-of-kind\, interactive experience. \nBased in Prato\, Italy\, Compagnia TPO uses interactive\, digital scenery to enhance theatrical dance performances that engage young audiences. Using their bodies to “paint” and “play music” with the ever-changing visuals onstage\, the performers gently invite children in the audience to join them in their creative movement. Images and sounds interface with the bodies onstage\, transforming live gestures and virtual landscapes into a charming interactive gallery. The company’s work has received awards for innovation and artistry in China\, Poland\, Italy\, the United States and Spain.
URL:https://wheeleroperahouse.com/event/erba-a-forest-in-the-city/
LOCATION:Wheeler Opera House\, 320 E Hyman Ave\, Aspen\, CO\, 81611\, United States
CATEGORIES:Family
ATTACH;FMTTYPE=image/jpeg:https://wheeleroperahouse.com/app/uploads/2024/04/CompagniaTPOErba_Digital_1200x800_v2.jpg
END:VEVENT
END:VCALENDAR