BEGIN:VCALENDAR
VERSION:2.0
PRODID:-//Wheeler Opera House - ECPv6.15.18//NONSGML v1.0//EN
CALSCALE:GREGORIAN
METHOD:PUBLISH
X-WR-CALNAME:Wheeler Opera House
X-ORIGINAL-URL:https://wheeleroperahouse.com
X-WR-CALDESC:Events for Wheeler Opera House
REFRESH-INTERVAL;VALUE=DURATION:PT1H
X-Robots-Tag:noindex
X-PUBLISHED-TTL:PT1H
BEGIN:VTIMEZONE
TZID:America/Denver
BEGIN:DAYLIGHT
TZOFFSETFROM:-0700
TZOFFSETTO:-0600
TZNAME:MDT
DTSTART:20240310T090000
END:DAYLIGHT
BEGIN:STANDARD
TZOFFSETFROM:-0600
TZOFFSETTO:-0700
TZNAME:MST
DTSTART:20241103T080000
END:STANDARD
BEGIN:DAYLIGHT
TZOFFSETFROM:-0700
TZOFFSETTO:-0600
TZNAME:MDT
DTSTART:20250309T090000
END:DAYLIGHT
BEGIN:STANDARD
TZOFFSETFROM:-0600
TZOFFSETTO:-0700
TZNAME:MST
DTSTART:20251102T080000
END:STANDARD
BEGIN:DAYLIGHT
TZOFFSETFROM:-0700
TZOFFSETTO:-0600
TZNAME:MDT
DTSTART:20260308T090000
END:DAYLIGHT
BEGIN:STANDARD
TZOFFSETFROM:-0600
TZOFFSETTO:-0700
TZNAME:MST
DTSTART:20261101T080000
END:STANDARD
END:VTIMEZONE
BEGIN:VEVENT
DTSTART;TZID=America/Denver:20250423T180000
DTEND;TZID=America/Denver:20250423T180000
DTSTAMP:20260421T172911
CREATED:20241115T010028Z
LAST-MODIFIED:20241111T172055Z
UID:10000572-1745431200-1745431200@wheeleroperahouse.com
SUMMARY:Illusionist Leon Etienne
DESCRIPTION:Illusionist Leon Etienne\nCelebrate the Wheeler Opera House’s birthday with us! Opened on this day in 1889\, we’re throwing a high-energy\, big-magic celebration—and you’re invited!\nIllusionist Leon Etienne\, known for his electrifying performances and memorable appearances on “America’s Got Talent\,” “The Tonight Show Starring Jimmy Fallon\,” “Masters of Illusion\,” and “Penn & Teller: Fool Us!\,” brings his world-class show to the Wheeler Opera House. Prepare to be captivated by mind-blowing illusions\, award-winning sleight of hand\, and laugh-out-loud comedy in an unforgettable experience that amazes audiences of all ages. \nEtienne’s high-energy magic has wowed crowds across the globe\, with performances at iconic venues like Radio City Music Hall\, Planet Hollywood Casino\, Studio City Casino in Macau\, and his own theater on the island of Saipan. His international tours span the USA\, England\, Ireland\, France\, China\, and Australia\, earning accolades from celebrities like Jimmy Fallon\, Howard Stern\, and Heidi Klum. \nCritics call him “America’s Rock Illusionist\,” praising his charismatic\, rock ‘n’ roll-inspired approach to magic. Etienne’s passion for sleight-of-hand artistry and jaw-dropping grand illusions promises a thrilling\, must-see show that delivers excitement and wonder. \n“I am so excited to bring my show to Aspen\,” says Etienne. “We cannot wait to perform for the incredible Wheeler audiences we’ve heard about. They are going to experience some of the best grand illusions in the world. The world needs magic now more than ever. I’m on a mission to bring magic\, joy\, and wonder to as many communities around the country as I can. We can’t wait to rock Aspen\, Colorado!”
URL:https://wheeleroperahouse.com/event/illusionist-leon-etienne/
LOCATION:Wheeler Opera House\, 320 E Hyman Ave\, Aspen\, CO\, 81611\, United States
CATEGORIES:Family,Magic
ATTACH;FMTTYPE=image/png:https://wheeleroperahouse.com/app/uploads/2024/11/WOH-JPG-1200-x-800-7-Leon-Etienne.png
END:VEVENT
END:VCALENDAR