BEGIN:VCALENDAR
VERSION:2.0
PRODID:-//Wheeler Opera House - ECPv6.15.18//NONSGML v1.0//EN
CALSCALE:GREGORIAN
METHOD:PUBLISH
X-ORIGINAL-URL:https://wheeleroperahouse.com
X-WR-CALDESC:Events for Wheeler Opera House
REFRESH-INTERVAL;VALUE=DURATION:PT1H
X-Robots-Tag:noindex
X-PUBLISHED-TTL:PT1H
BEGIN:VTIMEZONE
TZID:America/Denver
BEGIN:DAYLIGHT
TZOFFSETFROM:-0700
TZOFFSETTO:-0600
TZNAME:MDT
DTSTART:20250309T090000
END:DAYLIGHT
BEGIN:STANDARD
TZOFFSETFROM:-0600
TZOFFSETTO:-0700
TZNAME:MST
DTSTART:20251102T080000
END:STANDARD
BEGIN:DAYLIGHT
TZOFFSETFROM:-0700
TZOFFSETTO:-0600
TZNAME:MDT
DTSTART:20260308T090000
END:DAYLIGHT
BEGIN:STANDARD
TZOFFSETFROM:-0600
TZOFFSETTO:-0700
TZNAME:MST
DTSTART:20261101T080000
END:STANDARD
BEGIN:DAYLIGHT
TZOFFSETFROM:-0700
TZOFFSETTO:-0600
TZNAME:MDT
DTSTART:20270314T090000
END:DAYLIGHT
BEGIN:STANDARD
TZOFFSETFROM:-0600
TZOFFSETTO:-0700
TZNAME:MST
DTSTART:20271107T080000
END:STANDARD
END:VTIMEZONE
BEGIN:VEVENT
DTSTART;TZID=America/Denver:20260125T160000
DTEND;TZID=America/Denver:20260125T170000
DTSTAMP:20260421T200426
CREATED:20250926T000010Z
LAST-MODIFIED:20260106T202344Z
UID:10001652-1769356800-1769360400@wheeleroperahouse.com
SUMMARY:Don't Let the Pigeon Drive the Bus! The Musical!
DESCRIPTION:Whatever you do\, don’t let the Pigeon star in his own musical production! With a script written by Mo Willems\, the creator of the #1 New York Times best-selling\, Caldecott Honor award-winning “Pigeon” picture books\, and featuring music by Deborah Wicks La Puma (Elephant & Piggie’s We Are in a Play!)\, TheaterWorksUSA‘s Don’t Let the Pigeon Drive the Bus! The Musical! is even more fun than staying up late and having a hot dog party! \nIt’s not easy being the Pigeon-you never get to do ANYTHING! But when the Bus Driver has a crisis that threatens to make her passengers (gasp!) late\, maybe that wily bird CAN do something. Featuring an innovative mix of songs\, and feathers\, Don’t Let the Pigeon Drive the Bus! The Musical! is sure to get everyone’s wings flapping. The production runs for approximately 60 minutes and is recommended for ages 5 and up. \nBased on the book Don’t Let the Pigeon Drive the Bus! by Mo Willems\, published by Hyperion Books for Children\, the show features a script by Mo Willems and Mr. Warburton\, lyrics by Mo Willems\, music by Deborah Wicks La Puma\, and dramaturgy by Megan Alrutz. This play was commissioned by the John F. Kennedy Center for the Performing Arts and was first produced at the Kennedy Center during the 2019-2020 season. \nAdditional credits include set design by Timothy R. Mackabee\, costume design by Heidi Leigh Hanson\, props design by Lake Simons\, and direction and choreography by Jen Wineman.
URL:https://wheeleroperahouse.com/event/dont-let-the-pigeon-drive-the-bus-the-musical/
LOCATION:Wheeler Opera House\, 320 E Hyman Ave\, Aspen\, CO\, 81611\, United States
CATEGORIES:Family,Theater
ATTACH;FMTTYPE=image/jpeg:https://wheeleroperahouse.com/app/uploads/2025/09/Pigeon-1200-x-800-Final.jpg
END:VEVENT
BEGIN:VEVENT
DTSTART;TZID=America/Denver:20260307T160000
DTEND;TZID=America/Denver:20260307T173000
DTSTAMP:20260421T200426
CREATED:20250926T000051Z
LAST-MODIFIED:20260126T231654Z
UID:10001656-1772899200-1772904600@wheeleroperahouse.com
SUMMARY:BUGS Created by Kaki King and GLITCH
DESCRIPTION:WHAT IS BUGS? \nCreated by Kaki King and Glitch\, this multimedia show for young audiences incorporates Kaki King’s signature guitar projection mapping and drum-triggered effects into a fun-filled story of bugs\, beetles\, critters\, and all things sugar. \nIn BUGS\, audiences experience magically synched visuals\, emotionally rich music\, playful effects\, as well as multiple kinds of recorded insect sounds. \nBUGS is engaging and interactive\, encouraging audiences to participate and dance along. They are invited to shout out their favorite bug\, dance like one of the insect characters jiggling around on the guitar\, and feel the freedom to interact with Kaki and glow in their own discovery processes. \nThe visual world created by GLITCH incorporates video and imagery of insects\, spiders and other invertebrates – along with melting ice cream\, friendly characters\, bundles of candy\, exploding lego jelly\, bouncing toys\, and more. \nThe audio experience combines King’s live guitar performance\, sound samples\, and field recordings from nature – all triggered in real time.\nAdults will enjoy the rich\, unique audio-visual experience and sophisticated music. The show is intended both for children and anyone who is a child at heart! \nCOMMISSIONING PARTNERS \nThe La Jolla Music Society is the lead co-commissioner for Kaki King’s BUGS\, and hosted a residency and performance series of BUGS in the spring of 2024. \nThe Harris Theater in Chicago is also a co-commissioner\, presented a performance of BUGS in November\, 2024.
URL:https://wheeleroperahouse.com/event/bugs-created-by-kaki-king-and-glitch/
LOCATION:Wheeler Opera House\, 320 E Hyman Ave\, Aspen\, CO\, 81611\, United States
CATEGORIES:Family
ATTACH;FMTTYPE=image/jpeg:https://wheeleroperahouse.com/app/uploads/2025/08/Bugs-Prod.-1200-x-800.jpg
END:VEVENT
BEGIN:VEVENT
DTSTART;TZID=America/Denver:20260501T190000
DTEND;TZID=America/Denver:20260501T190000
DTSTAMP:20260421T200426
CREATED:20260421T150028Z
LAST-MODIFIED:20260420T173628Z
UID:10001834-1777662000-1777662000@wheeleroperahouse.com
SUMMARY:Aspen Community School Presents: Dahlapalooza
DESCRIPTION:Aspen Community School presents a stage interpretation of Raold Dahl’s greatest hits including James and the Giant Peach\, Charlie and the Chocolate Factory\, The BFG\, Matilda\, The Witches\, and his early years autobiography\, Boy.
URL:https://wheeleroperahouse.com/event/aspen-community-school-presents-dahlapalooza-2/
LOCATION:Wheeler Opera House\, 320 E Hyman Ave\, Aspen\, CO\, 81611\, United States
CATEGORIES:Family,Theater
ATTACH;FMTTYPE=image/jpeg:https://wheeleroperahouse.com/app/uploads/2026/04/Dahl_Wheeler_1200x800-scaled.jpg
END:VEVENT
END:VCALENDAR