BEGIN:VCALENDAR
VERSION:2.0
PRODID:-//Wheeler Opera House - ECPv6.15.18//NONSGML v1.0//EN
CALSCALE:GREGORIAN
METHOD:PUBLISH
X-ORIGINAL-URL:https://wheeleroperahouse.com
X-WR-CALDESC:Events for Wheeler Opera House
REFRESH-INTERVAL;VALUE=DURATION:PT1H
X-Robots-Tag:noindex
X-PUBLISHED-TTL:PT1H
BEGIN:VTIMEZONE
TZID:America/Denver
BEGIN:DAYLIGHT
TZOFFSETFROM:-0700
TZOFFSETTO:-0600
TZNAME:MDT
DTSTART:20240310T090000
END:DAYLIGHT
BEGIN:STANDARD
TZOFFSETFROM:-0600
TZOFFSETTO:-0700
TZNAME:MST
DTSTART:20241103T080000
END:STANDARD
BEGIN:DAYLIGHT
TZOFFSETFROM:-0700
TZOFFSETTO:-0600
TZNAME:MDT
DTSTART:20250309T090000
END:DAYLIGHT
BEGIN:STANDARD
TZOFFSETFROM:-0600
TZOFFSETTO:-0700
TZNAME:MST
DTSTART:20251102T080000
END:STANDARD
BEGIN:DAYLIGHT
TZOFFSETFROM:-0700
TZOFFSETTO:-0600
TZNAME:MDT
DTSTART:20260308T090000
END:DAYLIGHT
BEGIN:STANDARD
TZOFFSETFROM:-0600
TZOFFSETTO:-0700
TZNAME:MST
DTSTART:20261101T080000
END:STANDARD
END:VTIMEZONE
BEGIN:VEVENT
DTSTART;TZID=America/Denver:20250331T190000
DTEND;TZID=America/Denver:20250331T190000
DTSTAMP:20260421T111144
CREATED:20250310T160046Z
LAST-MODIFIED:20250324T162106Z
UID:10000617-1743447600-1743447600@wheeleroperahouse.com
SUMMARY:Aspen Film 34th Shortsfest - Program 1
DESCRIPTION:Celebrating its 34th year\, Aspen Shortsfest is one of only five Oscar®- qualifying festivals in the US strictly dedicated to showcasing short films. This year’s festival features new works from 29 countries\, encompassing ten programs and 68 short films\, of which there are 11 World\, 2 International\, 3 North American\, 7 US and 39 Colorado Premieres. Each program contains a variety of comedic\, dramatic\,  documentary and animated short films.\n\nClick here for more details about the program 
URL:https://wheeleroperahouse.com/event/aspen-film-34th-shortsfest-program-1/
LOCATION:Wheeler Opera House\, 320 E Hyman Ave\, Aspen\, CO\, 81611\, United States
CATEGORIES:Film Festival
ATTACH;FMTTYPE=image/jpeg:https://wheeleroperahouse.com/app/uploads/2025/03/1200x858.jpg
END:VEVENT
END:VCALENDAR