BEGIN:VCALENDAR
VERSION:2.0
PRODID:-//Wheeler Opera House - ECPv6.15.18//NONSGML v1.0//EN
CALSCALE:GREGORIAN
METHOD:PUBLISH
X-WR-CALNAME:Wheeler Opera House
X-ORIGINAL-URL:https://wheeleroperahouse.com
X-WR-CALDESC:Events for Wheeler Opera House
REFRESH-INTERVAL;VALUE=DURATION:PT1H
X-Robots-Tag:noindex
X-PUBLISHED-TTL:PT1H
BEGIN:VTIMEZONE
TZID:America/Denver
BEGIN:DAYLIGHT
TZOFFSETFROM:-0700
TZOFFSETTO:-0600
TZNAME:MDT
DTSTART:20240310T090000
END:DAYLIGHT
BEGIN:STANDARD
TZOFFSETFROM:-0600
TZOFFSETTO:-0700
TZNAME:MST
DTSTART:20241103T080000
END:STANDARD
BEGIN:DAYLIGHT
TZOFFSETFROM:-0700
TZOFFSETTO:-0600
TZNAME:MDT
DTSTART:20250309T090000
END:DAYLIGHT
BEGIN:STANDARD
TZOFFSETFROM:-0600
TZOFFSETTO:-0700
TZNAME:MST
DTSTART:20251102T080000
END:STANDARD
BEGIN:DAYLIGHT
TZOFFSETFROM:-0700
TZOFFSETTO:-0600
TZNAME:MDT
DTSTART:20260308T090000
END:DAYLIGHT
BEGIN:STANDARD
TZOFFSETFROM:-0600
TZOFFSETTO:-0700
TZNAME:MST
DTSTART:20261101T080000
END:STANDARD
END:VTIMEZONE
BEGIN:VEVENT
DTSTART;TZID=America/Denver:20251231T170000
DTEND;TZID=America/Denver:20251231T183000
DTSTAMP:20260420T103207
CREATED:20250820T150002Z
LAST-MODIFIED:20251219T173441Z
UID:10001672-1767200400-1767205800@wheeleroperahouse.com
SUMMARY:Jen Kramer's Magical New Year
DESCRIPTION:Step into a world where the impossible becomes unforgettable. Jen Kramer\, named Best Magician in the 2024 Best of Vegas Awards and Female Magician of the Year by the International Magicians Society\, brings her signature charm and mind-blowing sleight-of-hand to the stage in The Magic of Jen Kramer. A Yale Theater graduate and international performer\, Kramer’s high-energy family-friendly show blends sleight-of-hand\, storytelling\, and audience participation into a dazzling experience for all ages. \nKramer has wowed audiences on Penn & Teller: Fool Us\, Masters of Illusion\, and NBC’s TODAY Show. Her show at the Westgate Resort & Casino in Las Vegas is a Tripadvisor Travelers’ Choice Award winner. Whether she’s turning $1 bills into $100s or conjuring up a life-sized social media page\, Jen’s creativity and charisma light up the stage. She’s performed around the world in English\, French\, Spanish\, and Swahili\, and serves on the Advisory Board for Magicians Without Borders. \nFun Fact: Jen is also a black belt in Shotokan Karate and an FAA-certified drone pilot! \n 
URL:https://wheeleroperahouse.com/event/jen-kramers-magical-new-year-5-pm/
LOCATION:Wheeler Opera House\, 320 E Hyman Ave\, Aspen\, CO\, 81611\, United States
CATEGORIES:Magic
ATTACH;FMTTYPE=image/jpeg:https://wheeleroperahouse.com/app/uploads/2025/08/Jen-Kramer-1200-x-800.jpg
END:VEVENT
BEGIN:VEVENT
DTSTART;TZID=America/Denver:20251231T210000
DTEND;TZID=America/Denver:20251231T223000
DTSTAMP:20260420T103207
CREATED:20250820T150010Z
LAST-MODIFIED:20251219T173414Z
UID:10001650-1767214800-1767220200@wheeleroperahouse.com
SUMMARY:Jen Kramer's Magical New Year
DESCRIPTION:Step into a world where the impossible becomes unforgettable. Jen Kramer\, named Best Magician in the 2024 Best of Vegas Awards and Female Magician of the Year by the International Magicians Society\, brings her signature charm and mind-blowing sleight-of-hand to the stage in The Magic of Jen Kramer. A Yale Theater graduate and international performer\, Kramer’s high-energy family-friendly show blends sleight-of-hand\, storytelling\, and audience participation into a dazzling experience for all ages. \nKramer has wowed audiences on Penn & Teller: Fool Us\, Masters of Illusion\, and NBC’s TODAY Show. Her show at the Westgate Resort & Casino in Las Vegas is a Tripadvisor Travelers’ Choice Award winner. \nWhether she’s turning $1 bills into $100s or conjuring up a life-sized social media page\, Jen’s creativity and charisma light up the stage. She’s performed around the world in English\, French\, Spanish\, and Swahili\, and serves on the Advisory Board for Magicians Without Borders. \nFun Fact: Jen is also a black belt in Shotokan Karate and an FAA-certified drone pilot! \n 
URL:https://wheeleroperahouse.com/event/jen-kramers-magical-new-year/
LOCATION:Wheeler Opera House\, 320 E Hyman Ave\, Aspen\, CO\, 81611\, United States
CATEGORIES:Magic
ATTACH;FMTTYPE=image/jpeg:https://wheeleroperahouse.com/app/uploads/2025/08/Jen-Kramer-1200-x-800.jpg
END:VEVENT
END:VCALENDAR