BEGIN:VCALENDAR
VERSION:2.0
PRODID:-//Wheeler Opera House - ECPv6.15.18//NONSGML v1.0//EN
CALSCALE:GREGORIAN
METHOD:PUBLISH
X-WR-CALNAME:Wheeler Opera House
X-ORIGINAL-URL:https://wheeleroperahouse.com
X-WR-CALDESC:Events for Wheeler Opera House
REFRESH-INTERVAL;VALUE=DURATION:PT1H
X-Robots-Tag:noindex
X-PUBLISHED-TTL:PT1H
BEGIN:VTIMEZONE
TZID:America/Denver
BEGIN:DAYLIGHT
TZOFFSETFROM:-0700
TZOFFSETTO:-0600
TZNAME:MDT
DTSTART:20250309T090000
END:DAYLIGHT
BEGIN:STANDARD
TZOFFSETFROM:-0600
TZOFFSETTO:-0700
TZNAME:MST
DTSTART:20251102T080000
END:STANDARD
BEGIN:DAYLIGHT
TZOFFSETFROM:-0700
TZOFFSETTO:-0600
TZNAME:MDT
DTSTART:20260308T090000
END:DAYLIGHT
BEGIN:STANDARD
TZOFFSETFROM:-0600
TZOFFSETTO:-0700
TZNAME:MST
DTSTART:20261101T080000
END:STANDARD
BEGIN:DAYLIGHT
TZOFFSETFROM:-0700
TZOFFSETTO:-0600
TZNAME:MDT
DTSTART:20270314T090000
END:DAYLIGHT
BEGIN:STANDARD
TZOFFSETFROM:-0600
TZOFFSETTO:-0700
TZNAME:MST
DTSTART:20271107T080000
END:STANDARD
END:VTIMEZONE
BEGIN:VEVENT
DTSTART;TZID=America/Denver:20260325T190000
DTEND;TZID=America/Denver:20260325T203000
DTSTAMP:20260420T052454
CREATED:20250926T000026Z
LAST-MODIFIED:20260126T225615Z
UID:10001660-1774465200-1774470600@wheeleroperahouse.com
SUMMARY:The Naked Magicians
DESCRIPTION:Direct from sold-out seasons in Las Vegas and London’s West End\, and having wowed audiences in over 300 cities worldwide\, Australia’s smash hit The Naked Magicians is coming to town! \nSeen by over 50 million viewers on NBC\, ABC\, FOX\, CBS\, and featured on America’s Got Talent and Entertainment Tonight\, this cheeky duo delivers world-class magic\, laugh-out-loud comedy\, and a whole lot of skin. With nothing but a top hat and a smile\, these two hot and hilarious performers strip away the stereotypes—literally—and bring a whole new meaning to “now you see it.” \nPerfect for a bold date night or an unforgettable girls’ night out\, this adults-only show is packed with jaw-dropping illusions\, outrageous humour\, and just the right amount of naughty.\nGood magicians don’t need sleeves. Great magicians don’t need pants. \nNote: This performance contains male nudity\, sexual references\, and coarse language. This show is for ages 18+ only.
URL:https://wheeleroperahouse.com/event/the-naked-magicians/
LOCATION:Wheeler Opera House\, 320 E Hyman Ave\, Aspen\, CO\, 81611\, United States
CATEGORIES:Magic
ATTACH;FMTTYPE=image/jpeg:https://wheeleroperahouse.com/app/uploads/2025/08/Naked-Magicians-1200-x-800.jpg
END:VEVENT
END:VCALENDAR