BEGIN:VCALENDAR
VERSION:2.0
PRODID:-//Wheeler Opera House - ECPv6.15.18//NONSGML v1.0//EN
CALSCALE:GREGORIAN
METHOD:PUBLISH
X-ORIGINAL-URL:https://wheeleroperahouse.com
X-WR-CALDESC:Events for Wheeler Opera House
REFRESH-INTERVAL;VALUE=DURATION:PT1H
X-Robots-Tag:noindex
X-PUBLISHED-TTL:PT1H
BEGIN:VTIMEZONE
TZID:America/Denver
BEGIN:DAYLIGHT
TZOFFSETFROM:-0700
TZOFFSETTO:-0600
TZNAME:MDT
DTSTART:20220313T090000
END:DAYLIGHT
BEGIN:STANDARD
TZOFFSETFROM:-0600
TZOFFSETTO:-0700
TZNAME:MST
DTSTART:20221106T080000
END:STANDARD
BEGIN:DAYLIGHT
TZOFFSETFROM:-0700
TZOFFSETTO:-0600
TZNAME:MDT
DTSTART:20230312T090000
END:DAYLIGHT
BEGIN:STANDARD
TZOFFSETFROM:-0600
TZOFFSETTO:-0700
TZNAME:MST
DTSTART:20231105T080000
END:STANDARD
BEGIN:DAYLIGHT
TZOFFSETFROM:-0700
TZOFFSETTO:-0600
TZNAME:MDT
DTSTART:20240310T090000
END:DAYLIGHT
BEGIN:STANDARD
TZOFFSETFROM:-0600
TZOFFSETTO:-0700
TZNAME:MST
DTSTART:20241103T080000
END:STANDARD
END:VTIMEZONE
BEGIN:VEVENT
DTSTART;TZID=America/Denver:20231216T193000
DTEND;TZID=America/Denver:20231216T193000
DTSTAMP:20260422T201653
CREATED:20230907T145456Z
LAST-MODIFIED:20231207T183512Z
UID:10000094-1702755000-1702755000@wheeleroperahouse.com
SUMMARY:Mark O'Connor's "An Appalachian Christmas"
DESCRIPTION:Grammy-winning composer and fiddler Mark O’Connor has created several arrangements of Christmas classics and fashions a wondrous mixture of traditional and original music — instrumental and vocal– in bluegrass and other American music genres. Mark performs on four instruments: fiddle\, acoustic guitar\, mandolin\, and mandocello\, and is joined on fiddle and vocals by his wife\, fellow Grammy Award winner Maggie O’Connor. Together on stage\, Mark and Maggie have a dynamic energy that brings their individual expertise to holiday themes and classics in the most delightful and musically satisfying way! \n“One of the most spectacular journeys in recent American music.” – The New York Times \n 
URL:https://wheeleroperahouse.com/event/mark-oconnor/
LOCATION:Wheeler Opera House\, 320 E Hyman Ave\, Aspen\, CO\, 81611\, United States
CATEGORIES:Bluegrass,Music
ATTACH;FMTTYPE=image/jpeg:https://wheeleroperahouse.com/app/uploads/2023/08/Mark-OConnor-2-Website-1200-x-800.jpg
END:VEVENT
END:VCALENDAR