BEGIN:VCALENDAR
VERSION:2.0
PRODID:-//Wheeler Opera House - ECPv6.15.18//NONSGML v1.0//EN
CALSCALE:GREGORIAN
METHOD:PUBLISH
X-WR-CALNAME:Wheeler Opera House
X-ORIGINAL-URL:https://wheeleroperahouse.com
X-WR-CALDESC:Events for Wheeler Opera House
REFRESH-INTERVAL;VALUE=DURATION:PT1H
X-Robots-Tag:noindex
X-PUBLISHED-TTL:PT1H
BEGIN:VTIMEZONE
TZID:America/Denver
BEGIN:DAYLIGHT
TZOFFSETFROM:-0700
TZOFFSETTO:-0600
TZNAME:MDT
DTSTART:20240310T090000
END:DAYLIGHT
BEGIN:STANDARD
TZOFFSETFROM:-0600
TZOFFSETTO:-0700
TZNAME:MST
DTSTART:20241103T080000
END:STANDARD
BEGIN:DAYLIGHT
TZOFFSETFROM:-0700
TZOFFSETTO:-0600
TZNAME:MDT
DTSTART:20250309T090000
END:DAYLIGHT
BEGIN:STANDARD
TZOFFSETFROM:-0600
TZOFFSETTO:-0700
TZNAME:MST
DTSTART:20251102T080000
END:STANDARD
BEGIN:DAYLIGHT
TZOFFSETFROM:-0700
TZOFFSETTO:-0600
TZNAME:MDT
DTSTART:20260308T090000
END:DAYLIGHT
BEGIN:STANDARD
TZOFFSETFROM:-0600
TZOFFSETTO:-0700
TZNAME:MST
DTSTART:20261101T080000
END:STANDARD
END:VTIMEZONE
BEGIN:VEVENT
DTSTART;TZID=America/Denver:20250203T180000
DTEND;TZID=America/Denver:20250203T180000
DTSTAMP:20260421T183528
CREATED:20241115T010023Z
LAST-MODIFIED:20241119T212156Z
UID:10000573-1738605600-1738605600@wheeleroperahouse.com
SUMMARY:Steep Canyon Rangers
DESCRIPTION:Steep Canyon Rangers\nHailing from the heart of North Carolina’s Appalachian and Piedmont regions\, Steep Canyon Rangers have set a gold standard in traditional bluegrass\, all while evolving the genre with modern\, accessible influences. Over their esteemed career\, the band has earned a reputation as trailblazers in Americana music\, with 14 studio albums and three Grammy nominations\, including a win in 2013 for “Nobody Knows You”. Collaborating with iconic actor and banjoist Steve Martin\, the Rangers have graced the world’s biggest stages and are celebrated for their masterful songwriting. \nNew to the lineup\, award-winning singer-songwriter Aaron Burdett brings a fresh and soul-stirring presence. A dedicated student of folk traditions\, Burdett infuses heartfelt emotion into the Rangers’ mountain sound\, described by drummer and multi-instrumentalist Mike Ashworth as having the power to “reach out and touch your heart or slap you in the face.” The band features Graham Sharp (banjo\, vocals)\, Mike Guggino (mandolin/mandola\, vocals)\, Nicky Sanders (fiddle\, vocals)\, Mike Ashworth (drums\, vocals)\, and Barrett Smith (bass\, guitar\, vocals)\, alongside Burdett on guitar and vocals. Experience a night where bluegrass tradition meets new horizons\, brought to life by one of the most influential acts in Americana today. \n 
URL:https://wheeleroperahouse.com/event/steep-canyon-rangers/
LOCATION:Wheeler Opera House\, 320 E Hyman Ave\, Aspen\, CO\, 81611\, United States
CATEGORIES:Bluegrass,Music
ATTACH;FMTTYPE=image/jpeg:https://wheeleroperahouse.com/app/uploads/2024/11/AST-2-Steep-Canyon-Rangers_1200x800_from-NL-11-8-24.jpeg
END:VEVENT
END:VCALENDAR