BEGIN:VCALENDAR
VERSION:2.0
PRODID:-//Wheeler Opera House - ECPv6.15.18//NONSGML v1.0//EN
CALSCALE:GREGORIAN
METHOD:PUBLISH
X-WR-CALNAME:Wheeler Opera House
X-ORIGINAL-URL:https://wheeleroperahouse.com
X-WR-CALDESC:Events for Wheeler Opera House
REFRESH-INTERVAL;VALUE=DURATION:PT1H
X-Robots-Tag:noindex
X-PUBLISHED-TTL:PT1H
BEGIN:VTIMEZONE
TZID:America/Denver
BEGIN:DAYLIGHT
TZOFFSETFROM:-0700
TZOFFSETTO:-0600
TZNAME:MDT
DTSTART:20240310T090000
END:DAYLIGHT
BEGIN:STANDARD
TZOFFSETFROM:-0600
TZOFFSETTO:-0700
TZNAME:MST
DTSTART:20241103T080000
END:STANDARD
BEGIN:DAYLIGHT
TZOFFSETFROM:-0700
TZOFFSETTO:-0600
TZNAME:MDT
DTSTART:20250309T090000
END:DAYLIGHT
BEGIN:STANDARD
TZOFFSETFROM:-0600
TZOFFSETTO:-0700
TZNAME:MST
DTSTART:20251102T080000
END:STANDARD
BEGIN:DAYLIGHT
TZOFFSETFROM:-0700
TZOFFSETTO:-0600
TZNAME:MDT
DTSTART:20260308T090000
END:DAYLIGHT
BEGIN:STANDARD
TZOFFSETFROM:-0600
TZOFFSETTO:-0700
TZNAME:MST
DTSTART:20261101T080000
END:STANDARD
END:VTIMEZONE
BEGIN:VEVENT
DTSTART;TZID=America/Denver:20250409T190000
DTEND;TZID=America/Denver:20250409T190000
DTSTAMP:20260421T145439
CREATED:20241115T010021Z
LAST-MODIFIED:20250108T220849Z
UID:10000578-1744225200-1744225200@wheeleroperahouse.com
SUMMARY:AJ Lee & Blue Summit and The Fretliners
DESCRIPTION:AJ Lee & Blue Summit and The Fretliners\nPrepare for an unforgettable night of bluegrass brilliance as AJ Lee & Blue Summit and The Fretliners and take the Wheeler stage for a special double bill.  This evening promises a thrilling fusion of tradition and innovation\, followed by a shared encore that will leave you inspired. \nAJ Lee & Blue Summit\, an award-winning band celebrated for their magnetic stage presence and genre-defying artistry\, will headline. Led by the remarkable AJ Lee on mandolin\, with Jan Purat on fiddle and Scott Gates and Sullivan Tuttle on guitar\, they’ll bring their unique mix of bluegrass\, country soul\, and Americana to life\, performing songs from their latest album\, City of Glass. \nThe Fretliners\, winners of the Telluride Bluegrass and Rockygrass band competitions in 2023\, will open the night with their electrifying sound and exceptional songwriting. Their seamless blend of traditional bluegrass with a Rocky Mountain twist is sure to captivate. \nDon’t miss this extraordinary evening where two of the finest contemporary bluegrass acts come together\, creating a musical experience that’s as heartfelt as it is exhilarating. \nPresented in association with Wheeler Associates \n \n \n \n  \n  \n  \n 
URL:https://wheeleroperahouse.com/event/aj-lee-blue-summit-and-the-fretliners/
LOCATION:Wheeler Opera House\, 320 E Hyman Ave\, Aspen\, CO\, 81611\, United States
CATEGORIES:Bluegrass
ATTACH;FMTTYPE=image/jpeg:https://wheeleroperahouse.com/app/uploads/2024/11/1200-x-800-9-AJLEEBSTF.jpeg
END:VEVENT
END:VCALENDAR