BEGIN:VCALENDAR
VERSION:2.0
PRODID:-//Wheeler Opera House - ECPv6.15.18//NONSGML v1.0//EN
CALSCALE:GREGORIAN
METHOD:PUBLISH
X-WR-CALNAME:Wheeler Opera House
X-ORIGINAL-URL:https://wheeleroperahouse.com
X-WR-CALDESC:Events for Wheeler Opera House
REFRESH-INTERVAL;VALUE=DURATION:PT1H
X-Robots-Tag:noindex
X-PUBLISHED-TTL:PT1H
BEGIN:VTIMEZONE
TZID:America/Denver
BEGIN:DAYLIGHT
TZOFFSETFROM:-0700
TZOFFSETTO:-0600
TZNAME:MDT
DTSTART:20220313T090000
END:DAYLIGHT
BEGIN:STANDARD
TZOFFSETFROM:-0600
TZOFFSETTO:-0700
TZNAME:MST
DTSTART:20221106T080000
END:STANDARD
BEGIN:DAYLIGHT
TZOFFSETFROM:-0700
TZOFFSETTO:-0600
TZNAME:MDT
DTSTART:20230312T090000
END:DAYLIGHT
BEGIN:STANDARD
TZOFFSETFROM:-0600
TZOFFSETTO:-0700
TZNAME:MST
DTSTART:20231105T080000
END:STANDARD
BEGIN:DAYLIGHT
TZOFFSETFROM:-0700
TZOFFSETTO:-0600
TZNAME:MDT
DTSTART:20240310T090000
END:DAYLIGHT
BEGIN:STANDARD
TZOFFSETFROM:-0600
TZOFFSETTO:-0700
TZNAME:MST
DTSTART:20241103T080000
END:STANDARD
END:VTIMEZONE
BEGIN:VEVENT
DTSTART;TZID=America/Denver:20230805T100000
DTEND;TZID=America/Denver:20230805T120000
DTSTAMP:20260421T182902
CREATED:20230317T152826Z
LAST-MODIFIED:20230317T214013Z
UID:10000044-1691229600-1691236800@wheeleroperahouse.com
SUMMARY:AMFS | Opera Encounters
DESCRIPTION:Aspen Opera Theater and VocalARTS faculty coach the program’s major emerging talents in arias and scenes. Enjoy excerpts from the repertoire\, ravishing voices\, and insightful coaching. \nFeatured artists: George Manahan\, Chía Patiño\, Aspen Conducting Academy Orchestra
URL:https://wheeleroperahouse.com/event/amfs-opera-encounters-7/
LOCATION:Wheeler Opera House\, 320 E Hyman Ave\, Aspen\, CO\, 81611\, United States
CATEGORIES:Classical,Music,Opera
ATTACH;FMTTYPE=image/jpeg:https://wheeleroperahouse.com/app/uploads/2023/03/1200x800_OperaEncounters.jpg
END:VEVENT
BEGIN:VEVENT
DTSTART;TZID=America/Denver:20230810T170000
DTEND;TZID=America/Denver:20230810T190000
DTSTAMP:20260421T182902
CREATED:20230317T153655Z
LAST-MODIFIED:20230412T213326Z
UID:10000049-1691686800-1691694000@wheeleroperahouse.com
SUMMARY:AMFS | Vocal Arts Showcase
DESCRIPTION:The stellar young artists of the Aspen Opera Theater and VocalARTS program perform works they have polished with the AOTVA’s leading vocal coaches and pedagogues.
URL:https://wheeleroperahouse.com/event/amfs-vocal-arts-showcase-4/
LOCATION:Wheeler Opera House\, 320 E Hyman Ave\, Aspen\, CO\, 81611\, United States
CATEGORIES:Classical,Music,Opera
ATTACH;FMTTYPE=image/jpeg:https://wheeleroperahouse.com/app/uploads/2023/03/1200x800_VocalArtsShowcase.jpg
END:VEVENT
BEGIN:VEVENT
DTSTART;TZID=America/Denver:20230812T100000
DTEND;TZID=America/Denver:20230812T120000
DTSTAMP:20260421T182902
CREATED:20230317T152937Z
LAST-MODIFIED:20230412T214511Z
UID:10000045-1691834400-1691841600@wheeleroperahouse.com
SUMMARY:AMFS | Opera Encounters
DESCRIPTION:Aspen Opera Theater and VocalARTS faculty coach the program’s major emerging talents in arias and scenes. Enjoy excerpts from the repertoire\, ravishing voices\, and insightful coaching. \nFeatured artists: Opera scenes with Francesca Zambello
URL:https://wheeleroperahouse.com/event/amfs-opera-encounters-8/
LOCATION:Wheeler Opera House\, 320 E Hyman Ave\, Aspen\, CO\, 81611\, United States
CATEGORIES:Classical,Music,Opera
ATTACH;FMTTYPE=image/jpeg:https://wheeleroperahouse.com/app/uploads/2023/03/1200x800_OperaEncounters.jpg
END:VEVENT
BEGIN:VEVENT
DTSTART;TZID=America/Denver:20230819T100000
DTEND;TZID=America/Denver:20230819T120000
DTSTAMP:20260421T182902
CREATED:20230317T153031Z
LAST-MODIFIED:20230412T213631Z
UID:10000046-1692439200-1692446400@wheeleroperahouse.com
SUMMARY:AMFS | Opera Encounters
DESCRIPTION:Aspen Opera Theater and VocalARTS faculty coach the program’s major emerging talents in arias and scenes. Enjoy excerpts from the repertoire\, ravishing voices\, and insightful coaching. \nFeatured artists: Contemporary music with Christopher Theofanidis and Matthew Aucoin
URL:https://wheeleroperahouse.com/event/amfs-opera-encounters-2/
LOCATION:Wheeler Opera House\, 320 E Hyman Ave\, Aspen\, CO\, 81611\, United States
CATEGORIES:Classical,Music,Opera
ATTACH;FMTTYPE=image/jpeg:https://wheeleroperahouse.com/app/uploads/2023/03/1200x800_OperaEncounters.jpg
END:VEVENT
END:VCALENDAR