BEGIN:VCALENDAR
VERSION:2.0
PRODID:-//Wheeler Opera House - ECPv6.15.18//NONSGML v1.0//EN
CALSCALE:GREGORIAN
METHOD:PUBLISH
X-ORIGINAL-URL:https://wheeleroperahouse.com
X-WR-CALDESC:Events for Wheeler Opera House
REFRESH-INTERVAL;VALUE=DURATION:PT1H
X-Robots-Tag:noindex
X-PUBLISHED-TTL:PT1H
BEGIN:VTIMEZONE
TZID:America/Denver
BEGIN:DAYLIGHT
TZOFFSETFROM:-0700
TZOFFSETTO:-0600
TZNAME:MDT
DTSTART:20230312T090000
END:DAYLIGHT
BEGIN:STANDARD
TZOFFSETFROM:-0600
TZOFFSETTO:-0700
TZNAME:MST
DTSTART:20231105T080000
END:STANDARD
BEGIN:DAYLIGHT
TZOFFSETFROM:-0700
TZOFFSETTO:-0600
TZNAME:MDT
DTSTART:20240310T090000
END:DAYLIGHT
BEGIN:STANDARD
TZOFFSETFROM:-0600
TZOFFSETTO:-0700
TZNAME:MST
DTSTART:20241103T080000
END:STANDARD
BEGIN:DAYLIGHT
TZOFFSETFROM:-0700
TZOFFSETTO:-0600
TZNAME:MDT
DTSTART:20250309T090000
END:DAYLIGHT
BEGIN:STANDARD
TZOFFSETFROM:-0600
TZOFFSETTO:-0700
TZNAME:MST
DTSTART:20251102T080000
END:STANDARD
END:VTIMEZONE
BEGIN:VEVENT
DTSTART;TZID=America/Denver:20240209T193000
DTEND;TZID=America/Denver:20240209T193000
DTSTAMP:20260421T075049
CREATED:20231005T155857Z
LAST-MODIFIED:20240116T215851Z
UID:10000114-1707507000-1707507000@wheeleroperahouse.com
SUMMARY:International Guitar Night XXIV
DESCRIPTION:Get ready for the 24th annual tour of International Guitar Night. We’re thrilled to bring this exceptional lineup to the Wheeler stage that promises to captivate the hearts of guitar and music enthusiasts alike. This performance is exactly the kind that the Wheeler was designed to showcase\, with its impeccable acoustics and creating an intimate experience for the audience. \nThe visionary behind IGN\, Brian Gore has once again curated a roster of accomplished musicians\, including an exciting newcomer. The sensational Luca Stricagnoli from Italy\, renowned for his mind-bending acoustic rock interpretations\, will leave the audience in awe. \n \nHailing from Vietnam\, Thu Le plays effortlessly with nylon string artistry that spans the realms of classical to contemporary. \n \nFrom the vibrant streets of Brazil\, Marco Pereira\, a true master of composition and performance\, embarks on his final tour with IGN in 2024\, promising an unforgettable farewell. \n \nBut that’s not all; a fresh face to the IGN family\, making her North American debut – Minnie Marks from the enchanting land of Australia. Prepare to be blown away by Minnie’s irrepressible blues slide guitar skills and soulful vocals that are sure to leave you craving for more. \n \nDon’t miss this opportunity to experience the magic of IGN – where creativity knows no bounds\, and the music never stops.
URL:https://wheeleroperahouse.com/event/international-guitar-night-xxiv/
LOCATION:Wheeler Opera House\, 320 E Hyman Ave\, Aspen\, CO\, 81611\, United States
CATEGORIES:Blues,Classical,Concert,Jazz,Latin
ATTACH;FMTTYPE=image/jpeg:https://wheeleroperahouse.com/app/uploads/2023/10/IntnlGuitarNight_Digital_1200x800_v1.jpg
END:VEVENT
END:VCALENDAR