BEGIN:VCALENDAR
VERSION:2.0
PRODID:-//Wheeler Opera House - ECPv6.15.18//NONSGML v1.0//EN
CALSCALE:GREGORIAN
METHOD:PUBLISH
X-WR-CALNAME:Wheeler Opera House
X-ORIGINAL-URL:https://wheeleroperahouse.com
X-WR-CALDESC:Events for Wheeler Opera House
REFRESH-INTERVAL;VALUE=DURATION:PT1H
X-Robots-Tag:noindex
X-PUBLISHED-TTL:PT1H
BEGIN:VTIMEZONE
TZID:America/Denver
BEGIN:DAYLIGHT
TZOFFSETFROM:-0700
TZOFFSETTO:-0600
TZNAME:MDT
DTSTART:20240310T090000
END:DAYLIGHT
BEGIN:STANDARD
TZOFFSETFROM:-0600
TZOFFSETTO:-0700
TZNAME:MST
DTSTART:20241103T080000
END:STANDARD
BEGIN:DAYLIGHT
TZOFFSETFROM:-0700
TZOFFSETTO:-0600
TZNAME:MDT
DTSTART:20250309T090000
END:DAYLIGHT
BEGIN:STANDARD
TZOFFSETFROM:-0600
TZOFFSETTO:-0700
TZNAME:MST
DTSTART:20251102T080000
END:STANDARD
BEGIN:DAYLIGHT
TZOFFSETFROM:-0700
TZOFFSETTO:-0600
TZNAME:MDT
DTSTART:20260308T090000
END:DAYLIGHT
BEGIN:STANDARD
TZOFFSETFROM:-0600
TZOFFSETTO:-0700
TZNAME:MST
DTSTART:20261101T080000
END:STANDARD
END:VTIMEZONE
BEGIN:VEVENT
DTSTART;TZID=America/Denver:20250408T190000
DTEND;TZID=America/Denver:20250408T190000
DTSTAMP:20260421T042430
CREATED:20241205T184534Z
LAST-MODIFIED:20250326T180059Z
UID:10000592-1744138800-1744138800@wheeleroperahouse.com
SUMMARY:Judy Collins
DESCRIPTION:For more than five decades\, Judy Collins has captivated audiences with her breathtaking vocals\, evocative songwriting\, and deep commitment to social causes. From the 1960s\, she has been a powerful voice for justice\, using her music to champion the ideals of a generation. Today\, her music continues to inspire\, with new generations discovering her 55-album legacy and finding solace in her artistic resilience. \nAn award-winning singer-songwriter\, Collins is celebrated for her evocative interpretations of both traditional and contemporary folk songs\, as well as her deeply personal and poetic original compositions. Her iconic rendition of Joni Mitchell’s “Both Sides Now” from her 1967 album Wildflowers earned a spot in the Grammy Hall of Fame\, while her hauntingly intimate version of Stephen Sondheim’s “Send in the Clowns” won “Song of the Year” at the 1975 Grammy Awards. Over the years\, she has garnered gold and platinum albums and top-ten hits\, and contemporary artists like Rufus Wainwright\, Dolly Parton\, and Joan Baez have paid tribute to her with the album Born to the Breed: A Tribute to Judy Collins. \nHer latest album\, Spellbound (2022)\, marks a special milestone\, as it features all original material written by Collins herself. The introspective album\, which includes 12 new songs and a bonus track of her timeless “The Blizzard\,” was nominated for a Grammy Award for Best Folk Album in 2023. \nWith a schedule that continues to include sold-out shows across the country\, Collins is preparing to release her first book of poetry\, Sometimes It’s Heaven\, in March 2025. The collection offers an intimate\, biographical look at her life\, capturing the ethereal nature of her artistry in a new and deeply personal form. \n“You could argue Collins has earned that ‘legend’ distinction as much by interpreting and inspiring songs as she has by writing or singing them…” – Edmonton Journal
URL:https://wheeleroperahouse.com/event/judy-collins/
LOCATION:Wheeler Opera House\, 320 E Hyman Ave\, Aspen\, CO\, 81611\, United States
CATEGORIES:Folk,Music
ATTACH;FMTTYPE=image/png:https://wheeleroperahouse.com/app/uploads/2024/12/Judy-Collins.png
END:VEVENT
END:VCALENDAR