BEGIN:VCALENDAR
VERSION:2.0
PRODID:-//Wheeler Opera House - ECPv6.15.18//NONSGML v1.0//EN
CALSCALE:GREGORIAN
METHOD:PUBLISH
X-ORIGINAL-URL:https://wheeleroperahouse.com
X-WR-CALDESC:Events for Wheeler Opera House
REFRESH-INTERVAL;VALUE=DURATION:PT1H
X-Robots-Tag:noindex
X-PUBLISHED-TTL:PT1H
BEGIN:VTIMEZONE
TZID:America/Denver
BEGIN:DAYLIGHT
TZOFFSETFROM:-0700
TZOFFSETTO:-0600
TZNAME:MDT
DTSTART:20230312T090000
END:DAYLIGHT
BEGIN:STANDARD
TZOFFSETFROM:-0600
TZOFFSETTO:-0700
TZNAME:MST
DTSTART:20231105T080000
END:STANDARD
BEGIN:DAYLIGHT
TZOFFSETFROM:-0700
TZOFFSETTO:-0600
TZNAME:MDT
DTSTART:20240310T090000
END:DAYLIGHT
BEGIN:STANDARD
TZOFFSETFROM:-0600
TZOFFSETTO:-0700
TZNAME:MST
DTSTART:20241103T080000
END:STANDARD
BEGIN:DAYLIGHT
TZOFFSETFROM:-0700
TZOFFSETTO:-0600
TZNAME:MDT
DTSTART:20250309T090000
END:DAYLIGHT
BEGIN:STANDARD
TZOFFSETFROM:-0600
TZOFFSETTO:-0700
TZNAME:MST
DTSTART:20251102T080000
END:STANDARD
END:VTIMEZONE
BEGIN:VEVENT
DTSTART;TZID=America/Denver:20241122T180000
DTEND;TZID=America/Denver:20241122T180000
DTSTAMP:20260421T123802
CREATED:20241018T193816Z
LAST-MODIFIED:20241111T185855Z
UID:10000559-1732298400-1732298400@wheeleroperahouse.com
SUMMARY:Gabriel Santiago & Peter Stoltzman | Joy in Friends
DESCRIPTION:Join us for a special evening of music as Brazilian guitarist Gabriel Santiago and jazz pianist Peter John Stoltzman bring their decade-long collaboration to the stage in an intimate duo performance. Over the years\, Santiago and Stoltzman have performed in various ensembles across the U.S. and Brazil\, and now\, for the first time\, they’re touring as a duo to celebrate the release of their new CD\, Joy in Friends. \nTheir musical journey began in Austin\, where both were completing advanced degrees—Santiago in composition and Stoltzman in music education. Stoltzman recalls being instantly captivated by Santiago’s “gorgeous harmonies and heartfelt melodies\,” and their shared passion for pushing improvisation to new heights forged a deep connection. \nRecorded at Colorado Sound Studio\, their latest album blends the rich sounds of Brazilian music with jazz\, weaving acoustic guitar and piano into a moving and joyful expression of their friendship. As Santiago describes it\, “Peter is such a unique musician\, and performing with him has been one of the most precious moments of my life. I can’t wait to share this music with audiences here in Colorado and beyond.” \n \n 
URL:https://wheeleroperahouse.com/event/gabriel-santiago-peter-stoltzman-joy-in-friends/
LOCATION:The Vault at the Wheeler\, 320 E Hyman Ave\, Aspen\, CO\, 81611\, United States
CATEGORIES:Jazz
ATTACH;FMTTYPE=image/png:https://wheeleroperahouse.com/app/uploads/2024/10/Gabriel-Peter.png
END:VEVENT
END:VCALENDAR