BEGIN:VCALENDAR
VERSION:2.0
PRODID:-//Wheeler Opera House - ECPv6.15.18//NONSGML v1.0//EN
CALSCALE:GREGORIAN
METHOD:PUBLISH
X-ORIGINAL-URL:https://wheeleroperahouse.com
X-WR-CALDESC:Events for Wheeler Opera House
REFRESH-INTERVAL;VALUE=DURATION:PT1H
X-Robots-Tag:noindex
X-PUBLISHED-TTL:PT1H
BEGIN:VTIMEZONE
TZID:America/Denver
BEGIN:DAYLIGHT
TZOFFSETFROM:-0700
TZOFFSETTO:-0600
TZNAME:MDT
DTSTART:20240310T090000
END:DAYLIGHT
BEGIN:STANDARD
TZOFFSETFROM:-0600
TZOFFSETTO:-0700
TZNAME:MST
DTSTART:20241103T080000
END:STANDARD
BEGIN:DAYLIGHT
TZOFFSETFROM:-0700
TZOFFSETTO:-0600
TZNAME:MDT
DTSTART:20250309T090000
END:DAYLIGHT
BEGIN:STANDARD
TZOFFSETFROM:-0600
TZOFFSETTO:-0700
TZNAME:MST
DTSTART:20251102T080000
END:STANDARD
BEGIN:DAYLIGHT
TZOFFSETFROM:-0700
TZOFFSETTO:-0600
TZNAME:MDT
DTSTART:20260308T090000
END:DAYLIGHT
BEGIN:STANDARD
TZOFFSETFROM:-0600
TZOFFSETTO:-0700
TZNAME:MST
DTSTART:20261101T080000
END:STANDARD
END:VTIMEZONE
BEGIN:VEVENT
DTSTART;TZID=America/Denver:20250307T193000
DTEND;TZID=America/Denver:20250307T193000
DTSTAMP:20260421T113608
CREATED:20240909T221349Z
LAST-MODIFIED:20241111T183606Z
UID:10000553-1741375800-1741375800@wheeleroperahouse.com
SUMMARY:International Guitar Night XXV
DESCRIPTION:The 25th Anniversary North American Tour of International Guitar Night features Lulo Reinhardt\, Alexandra Whittingham\, Niwel Tsumbu and Sönke Meinen.\nJoin us for the 25th Annual North American Tour of International Guitar Night\, a celebration of the world’s most innovative and diverse guitar talents. Brian Gore has curated a stellar lineup featuring Lulo Reinhardt (Germany)\, Alexandra Whittingham (Britain)\, Niwel Tsumbu (Democratic Republic of The Congo) and Sönke Meinen (Germany)\, promising a night of breathtaking performances that span the global spectrum of guitar artistry. \nThe grand-nephew of legendary Django Reinhardt\, Lulo Reinhardt  plays Latin Swing music\, a combination of Gypsy Swing with Latin rhythms. Lulo\, a name associated with World Music and his patented Latin Swing\, is a guitar virtuoso with unmistakable roots. He was born in Koblenz\, Germany on December 10\, 1961 and comes from the famous Reinhardt family. Lulo was raised in the Sinti tradition where Django Reinhardt’s music played a massive part. \nA Sinto and a cosmopolitan\, Lulo Reinhardt continuously embraces the new and the unknown in his dreams\, ideas and plans\, so we can expect many exciting projects in the future. \n \n  \nYoung British guitarist Alexandra Whittingham trained classically for twelve years before releasing her debut album My European Journey in 2021. The album focuses on 19th-century European repertoire. Her passion for 19th-century music combined with a love of discovering lesser-known composers and bringing them into the spotlight. Staple works by Napoléon Coste\, Giulio Regondi\, and Luigi Legnani give a warm Romantic embrace to a clutch of unheard miniatures – brimming with character and local color from Vienna\, London\, Copenhagen\, and beyond. \nCloser to home Alexandra has performed at London’s Abbey Road Studios\, County Hall\, Milton Court Concert Hall\, the Bridgewater Hall in Manchester and Wells Cathedral. She has also appeared as a concerto soloist with Gorton Philharmonic Orchestra\, Dorset Chamber Orchestra and Orquestra Vigo 430 with whom she performed three concerts in Spain in 2021. She is delighted to be an Augustine Strings artist\, using their Regal Blue range\, and plays a 2011 Christopher Dean guitar. \n \n  \nNiwel Tsumbu​ is a guitarist and singer who grew up with the hip-swinging Soukous music from the Democratic Republic Of The Congo. Strongly influenced by guitarists such as Paco de Lucia\, Luambo Makiadi\, Baden Powell and Joe Pass\, Niwel Tsumbu has amalgamated these different styles and blurred the boundaries of African\, Classical and Jazz music with his amazing virtuosity\, passion and graceful guitar playing. \nNiwel Tsumbu is a virtuosic Congolese-born\, Ireland-based guitarist. He has created a unique and exhilarating style drawing on influences as diverse as jazz\, classical\, rock\, folk and rhumba. At times Tsumbu’s music is a deep emotional well\, drawing joy and sadness from universal human waters. At other times it’s a high-tech vehicle flashing with excitement across nations\, continents\, and the cosmos. \n \n  \nA single guitar and a bar stool\, Sönke Meinen doesn’t need much more to break with the expectations of a conventional guitar concert and to enthuse his audiences all over the world. With his captivating performances\, the charismatic musician makes acoustic guitar music accessible to everyone who is looking for something original\, handmade and extraordinary or simply for finest musical entertainment. \n​The concerts of the award-winning musician are by no means for guitar connoisseurs only. He shares unbelievable and hilarious stories about his compositions and leads through a top-class concert evening in a pleasantly empathetic and relaxed manner. \n \n 
URL:https://wheeleroperahouse.com/event/international-guitar-night-xxv/
LOCATION:Wheeler Opera House\, 320 E Hyman Ave\, Aspen\, CO\, 81611\, United States
CATEGORIES:Classical,Jazz,Latin,Music
ATTACH;FMTTYPE=image/jpeg:https://wheeleroperahouse.com/app/uploads/2024/08/InternationalGuitarNight_Digital_1200x800_v2.jpg
END:VEVENT
END:VCALENDAR