BEGIN:VCALENDAR
VERSION:2.0
PRODID:-//Wheeler Opera House - ECPv6.15.18//NONSGML v1.0//EN
CALSCALE:GREGORIAN
METHOD:PUBLISH
X-WR-CALNAME:Wheeler Opera House
X-ORIGINAL-URL:https://wheeleroperahouse.com
X-WR-CALDESC:Events for Wheeler Opera House
REFRESH-INTERVAL;VALUE=DURATION:PT1H
X-Robots-Tag:noindex
X-PUBLISHED-TTL:PT1H
BEGIN:VTIMEZONE
TZID:America/Denver
BEGIN:DAYLIGHT
TZOFFSETFROM:-0700
TZOFFSETTO:-0600
TZNAME:MDT
DTSTART:20230312T090000
END:DAYLIGHT
BEGIN:STANDARD
TZOFFSETFROM:-0600
TZOFFSETTO:-0700
TZNAME:MST
DTSTART:20231105T080000
END:STANDARD
BEGIN:DAYLIGHT
TZOFFSETFROM:-0700
TZOFFSETTO:-0600
TZNAME:MDT
DTSTART:20240310T090000
END:DAYLIGHT
BEGIN:STANDARD
TZOFFSETFROM:-0600
TZOFFSETTO:-0700
TZNAME:MST
DTSTART:20241103T080000
END:STANDARD
BEGIN:DAYLIGHT
TZOFFSETFROM:-0700
TZOFFSETTO:-0600
TZNAME:MDT
DTSTART:20250309T090000
END:DAYLIGHT
BEGIN:STANDARD
TZOFFSETFROM:-0600
TZOFFSETTO:-0700
TZNAME:MST
DTSTART:20251102T080000
END:STANDARD
END:VTIMEZONE
BEGIN:VEVENT
DTSTART;TZID=America/Denver:20240227T173000
DTEND;TZID=America/Denver:20240227T173000
DTSTAMP:20260422T165849
CREATED:20231207T150542Z
LAST-MODIFIED:20240117T193621Z
UID:10000131-1709055000-1709055000@wheeleroperahouse.com
SUMMARY:AMFS presents The Met: Live in HD - Anthony Davis's X: The Life and Times of Malcolm X
DESCRIPTION:Anthony Davis’s groundbreaking and influential opera\, which premiered in 1986\, arrives at the Met at long last. Theater luminary and Tony-nominated director of Slave Play Robert O’Hara oversees a potent new staging that imagines Malcolm as an everyman whose story transcends time and space. An exceptional cast of breakout artists and young Met stars enliven the operatic retelling of the civil rights leader’s life. Baritone Will Liverman\, who triumphed in the Met premiere of Fire Shut Up in My Bones\, is Malcolm\, alongside soprano Leah Hawkins as his mother\, Louise; mezzo-soprano Raehann Bryce-Davis as his sister Ella; bass-baritone Michael Sumuel as his brother Reginald; and tenor Victor Ryan Robertson as Nation of Islam leader Elijah Muhammad. Kazem Abdullah conducts the newly revised score\, which provides a layered\, jazz-inflected setting for the esteemed writer Thulani Davis’s libretto. \nCast\nLibrettist: Thulani Davis\nProduction: Robert O’Hara\nSet Designer: Clint Ramos\nCostume Designer: Dede Ayite\nLighting Designer: Alex Jainchill\nProjection Designer: Yee Eun Nam\nChoreographer: Rickey Tripp \nKazem Abdullah (Conductor)\, Leah Hawkins (Louise/Betty)\, Raehann Bryce-Davis (Ella)\, Victor Ryan Robertson (Elijah/Street)\, Will Liverman (Malcolm)\, Michael Sumuel (Reginald)
URL:https://wheeleroperahouse.com/event/amfs-presents-the-met-live-in-hd-anthony-daviss-x-the-life-and-times-of-malcolm-x/
LOCATION:Wheeler Opera House\, 320 E Hyman Ave\, Aspen\, CO\, 81611\, United States
CATEGORIES:Music,Opera
ATTACH;FMTTYPE=image/jpeg:https://wheeleroperahouse.com/app/uploads/2023/12/AMFS_2024-Wheeler-Met_X_1200x800.jpg
END:VEVENT
END:VCALENDAR