BEGIN:VCALENDAR
VERSION:2.0
PRODID:-//Wheeler Opera House - ECPv6.15.18//NONSGML v1.0//EN
CALSCALE:GREGORIAN
METHOD:PUBLISH
X-WR-CALNAME:Wheeler Opera House
X-ORIGINAL-URL:https://wheeleroperahouse.com
X-WR-CALDESC:Events for Wheeler Opera House
REFRESH-INTERVAL;VALUE=DURATION:PT1H
X-Robots-Tag:noindex
X-PUBLISHED-TTL:PT1H
BEGIN:VTIMEZONE
TZID:America/Denver
BEGIN:DAYLIGHT
TZOFFSETFROM:-0700
TZOFFSETTO:-0600
TZNAME:MDT
DTSTART:20230312T090000
END:DAYLIGHT
BEGIN:STANDARD
TZOFFSETFROM:-0600
TZOFFSETTO:-0700
TZNAME:MST
DTSTART:20231105T080000
END:STANDARD
BEGIN:DAYLIGHT
TZOFFSETFROM:-0700
TZOFFSETTO:-0600
TZNAME:MDT
DTSTART:20240310T090000
END:DAYLIGHT
BEGIN:STANDARD
TZOFFSETFROM:-0600
TZOFFSETTO:-0700
TZNAME:MST
DTSTART:20241103T080000
END:STANDARD
BEGIN:DAYLIGHT
TZOFFSETFROM:-0700
TZOFFSETTO:-0600
TZNAME:MDT
DTSTART:20250309T090000
END:DAYLIGHT
BEGIN:STANDARD
TZOFFSETFROM:-0600
TZOFFSETTO:-0700
TZNAME:MST
DTSTART:20251102T080000
END:STANDARD
END:VTIMEZONE
BEGIN:VEVENT
DTSTART;TZID=America/Denver:20240305T173000
DTEND;TZID=America/Denver:20240305T173000
DTSTAMP:20260422T151026
CREATED:20231207T150828Z
LAST-MODIFIED:20240301T162439Z
UID:10000132-1709659800-1709659800@wheeleroperahouse.com
SUMMARY:AMFS presents The Met: Live in HD - Bizet's Carmen
DESCRIPTION:Acclaimed English director Carrie Cracknell brings a vital new production of one of opera’s most enduringly powerful works\, reinvigorating the classic story with a staging that moves the action to the modern day and finds at the heart of the drama issues that could not be more relevant today: gendered violence\, abusive labor structures\, and the desire to break through societal boundaries. Dazzling young mezzo-soprano Aigul Akhmetshina leads a powerhouse quartet of stars in the complex and volatile title role\, alongside tenor Piotr Beczała as Carmen’s troubled lover Don José\, soprano Angel Blue as the loyal Micaëla\, and bass-baritone Kyle Ketelsen as the swaggering Escamillo. Daniele Rustioni conducts Bizet’s heart-pounding score. \nCast\nProduction: Carrie Cracknell\nSet Designer: Michael Levine\nCostume Designer: Tom Scutt\nLighting Designer: Guy Hoare\nProjection Designer: rocafilm/Roland Horvath\nChoreographer: Ann Yee \nDaniele Rustioni (Conductor)\, Angel Blue (Micaëla)\, Aigul Akhmetshina (Carmen)\, Piotr Beczała (Don José)\, Kyle Ketelsen (Escamillo)
URL:https://wheeleroperahouse.com/event/amfs-presents-the-met-live-in-hd-bizets-carmen/
LOCATION:Wheeler Opera House\, 320 E Hyman Ave\, Aspen\, CO\, 81611\, United States
CATEGORIES:Music,Opera
ATTACH;FMTTYPE=image/jpeg:https://wheeleroperahouse.com/app/uploads/2023/12/AMFS_2024-Wheeler-Met_Carmen_1200x800.jpg
END:VEVENT
BEGIN:VEVENT
DTSTART;TZID=America/Denver:20240312T173000
DTEND;TZID=America/Denver:20240312T173000
DTSTAMP:20260422T151026
CREATED:20231207T151126Z
LAST-MODIFIED:20240301T162419Z
UID:10000133-1710264600-1710264600@wheeleroperahouse.com
SUMMARY:AMFS presents The Met: Live in HD - Verdi's La Forza del Destino
DESCRIPTION:Music Director Yannick Nézet-Séguin conducts Verdi’s grand tale of ill-fated love\, deadly vendettas\, and family strife\, with stellar soprano Lise Davidsen as the noble Leonora\, one of the repertory’s most tormented—and thrilling—heroines. Director Mariusz Treliński delivers the company’s first new Forza in nearly 30 years\, setting the scene in a contemporary world and making extensive use of the Met’s turntable to represent the unstoppable advance of destiny that drives the opera’s chain of calamitous events. The distinguished cast also features tenor Brian Jagde as Leonora’s forbidden beloved\, Don Alvaro; baritone Igor Golovatenko as her vengeful brother\, Don Carlo; bass-baritone Patrick Carfizzi as Fra Melitone; and bass Soloman Howard as both Leonora’s father and Padre Guardiano. \nCast\nProduction: Mariusz Treliński\nSet Designer: Boris Kudlička\nCostume Designer: Moritz Junge\nLighting Designer: Marc Heinz\nProjection Designer: Bartek Macias\nChoreographer: Maćko Prusak 6 \nYannick Nézet-Séguin (Conductor)\, Lise Davidsen (Leonora)\, Ekaterina Semenchuk (Preziosilla)\, Brian Jagde (Don Alvaro)\, Igor Golovatenko (Don Carlo di Vargas)\, Patrick Carfizzi (Fra Melitone)\, Soloman Howard (Marquis of Calatrava/Padre Guardiano)
URL:https://wheeleroperahouse.com/event/amfs-presents-the-met-live-in-hd-verdis-la-forza-del-destino/
LOCATION:Wheeler Opera House\, 320 E Hyman Ave\, Aspen\, CO\, 81611\, United States
CATEGORIES:Music,Opera
ATTACH;FMTTYPE=image/jpeg:https://wheeleroperahouse.com/app/uploads/2023/12/AMFS_2024-Wheeler-Met_La-Forza_1200x800.jpg
END:VEVENT
END:VCALENDAR