BEGIN:VCALENDAR
VERSION:2.0
PRODID:-//Wheeler Opera House - ECPv6.15.18//NONSGML v1.0//EN
CALSCALE:GREGORIAN
METHOD:PUBLISH
X-ORIGINAL-URL:https://wheeleroperahouse.com
X-WR-CALDESC:Events for Wheeler Opera House
REFRESH-INTERVAL;VALUE=DURATION:PT1H
X-Robots-Tag:noindex
X-PUBLISHED-TTL:PT1H
BEGIN:VTIMEZONE
TZID:America/Denver
BEGIN:DAYLIGHT
TZOFFSETFROM:-0700
TZOFFSETTO:-0600
TZNAME:MDT
DTSTART:20230312T090000
END:DAYLIGHT
BEGIN:STANDARD
TZOFFSETFROM:-0600
TZOFFSETTO:-0700
TZNAME:MST
DTSTART:20231105T080000
END:STANDARD
BEGIN:DAYLIGHT
TZOFFSETFROM:-0700
TZOFFSETTO:-0600
TZNAME:MDT
DTSTART:20240310T090000
END:DAYLIGHT
BEGIN:STANDARD
TZOFFSETFROM:-0600
TZOFFSETTO:-0700
TZNAME:MST
DTSTART:20241103T080000
END:STANDARD
BEGIN:DAYLIGHT
TZOFFSETFROM:-0700
TZOFFSETTO:-0600
TZNAME:MDT
DTSTART:20250309T090000
END:DAYLIGHT
BEGIN:STANDARD
TZOFFSETFROM:-0600
TZOFFSETTO:-0700
TZNAME:MST
DTSTART:20251102T080000
END:STANDARD
END:VTIMEZONE
BEGIN:VEVENT
DTSTART;TZID=America/Denver:20240701T190000
DTEND;TZID=America/Denver:20240701T190000
DTSTAMP:20260422T035801
CREATED:20240604T195015Z
LAST-MODIFIED:20240604T195235Z
UID:10000518-1719860400-1719860400@wheeleroperahouse.com
SUMMARY:Aspen Music Festival and School | Matthew Aucoin: Music for New Bodies
DESCRIPTION:Premiered in April 2024\, this major new work is from the creative team of MacArthur award-winning composer Matthew Aucoin\, whose commissioning credits include the Metropolitan Opera\, Carnegie Hall\, and Lyric Opera of Chicago\, and director Peter Sellars\, celebrated for his operatic collaborations with John Adams\, Tyshawn Sorey\, and the late Kaija Saariaho. Inspired by the writings of visionary poet Jorie Graham and pioneering environmentalist Rachel Carson\, Aucoin and Sellars’s new work offers an immersion in vast planetary processes. \nThey explain: “We follow the migration of eels to the depths of the Atlantic Basin; we hear the voice of the ocean floor itself\, speaking with superhuman pressure and force; we experience humankind’s impact on our planet\, and we also sense the presence of cycles so immense that they are beyond human influence.” \nA co-commission of the DaCamera ensemble\, Shepherd School of Music\, LA Opera\, American Modern Opera Company (AMOC)\, and Aspen Music Festival & School\, Music for New Bodies is scored for five vocal soloists and an 18-piece instrumental ensemble.
URL:https://wheeleroperahouse.com/event/aspen-music-festival-and-school-matthew-aucoin-music-for-new-bodies/
LOCATION:Wheeler Opera House\, 320 E Hyman Ave\, Aspen\, CO\, 81611\, United States
CATEGORIES:Music,Opera
ATTACH;FMTTYPE=image/jpeg:https://wheeleroperahouse.com/app/uploads/2024/06/AMFS_2024-Wheeler_New-Bodies_1920x1080.jpg
END:VEVENT
BEGIN:VEVENT
DTSTART;TZID=America/Denver:20240706T100000
DTEND;TZID=America/Denver:20240706T100000
DTSTAMP:20260422T035801
CREATED:20240604T194207Z
LAST-MODIFIED:20240604T194334Z
UID:10000459-1720260000-1720260000@wheeleroperahouse.com
SUMMARY:Aspen Music Festival and School | Opera Encounters
DESCRIPTION:Aspen Opera Theater and VocalARTS faculty coach the program’s major emerging talents in arias and scenes. Enjoy excerpts from the repertoire\, ravishing voices\, and insightful coaching.
URL:https://wheeleroperahouse.com/event/aspen-music-festival-and-school-opera-encounters/2024-07-06/
LOCATION:Wheeler Opera House\, 320 E Hyman Ave\, Aspen\, CO\, 81611\, United States
CATEGORIES:Music,Opera
ATTACH;FMTTYPE=image/jpeg:https://wheeleroperahouse.com/app/uploads/2024/06/AMFS_2024-Wheeler_Opera-Encounters_1920x1080.jpg
END:VEVENT
BEGIN:VEVENT
DTSTART;TZID=America/Denver:20240713T100000
DTEND;TZID=America/Denver:20240713T100000
DTSTAMP:20260422T035801
CREATED:20240604T194207Z
LAST-MODIFIED:20240604T194334Z
UID:10000460-1720864800-1720864800@wheeleroperahouse.com
SUMMARY:Aspen Music Festival and School | Opera Encounters
DESCRIPTION:Aspen Opera Theater and VocalARTS faculty coach the program’s major emerging talents in arias and scenes. Enjoy excerpts from the repertoire\, ravishing voices\, and insightful coaching.
URL:https://wheeleroperahouse.com/event/aspen-music-festival-and-school-opera-encounters/2024-07-13/
LOCATION:Wheeler Opera House\, 320 E Hyman Ave\, Aspen\, CO\, 81611\, United States
CATEGORIES:Music,Opera
ATTACH;FMTTYPE=image/jpeg:https://wheeleroperahouse.com/app/uploads/2024/06/AMFS_2024-Wheeler_Opera-Encounters_1920x1080.jpg
END:VEVENT
BEGIN:VEVENT
DTSTART;TZID=America/Denver:20240720T100000
DTEND;TZID=America/Denver:20240720T100000
DTSTAMP:20260422T035801
CREATED:20240604T194207Z
LAST-MODIFIED:20240604T194334Z
UID:10000461-1721469600-1721469600@wheeleroperahouse.com
SUMMARY:Aspen Music Festival and School | Opera Encounters
DESCRIPTION:Aspen Opera Theater and VocalARTS faculty coach the program’s major emerging talents in arias and scenes. Enjoy excerpts from the repertoire\, ravishing voices\, and insightful coaching.
URL:https://wheeleroperahouse.com/event/aspen-music-festival-and-school-opera-encounters/2024-07-20/
LOCATION:Wheeler Opera House\, 320 E Hyman Ave\, Aspen\, CO\, 81611\, United States
CATEGORIES:Music,Opera
ATTACH;FMTTYPE=image/jpeg:https://wheeleroperahouse.com/app/uploads/2024/06/AMFS_2024-Wheeler_Opera-Encounters_1920x1080.jpg
END:VEVENT
BEGIN:VEVENT
DTSTART;TZID=America/Denver:20240727T100000
DTEND;TZID=America/Denver:20240727T100000
DTSTAMP:20260422T035801
CREATED:20240604T194207Z
LAST-MODIFIED:20240604T194334Z
UID:10000462-1722074400-1722074400@wheeleroperahouse.com
SUMMARY:Aspen Music Festival and School | Opera Encounters
DESCRIPTION:Aspen Opera Theater and VocalARTS faculty coach the program’s major emerging talents in arias and scenes. Enjoy excerpts from the repertoire\, ravishing voices\, and insightful coaching.
URL:https://wheeleroperahouse.com/event/aspen-music-festival-and-school-opera-encounters/2024-07-27/
LOCATION:Wheeler Opera House\, 320 E Hyman Ave\, Aspen\, CO\, 81611\, United States
CATEGORIES:Music,Opera
ATTACH;FMTTYPE=image/jpeg:https://wheeleroperahouse.com/app/uploads/2024/06/AMFS_2024-Wheeler_Opera-Encounters_1920x1080.jpg
END:VEVENT
END:VCALENDAR