BEGIN:VCALENDAR
VERSION:2.0
PRODID:-//Wheeler Opera House - ECPv6.15.18//NONSGML v1.0//EN
CALSCALE:GREGORIAN
METHOD:PUBLISH
X-ORIGINAL-URL:https://wheeleroperahouse.com
X-WR-CALDESC:Events for Wheeler Opera House
REFRESH-INTERVAL;VALUE=DURATION:PT1H
X-Robots-Tag:noindex
X-PUBLISHED-TTL:PT1H
BEGIN:VTIMEZONE
TZID:America/Denver
BEGIN:DAYLIGHT
TZOFFSETFROM:-0700
TZOFFSETTO:-0600
TZNAME:MDT
DTSTART:20240310T090000
END:DAYLIGHT
BEGIN:STANDARD
TZOFFSETFROM:-0600
TZOFFSETTO:-0700
TZNAME:MST
DTSTART:20241103T080000
END:STANDARD
BEGIN:DAYLIGHT
TZOFFSETFROM:-0700
TZOFFSETTO:-0600
TZNAME:MDT
DTSTART:20250309T090000
END:DAYLIGHT
BEGIN:STANDARD
TZOFFSETFROM:-0600
TZOFFSETTO:-0700
TZNAME:MST
DTSTART:20251102T080000
END:STANDARD
BEGIN:DAYLIGHT
TZOFFSETFROM:-0700
TZOFFSETTO:-0600
TZNAME:MDT
DTSTART:20260308T090000
END:DAYLIGHT
BEGIN:STANDARD
TZOFFSETFROM:-0600
TZOFFSETTO:-0700
TZNAME:MST
DTSTART:20261101T080000
END:STANDARD
END:VTIMEZONE
BEGIN:VEVENT
DTSTART;TZID=America/Denver:20250228T190000
DTEND;TZID=America/Denver:20250228T190000
DTSTAMP:20260420T050739
CREATED:20241115T010038Z
LAST-MODIFIED:20250221T181504Z
UID:10000568-1740769200-1740769200@wheeleroperahouse.com
SUMMARY:John Oates: An Evening of Songs & Stories
DESCRIPTION:John Oates – 2 Nights in Aspen\nClick here for more about the March 1 performance \nJoin the legendary John Oates at the Wheeler Opera House for An Evening of Songs & Stories\, a heartfelt and intimate performance that explores the incredible journey of his career. As the co-creator of Hall & Oates\, the best-selling duo of all time\, and a celebrated solo artist\, John brings an evening filled with personal stories\, classic hits\, and songs from his solo albums\, including his latest\, “Reunion.” Discover the memories and moments that have shaped his life and music\, as Oates shares anecdotes from his memoir Change of Seasons and highlights from his career spanning over five decades. \nOates will be joined by his talented acoustic trio: local music legend John Michel and Nashville session stars Nathaniel Smith and Sam Wilson. The Wheeler Opera House holds a special place in John’s heart\, and this unique performance promises an evening. \nOpening Act Aspen Rocks Alumni\,  Tristan Trincado is quickly getting recognized for his old soul expressive vocals that sing straight to the heart. A senior at Basalt High School\, he captured the attention of the Inspire Aspen Foundation and emerged victorious in their prestigious program\, Aspen Rocks\, in 2024. His debut original song\, “Sinner\,”is now available on all music platforms and is featured on the @gibsonguitar playlist\, where he has been proudly named the CEO’s favorite new artist.
URL:https://wheeleroperahouse.com/event/john-oates-an-evening-of-songs-stories/
LOCATION:Wheeler Opera House\, 320 E Hyman Ave\, Aspen\, CO\, 81611\, United States
CATEGORIES:Music,Singer Songwriter
ATTACH;FMTTYPE=image/png:https://wheeleroperahouse.com/app/uploads/2024/11/WOH-JPG-1200-x-800-5-John-Oates.png
END:VEVENT
END:VCALENDAR