BEGIN:VCALENDAR
VERSION:2.0
PRODID:-//Wheeler Opera House - ECPv6.15.18//NONSGML v1.0//EN
CALSCALE:GREGORIAN
METHOD:PUBLISH
X-ORIGINAL-URL:https://wheeleroperahouse.com
X-WR-CALDESC:Events for Wheeler Opera House
REFRESH-INTERVAL;VALUE=DURATION:PT1H
X-Robots-Tag:noindex
X-PUBLISHED-TTL:PT1H
BEGIN:VTIMEZONE
TZID:America/Denver
BEGIN:DAYLIGHT
TZOFFSETFROM:-0700
TZOFFSETTO:-0600
TZNAME:MDT
DTSTART:20240310T090000
END:DAYLIGHT
BEGIN:STANDARD
TZOFFSETFROM:-0600
TZOFFSETTO:-0700
TZNAME:MST
DTSTART:20241103T080000
END:STANDARD
BEGIN:DAYLIGHT
TZOFFSETFROM:-0700
TZOFFSETTO:-0600
TZNAME:MDT
DTSTART:20250309T090000
END:DAYLIGHT
BEGIN:STANDARD
TZOFFSETFROM:-0600
TZOFFSETTO:-0700
TZNAME:MST
DTSTART:20251102T080000
END:STANDARD
BEGIN:DAYLIGHT
TZOFFSETFROM:-0700
TZOFFSETTO:-0600
TZNAME:MDT
DTSTART:20260308T090000
END:DAYLIGHT
BEGIN:STANDARD
TZOFFSETFROM:-0600
TZOFFSETTO:-0700
TZNAME:MST
DTSTART:20261101T080000
END:STANDARD
END:VTIMEZONE
BEGIN:VEVENT
DTSTART;TZID=America/Denver:20250928T120000
DTEND;TZID=America/Denver:20250928T130000
DTSTAMP:20260421T111834
CREATED:20250707T215210Z
LAST-MODIFIED:20250711T142637Z
UID:10001633-1759060800-1759064400@wheeleroperahouse.com
SUMMARY:Aspen Literary Festival – Chris Pavone & Brendan Slocumb: Plot Twists & Pacing
DESCRIPTION:A high-octane conversation between two leading voices in the modern thriller—one set in the rarefied world of classical music\, the other unfolding across Manhattan’s most elite addresses. From secret motives to social fault lines\, this is a sharp\, suspenseful look at how power and privilege shape the stories we can’t put down.\nModerated by: Gilbert Cruz
URL:https://wheeleroperahouse.com/event/aspen-literary-festival-pavone-slocumb-plot-twists-pacing-building-a-thriller/
LOCATION:Wheeler Opera House\, 320 E Hyman Ave\, Aspen\, CO\, 81611\, United States
CATEGORIES:Speaker
ATTACH;FMTTYPE=image/jpeg:https://wheeleroperahouse.com/app/uploads/2025/07/ALF-1-jpeg-1200X800-1.jpg
END:VEVENT
BEGIN:VEVENT
DTSTART;TZID=America/Denver:20250928T160000
DTEND;TZID=America/Denver:20250928T170000
DTSTAMP:20260421T111834
CREATED:20250707T214856Z
LAST-MODIFIED:20250904T171645Z
UID:10001630-1759075200-1759078800@wheeleroperahouse.com
SUMMARY:Aspen Literary Festival – Nathan Hill: Satire\, Status\, and the Stories Beneath
DESCRIPTION:One of fiction’s most entertaining social critics take on the absurdities of modern life — from high society in Singapore to wellness culture in America\, this conversation dives into how we perform identity\, chase status\, and find meaning in the mess. A witty\, sharp\, and big-hearted look at the stories behind the spectacle.\nModerated by: Tim Ehrenberg
URL:https://wheeleroperahouse.com/event/aspen-literary-festival-nathan-hill-kevin-kwan-satire-status-and-the-stories-beneath/
LOCATION:Wheeler Opera House\, 320 E Hyman Ave\, Aspen\, CO\, 81611\, United States
CATEGORIES:Speaker
ATTACH;FMTTYPE=image/jpeg:https://wheeleroperahouse.com/app/uploads/2025/07/ALF-1-jpeg-1200X800-1.jpg
END:VEVENT
END:VCALENDAR