BEGIN:VCALENDAR
VERSION:2.0
PRODID:-//Wheeler Opera House - ECPv6.15.18//NONSGML v1.0//EN
CALSCALE:GREGORIAN
METHOD:PUBLISH
X-ORIGINAL-URL:https://wheeleroperahouse.com
X-WR-CALDESC:Events for Wheeler Opera House
REFRESH-INTERVAL;VALUE=DURATION:PT1H
X-Robots-Tag:noindex
X-PUBLISHED-TTL:PT1H
BEGIN:VTIMEZONE
TZID:America/Denver
BEGIN:DAYLIGHT
TZOFFSETFROM:-0700
TZOFFSETTO:-0600
TZNAME:MDT
DTSTART:20220313T090000
END:DAYLIGHT
BEGIN:STANDARD
TZOFFSETFROM:-0600
TZOFFSETTO:-0700
TZNAME:MST
DTSTART:20221106T080000
END:STANDARD
BEGIN:DAYLIGHT
TZOFFSETFROM:-0700
TZOFFSETTO:-0600
TZNAME:MDT
DTSTART:20230312T090000
END:DAYLIGHT
BEGIN:STANDARD
TZOFFSETFROM:-0600
TZOFFSETTO:-0700
TZNAME:MST
DTSTART:20231105T080000
END:STANDARD
BEGIN:DAYLIGHT
TZOFFSETFROM:-0700
TZOFFSETTO:-0600
TZNAME:MDT
DTSTART:20240310T090000
END:DAYLIGHT
BEGIN:STANDARD
TZOFFSETFROM:-0600
TZOFFSETTO:-0700
TZNAME:MST
DTSTART:20241103T080000
END:STANDARD
END:VTIMEZONE
BEGIN:VEVENT
DTSTART;TZID=America/Denver:20231103T190000
DTEND;TZID=America/Denver:20231103T190000
DTSTAMP:20260424T124123
CREATED:20230928T150051Z
LAST-MODIFIED:20231020T175137Z
UID:10000109-1699038000-1699038000@wheeleroperahouse.com
SUMMARY:Aspen Community Theatre presents: Once Upon A Mattress - Nov 3
DESCRIPTION:Many moons ago in a far-off place\, Queen Aggravain decreed no couples could marry until her son\, Prince Dauntless\, found a bride. Princesses came from far and wide to win the hand of the prince\, but none could pass the impossible tests given to them by the Queen. That is\, until the “shy” swamp princess\, Winnifred the Woebegone\, showed up. Would she be able to pass the Sensitivity Test\, marry her prince and help Lady Larkin and Sir Harry to the altar? Carried on a wave of wonderful songs – but turns hilarious and raucous\, romantic and melodic – this rollicking spin on the classic tale of The Princess and the Pea provides some side-splitting shenanigans; for after all\, a princess is a delicate thing. \nONCE UPON A MATTRESS\nMusic by MARY RODGERS\nLyrics by MARSHALL BARER\nBook by JAY THOMPSON\, DEAN FULLER\, and MARSHALL BARER \nONCE UPON A MATTRESS is presented by arrangement with Concord Theatricals www.concordtheatricals.com
URL:https://wheeleroperahouse.com/event/aspen-community-theatre-presents-once-upon-a-mattress-nov-3/
LOCATION:Wheeler Opera House\, 320 E Hyman Ave\, Aspen\, CO\, 81611\, United States
CATEGORIES:Community Event,Theater
ATTACH;FMTTYPE=image/png:https://wheeleroperahouse.com/app/uploads/2023/09/Once-Upon-1200x800-1.png
END:VEVENT
BEGIN:VEVENT
DTSTART;TZID=America/Denver:20231104T190000
DTEND;TZID=America/Denver:20231104T190000
DTSTAMP:20260424T124123
CREATED:20230928T150305Z
LAST-MODIFIED:20231020T174807Z
UID:10000107-1699124400-1699124400@wheeleroperahouse.com
SUMMARY:Aspen Community Theatre presents: Once Upon A Mattress - Nov 4
DESCRIPTION:Many moons ago in a far-off place\, Queen Aggravain decreed no couples could marry until her son\, Prince Dauntless\, found a bride. Princesses came from far and wide to win the hand of the prince\, but none could pass the impossible tests given to them by the Queen. That is\, until the “shy” swamp princess\, Winnifred the Woebegone\, showed up. Would she be able to pass the Sensitivity Test\, marry her prince and help Lady Larkin and Sir Harry to the altar? Carried on a wave of wonderful songs – but turns hilarious and raucous\, romantic and melodic – this rollicking spin on the classic tale of The Princess and the Pea provides some side-splitting shenanigans; for after all\, a princess is a delicate thing. \nONCE UPON A MATTRESS\nMusic by MARY RODGERS\nLyrics by MARSHALL BARER\nBook by JAY THOMPSON\, DEAN FULLER\, and MARSHALL BARER \nONCE UPON A MATTRESS is presented by arrangement with Concord Theatricals www.concordtheatricals.com
URL:https://wheeleroperahouse.com/event/aspen-community-theatre-presents-once-upon-a-mattress-nov-4/
LOCATION:Wheeler Opera House\, 320 E Hyman Ave\, Aspen\, CO\, 81611\, United States
CATEGORIES:Community Event,Theater
ATTACH;FMTTYPE=image/png:https://wheeleroperahouse.com/app/uploads/2023/09/Once-Upon-1200x800-1.png
END:VEVENT
BEGIN:VEVENT
DTSTART;TZID=America/Denver:20231105T140000
DTEND;TZID=America/Denver:20231105T140000
DTSTAMP:20260424T124123
CREATED:20230928T150424Z
LAST-MODIFIED:20231020T175221Z
UID:10000108-1699192800-1699192800@wheeleroperahouse.com
SUMMARY:Aspen Community Theatre presents: Once Upon A Mattress - Nov 5
DESCRIPTION:Many moons ago in a far-off place\, Queen Aggravain decreed no couples could marry until her son\, Prince Dauntless\, found a bride. Princesses came from far and wide to win the hand of the prince\, but none could pass the impossible tests given to them by the Queen. That is\, until the “shy” swamp princess\, Winnifred the Woebegone\, showed up. Would she be able to pass the Sensitivity Test\, marry her prince and help Lady Larkin and Sir Harry to the altar? Carried on a wave of wonderful songs – but turns hilarious and raucous\, romantic and melodic – this rollicking spin on the classic tale of The Princess and the Pea provides some side-splitting shenanigans; for after all\, a princess is a delicate thing. \nONCE UPON A MATTRESS\nMusic by MARY RODGERS\nLyrics by MARSHALL BARER\nBook by JAY THOMPSON\, DEAN FULLER\, and MARSHALL BARER \nONCE UPON A MATTRESS is presented by arrangement with Concord Theatricals www.concordtheatricals.com
URL:https://wheeleroperahouse.com/event/aspen-community-theatre-presents-once-upon-a-mattress-nov-5/
LOCATION:Wheeler Opera House\, 320 E Hyman Ave\, Aspen\, CO\, 81611\, United States
CATEGORIES:Community Event,Theater
ATTACH;FMTTYPE=image/png:https://wheeleroperahouse.com/app/uploads/2023/09/Once-Upon-1200x800-1.png
END:VEVENT
END:VCALENDAR