BEGIN:VCALENDAR
VERSION:2.0
PRODID:-//Wheeler Opera House - ECPv6.15.18//NONSGML v1.0//EN
CALSCALE:GREGORIAN
METHOD:PUBLISH
X-ORIGINAL-URL:https://wheeleroperahouse.com
X-WR-CALDESC:Events for Wheeler Opera House
REFRESH-INTERVAL;VALUE=DURATION:PT1H
X-Robots-Tag:noindex
X-PUBLISHED-TTL:PT1H
BEGIN:VTIMEZONE
TZID:America/Denver
BEGIN:DAYLIGHT
TZOFFSETFROM:-0700
TZOFFSETTO:-0600
TZNAME:MDT
DTSTART:20240310T090000
END:DAYLIGHT
BEGIN:STANDARD
TZOFFSETFROM:-0600
TZOFFSETTO:-0700
TZNAME:MST
DTSTART:20241103T080000
END:STANDARD
BEGIN:DAYLIGHT
TZOFFSETFROM:-0700
TZOFFSETTO:-0600
TZNAME:MDT
DTSTART:20250309T090000
END:DAYLIGHT
BEGIN:STANDARD
TZOFFSETFROM:-0600
TZOFFSETTO:-0700
TZNAME:MST
DTSTART:20251102T080000
END:STANDARD
BEGIN:DAYLIGHT
TZOFFSETFROM:-0700
TZOFFSETTO:-0600
TZNAME:MDT
DTSTART:20260308T090000
END:DAYLIGHT
BEGIN:STANDARD
TZOFFSETFROM:-0600
TZOFFSETTO:-0700
TZNAME:MST
DTSTART:20261101T080000
END:STANDARD
END:VTIMEZONE
BEGIN:VEVENT
DTSTART;TZID=America/Denver:20250614T193000
DTEND;TZID=America/Denver:20250614T193000
DTSTAMP:20260421T042531
CREATED:20250401T150053Z
LAST-MODIFIED:20250402T220003Z
UID:10000959-1749929400-1749929400@wheeleroperahouse.com
SUMMARY:Lincoln Goes to Hollywood
DESCRIPTION:Aspen Fringe Festival presents the World Premiere of LINCOLN GOES TO HOLLYWOOD: a Hysterical Historical Comedy written by David Ledingham. This funny\, innovative new play transports Abraham Lincoln\, Shakespeare and Booth family onto the Wheeler Opera House stage. Help Honest Abe find his way through the great experiment towards a more perfect union… on the road to Hollywood. Starring David Ledingham and Lyon Hamill\, directed by Brad Moore.\nThis is AFF’s 2nd original new play commissioned especially for JuneFest. AFF’s 1st commission\, ANGRY ALAN(AFF 2017)\, has since been produced in India\, London\, Paris\, won the coveted Fringe 1st Award at the Edinburgh Fringe Festival\, was optioned by NBC/Universal for TV Series development and is now heading to NYC in Summer 2025\, updated for a bold new production starring award winning actor John Krasinski and directed by Tony Award Winning director\, Sam Gold. \n\nVisit Aspenfringefestival.org for more details
URL:https://wheeleroperahouse.com/event/lincoln-goes-to-hollywood/
LOCATION:Wheeler Opera House\, 320 E Hyman Ave\, Aspen\, CO\, 81611\, United States
CATEGORIES:Dance,Theater
ATTACH;FMTTYPE=image/jpeg:https://wheeleroperahouse.com/app/uploads/2025/03/Wheeler_FringeFestivalAsset_1200x800-1.jpg
END:VEVENT
END:VCALENDAR