BEGIN:VCALENDAR
VERSION:2.0
PRODID:-//Wheeler Opera House - ECPv6.15.18//NONSGML v1.0//EN
CALSCALE:GREGORIAN
METHOD:PUBLISH
X-WR-CALNAME:Wheeler Opera House
X-ORIGINAL-URL:https://wheeleroperahouse.com
X-WR-CALDESC:Events for Wheeler Opera House
REFRESH-INTERVAL;VALUE=DURATION:PT1H
X-Robots-Tag:noindex
X-PUBLISHED-TTL:PT1H
BEGIN:VTIMEZONE
TZID:America/Denver
BEGIN:DAYLIGHT
TZOFFSETFROM:-0700
TZOFFSETTO:-0600
TZNAME:MDT
DTSTART:20240310T090000
END:DAYLIGHT
BEGIN:STANDARD
TZOFFSETFROM:-0600
TZOFFSETTO:-0700
TZNAME:MST
DTSTART:20241103T080000
END:STANDARD
BEGIN:DAYLIGHT
TZOFFSETFROM:-0700
TZOFFSETTO:-0600
TZNAME:MDT
DTSTART:20250309T090000
END:DAYLIGHT
BEGIN:STANDARD
TZOFFSETFROM:-0600
TZOFFSETTO:-0700
TZNAME:MST
DTSTART:20251102T080000
END:STANDARD
BEGIN:DAYLIGHT
TZOFFSETFROM:-0700
TZOFFSETTO:-0600
TZNAME:MDT
DTSTART:20260308T090000
END:DAYLIGHT
BEGIN:STANDARD
TZOFFSETFROM:-0600
TZOFFSETTO:-0700
TZNAME:MST
DTSTART:20261101T080000
END:STANDARD
END:VTIMEZONE
BEGIN:VEVENT
DTSTART;TZID=America/Denver:20250419T173000
DTEND;TZID=America/Denver:20250419T173000
DTSTAMP:20260419T105013
CREATED:20250401T150052Z
LAST-MODIFIED:20250417T140428Z
UID:10000634-1745083800-1745083800@wheeleroperahouse.com
SUMMARY:Aspen Country Day School: Forever Young
DESCRIPTION:The 2025 play\, FOREVER YOUNG\, follows a group of students on an ambitious journey to write their own original production. A prank gone awry threatens both their friendships and the success of the production. Written by Eighth Graders\, the play is a snapshot in time that showcases their lasting bond.
URL:https://wheeleroperahouse.com/event/aspen-country-day-school-forever-young-sat/
LOCATION:Wheeler Opera House\, 320 E Hyman Ave\, Aspen\, CO\, 81611\, United States
CATEGORIES:Musical
ATTACH;FMTTYPE=image/png:https://wheeleroperahouse.com/app/uploads/2025/03/Wheeler-1200-x-800.png
END:VEVENT
BEGIN:VEVENT
DTSTART;TZID=America/Denver:20250418T173000
DTEND;TZID=America/Denver:20250418T173000
DTSTAMP:20260419T105013
CREATED:20250401T150000Z
LAST-MODIFIED:20250417T140905Z
UID:10000633-1744997400-1744997400@wheeleroperahouse.com
SUMMARY:Aspen Country Day School: Forever Young
DESCRIPTION:The 2025 play\, FOREVER YOUNG\, follows a group of students on an ambitious journey to write their own original production. A prank gone awry threatens both their friendships and the success of the production. Written by Eighth Graders\, the play is a snapshot in time that showcases their lasting bond.
URL:https://wheeleroperahouse.com/event/aspen-country-day-school-forever-young-fri/
LOCATION:Wheeler Opera House\, 320 E Hyman Ave\, Aspen\, CO\, 81611\, United States
CATEGORIES:Musical
ATTACH;FMTTYPE=image/png:https://wheeleroperahouse.com/app/uploads/2025/03/Wheeler-1200-x-800.png
END:VEVENT
BEGIN:VEVENT
DTSTART;TZID=America/Denver:20250411T193000
DTEND;TZID=America/Denver:20250411T193000
DTSTAMP:20260419T105013
CREATED:20250226T160031Z
LAST-MODIFIED:20250404T163849Z
UID:10000587-1744399800-1744399800@wheeleroperahouse.com
SUMMARY:Songs from The Unauthorized Untitled Hunter S. Thompson Musical with Joe Iconis & Family
DESCRIPTION:Join Tony Award Nominee Joe Iconis (Be More Chill) and cast members of his incendiary new musical about Hunter S. Thompson as they present a sneak peek concert of songs and stories from the show\, ahead of their 2025 summer run at Washington D.C.’s Signature Theatre\, directed by Tony Award Winner Christopher Ashley. The Untitled Unauthorized Hunter S. Thompson Musical is an anarchic and irreverent portrait of Woody Creek’s favorite renegade mad genius. Careening from the 1940s to 2005\, the show follows Thompson as he invents Gonzo journalism\, attempts to take down a corrupt president\, and quests for equality for his fellow weirdos\, outsiders and freaks. Joe Iconis & his Family of musical theater renegades are New York City cabaret legends\, and they are so excited to bring their unique blend of rock’n’roll and classic musical theater to Aspen for the first time. \n“Funny\, freaky\, informal\, fiercely independent… an emotional passing of the torch to the future activists of the world\, a celebration of and a primal call to the freaks and misfits.” – San Diego Magazine‘s review of the original sold out production at La Jolla Playhouse. \n“Joe Iconis is the Future of Musical Theater.” -The New York Times \nHis musical Be More Chill (with Joe Tracz) has played Broadway\, London\, and Tokyo and his new show The Untitled Unauthorized Hunter S. Thompson Musical (directed by Christopher Ashley) will play Washington D.C.’s Signature Theater this spring. Joe is the author of Love in Hate Nation (directed by John Simpkins; Two River Theater)\, Broadway Bounty Hunter (with Lance Rubin and Jason SweetTooth Williams; Greenwich House Theater Off-Broadway\, Barrington Stage Company)\, Bloodsong of Love (Ars Nova\, NAMT)\, Punk Rock Girl! (for Lively McCabe)\, The Black Suits (with Robert Maddock; Center Theater Group\, Barrington Stage Company)\, ReWrite (Urban Stages\, Goodspeed)\, Things To Ruin (2nd Stage Theater\, The Zipper  Factory) and Theaterworks USA’s The Plant That Ate Dirty Socks and We the People. His music appeared on season two of NBC’s Smash and he frequently performs with his concert act Joe Iconis & Family at 54 Below and the Laurie Beechman Theater. \nJoe Iconis’s albums include the 44-song retrospective Album\, the original cast recordings of Love in Hate Nation\, Broadway Bounty Hunter\, Things To Ruin\, and Be More Chill (both Original Cast Recording and Original Broadway Cast Recording have been streamed over 750 million times). Two-Player Game (with George Salazar)\, and The Joe Iconis Rock & Roll Jamboree are available on Sh-K-Boom/Ghostlight Records. Joe is hugely inspired by Robert Altman\, Dolly Parton\, The Muppets\, and the Family of artists he frequently surrounds himself with. \n\nThe east coast premiere of the Untitled Unauthorized Hunter S. Thompson Musical will take place at Signature Theatre in Arlington\, VA from June 3 through July 13. Information and tickets at SigTheatre.org\n 
URL:https://wheeleroperahouse.com/event/unauthorized-untitled-hunter-s-thompson-musical/
LOCATION:Wheeler Opera House\, 320 E Hyman Ave\, Aspen\, CO\, 81611\, United States
CATEGORIES:Musical,Theater
ATTACH;FMTTYPE=image/jpeg:https://wheeleroperahouse.com/app/uploads/2025/11/1200-x-800-12-TUUHSTM.jpeg
END:VEVENT
BEGIN:VEVENT
DTSTART;TZID=America/Denver:20250219T193000
DTEND;TZID=America/Denver:20250219T193000
DTSTAMP:20260419T105013
CREATED:20250121T164659Z
LAST-MODIFIED:20250121T164659Z
UID:10000608-1739993400-1739993400@wheeleroperahouse.com
SUMMARY:She Sings®: A Soaring Musical
DESCRIPTION:She Sings®: A Soaring Musical powerfully depicts one woman’s courageous journey to break free from the grips of physical\, mental and financial abuse\, shining a light on the struggles of millions of women. It captures their relentless fight to cultivate profound inner strength and reclaim their voices. \nRebecca Magnuson’s own experiences serve as the foundation for the show. The daughter of a fundamental\, Bible believing\, hell-fire and brimstone preaching pastor in the Christian right living in Brooklyn\, NY\, she years later found herself in a horrific 2 month divorce trial in Washington\, DC Superior Court where she uncovered over 20 million her husband concealed from her during discovery. Her motion for a continuance was denied. In a chilling turn\, she was later arraigned in criminal court facing a year in jail for violating the protective order her husband was granted by the same judge presiding over the divorce trial simply for sending a text that read\, “F– you.” Eventually\, Rebecca found her voice and financial freedom having contracted with Amazon in 2019 and owning a top 5% worldwide logistics company for Amazon in the DC area. \nShe Sings has toured from off-Broadway across the US to Los Angeles and beyond internationally to sold out audiences with high acclaim. Rebecca also produced the recently released 5-part documentary series\, She Sings: Surviving the Narcissist\, available at www.SheSings.com. The original soundtrack can be heard on most music streaming platforms.
URL:https://wheeleroperahouse.com/event/she-sings-a-soaring-musical/
LOCATION:Wheeler Opera House\, 320 E Hyman Ave\, Aspen\, CO\, 81611\, United States
CATEGORIES:Musical
ATTACH;FMTTYPE=image/jpeg:https://wheeleroperahouse.com/app/uploads/2025/01/R-She-Sings-1200_800.jpg
END:VEVENT
BEGIN:VEVENT
DTSTART;TZID=America/Denver:20250208T183000
DTEND;TZID=America/Denver:20250208T183000
DTSTAMP:20260419T105013
CREATED:20241115T010029Z
LAST-MODIFIED:20241230T212337Z
UID:10000567-1739039400-1739039400@wheeleroperahouse.com
SUMMARY:TheaterWorksUSA's Dog Man: The Musical
DESCRIPTION:2 Shows!  4 pm & 6:30 pm \nTheaterWorksUSA’s Dog Man: The Musical is a hilarious production based on the worldwide bestselling series from Dav Pilkey\, the creator of Captain Underpants and Cat Kid Comic Club. \nBest buds George and Harold have been creating comics for years\, but now that they’re in 5th grade\, they figure it’s time to level up and write a musical based on their favorite character\, Dog Man\, the crime-biting sensation who is part dog\, part man\, and ALL HERO!! How hard could it be? \nWith the head of a dog and the body of a policeman\, Dog Man loves to fight crime and chew on the furniture. But while trying his best to be a good boy\, can he save the city from Flippy the cyborg fish and his army of Beasty Buildings? Can he catch Petey\, the world’s most evil cat\, who has cloned himself to exact revenge on the doggy do-gooder? And will George and Harold finish their show before lunchtime?? Find out in this epic musical adventure featuring the hilarity and heart of Dav Pilkey’s beloved characters. \nThe show is written by Kevin Del Aguila and Brad Alexander\, who collaborated on the Emmy-winning series Peg + Cat on PBS\, TheaterWorksUSA’s Click\, Clack\, Moo\, and Clifford The Big Red Dog on PBS and Amazon. Original direction and choreography by Jen Wineman. \nAdapted from the books DOG MAN\, DOG MAN UNLEASHED\, DOG MAN A TALE OF TWO KITTIES\,\nand DOG MAN LORD OF THE FLEAS by Dav Pilkey. Copyright ©2016\, 2016\, 2017\, and 2018 by Dav\nPilkey. Published by Graphix\, an imprint of Scholastic\, Inc.\nClick here to purchase the 4 pm show
URL:https://wheeleroperahouse.com/event/dog-man-the-musical-630-pm/
LOCATION:Wheeler Opera House\, 320 E Hyman Ave\, Aspen\, CO\, 81611\, United States
CATEGORIES:Family,Musical
ATTACH;FMTTYPE=image/png:https://wheeleroperahouse.com/app/uploads/2024/11/Dog-Man_-The-Musical-1200x800-1.png
END:VEVENT
BEGIN:VEVENT
DTSTART;TZID=America/Denver:20250208T160000
DTEND;TZID=America/Denver:20250208T160000
DTSTAMP:20260419T105013
CREATED:20241115T010033Z
LAST-MODIFIED:20241218T142605Z
UID:10000566-1739030400-1739030400@wheeleroperahouse.com
SUMMARY:TheaterWorksUSA's Dog Man: The Musical
DESCRIPTION:2 Shows!  4 pm & 6:30 pm \nTheaterWorksUSA’s Dog Man: The Musical is a hilarious production based on the worldwide bestselling series from Dav Pilkey\, the creator of Captain Underpants and Cat Kid Comic Club. \nBest buds George and Harold have been creating comics for years\, but now that they’re in 5th grade\, they figure it’s time to level up and write a musical based on their favorite character\, Dog Man\, the crime-biting sensation who is part dog\, part man\, and ALL HERO!! How hard could it be? \nWith the head of a dog and the body of a policeman\, Dog Man loves to fight crime and chew on the furniture. But while trying his best to be a good boy\, can he save the city from Flippy the cyborg fish and his army of Beasty Buildings? Can he catch Petey\, the world’s most evil cat\, who has cloned himself to exact revenge on the doggy do-gooder? And will George and Harold finish their show before lunchtime?? Find out in this epic musical adventure featuring the hilarity and heart of Dav Pilkey’s beloved characters. \nThe show is written by Kevin Del Aguila and Brad Alexander\, who collaborated on the Emmy-winning series Peg + Cat on PBS\, TheaterWorksUSA’s Click\, Clack\, Moo\, and Clifford The Big Red Dog on PBS and Amazon. Original direction and choreography by Jen Wineman. \nAdapted from the books DOG MAN\, DOG MAN UNLEASHED\, DOG MAN A TALE OF TWO KITTIES\,\nand DOG MAN LORD OF THE FLEAS by Dav Pilkey. Copyright ©2016\, 2016\, 2017\, and 2018 by Dav\nPilkey. Published by Graphix\, an imprint of Scholastic\, Inc.\nYou can click here to purchase copies of the DOG MAN series of books \nClick here for the 6:30 pm show. 
URL:https://wheeleroperahouse.com/event/dog-man-the-musical-4-pm/
LOCATION:Wheeler Opera House\, 320 E Hyman Ave\, Aspen\, CO\, 81611\, United States
CATEGORIES:Family,Musical
ATTACH;FMTTYPE=image/png:https://wheeleroperahouse.com/app/uploads/2024/11/2025-6-Dog-Man-9_1200x800.png
END:VEVENT
END:VCALENDAR