BEGIN:VCALENDAR
VERSION:2.0
PRODID:-//Wheeler Opera House - ECPv6.15.18//NONSGML v1.0//EN
CALSCALE:GREGORIAN
METHOD:PUBLISH
X-WR-CALNAME:Wheeler Opera House
X-ORIGINAL-URL:https://wheeleroperahouse.com
X-WR-CALDESC:Events for Wheeler Opera House
REFRESH-INTERVAL;VALUE=DURATION:PT1H
X-Robots-Tag:noindex
X-PUBLISHED-TTL:PT1H
BEGIN:VTIMEZONE
TZID:America/Denver
BEGIN:DAYLIGHT
TZOFFSETFROM:-0700
TZOFFSETTO:-0600
TZNAME:MDT
DTSTART:20240310T090000
END:DAYLIGHT
BEGIN:STANDARD
TZOFFSETFROM:-0600
TZOFFSETTO:-0700
TZNAME:MST
DTSTART:20241103T080000
END:STANDARD
BEGIN:DAYLIGHT
TZOFFSETFROM:-0700
TZOFFSETTO:-0600
TZNAME:MDT
DTSTART:20250309T090000
END:DAYLIGHT
BEGIN:STANDARD
TZOFFSETFROM:-0600
TZOFFSETTO:-0700
TZNAME:MST
DTSTART:20251102T080000
END:STANDARD
BEGIN:DAYLIGHT
TZOFFSETFROM:-0700
TZOFFSETTO:-0600
TZNAME:MDT
DTSTART:20260308T090000
END:DAYLIGHT
BEGIN:STANDARD
TZOFFSETFROM:-0600
TZOFFSETTO:-0700
TZNAME:MST
DTSTART:20261101T080000
END:STANDARD
BEGIN:DAYLIGHT
TZOFFSETFROM:-0700
TZOFFSETTO:-0600
TZNAME:MDT
DTSTART:20270314T090000
END:DAYLIGHT
BEGIN:STANDARD
TZOFFSETFROM:-0600
TZOFFSETTO:-0700
TZNAME:MST
DTSTART:20271107T080000
END:STANDARD
END:VTIMEZONE
BEGIN:VEVENT
DTSTART;TZID=America/Denver:20251113T190000
DTEND;TZID=America/Denver:20251113T214000
DTSTAMP:20260421T192809
CREATED:20251001T182236Z
LAST-MODIFIED:20251028T182814Z
UID:10001701-1763060400-1763070000@wheeleroperahouse.com
SUMMARY:Aspen Community Theatre Presents: Rumors by Neil Simon
DESCRIPTION:Aspen Community Theatre (ACT) brings its fall production to the Wheeler Opera House. Performed and presented by your neighbors and friends\, Neil Simon’s “Rumors” promises to be a night of farce and fun. “Rumors” contains adult language and themes. \nAt a tastefully appointed Snedens Landing home\, the Deputy Mayor of New York has been shot on the night of his tenth wedding anniversary. Though it’s only a flesh wound\, the incident sets off a series of events causing four couples to unite in a fast and furious experience of farce. As the first couple arrives for the party\, they discover the Deputy Mayor bleeding in another room and his wife nowhere to be found. They scramble to “get their story straight” and protect their friend while maintaining the celebratory atmosphere. With each new guests’ arrival\, the story layers evolve adding confusion and complexity resulting in an evening of classical farce hilarity. \n“Rumors” marks ACT’s first non-musical theatrical production since 1999\, a nod to their storied history as they gear up for a landmark 50th anniversary year in 2026. Learn more about ACT and support local theatre at AspenCommunityTheatre.org.
URL:https://wheeleroperahouse.com/event/aspen-community-theatre-presents-rumors-by-neil-simon/
LOCATION:Wheeler Opera House\, 320 E Hyman Ave\, Aspen\, CO\, 81611\, United States
CATEGORIES:Theater
ATTACH;FMTTYPE=image/jpeg:https://wheeleroperahouse.com/app/uploads/2025/10/1200x800-Wheeler_Rumors-Travis-Lane-McDiffett-1-1-1.jpg
END:VEVENT
BEGIN:VEVENT
DTSTART;TZID=America/Denver:20251114T190000
DTEND;TZID=America/Denver:20251114T214000
DTSTAMP:20260421T192809
CREATED:20251001T182601Z
LAST-MODIFIED:20251021T144258Z
UID:10001702-1763146800-1763156400@wheeleroperahouse.com
SUMMARY:Aspen Community Theatre Presents: Rumors by Neil Simon
DESCRIPTION:Aspen Community Theatre (ACT) brings its fall production to the Wheeler Opera House. Performed and presented by your neighbors and friends\, Neil Simon’s “Rumors” promises to be a night of farce and fun. “Rumors” contains adult language and themes. \nAt a tastefully appointed Snedens Landing home\, the Deputy Mayor of New York has been shot on the night of his tenth wedding anniversary. Though it’s only a flesh wound\, the incident sets off a series of events causing four couples to unite in a fast and furious experience of farce. As the first couple arrives for the party\, they discover the Deputy Mayor bleeding in another room and his wife nowhere to be found. They scramble to “get their story straight” and protect their friend while maintaining the celebratory atmosphere. With each new guests’ arrival\, the story layers evolve adding confusion and complexity resulting in an evening of classical farce hilarity. \n“Rumors” marks ACT’s first non-musical theatrical production since 1999\, a nod to their storied history as they gear up for a landmark 50th anniversary year in 2026. Learn more about ACT and support local theatre at AspenCommunityTheatre.org.
URL:https://wheeleroperahouse.com/event/aspen-community-theatre-presents-rumors-by-neil-simon-2/
LOCATION:Wheeler Opera House\, 320 E Hyman Ave\, Aspen\, CO\, 81611\, United States
CATEGORIES:Theater
ATTACH;FMTTYPE=image/jpeg:https://wheeleroperahouse.com/app/uploads/2025/10/1200x800-Wheeler_Rumors-Travis-Lane-McDiffett-1-1-1.jpg
END:VEVENT
BEGIN:VEVENT
DTSTART;TZID=America/Denver:20251115T190000
DTEND;TZID=America/Denver:20251115T214000
DTSTAMP:20260421T192809
CREATED:20251001T182706Z
LAST-MODIFIED:20251021T144229Z
UID:10001703-1763233200-1763242800@wheeleroperahouse.com
SUMMARY:Aspen Community Theatre Presents: Rumors by Neil Simon
DESCRIPTION:Aspen Community Theatre (ACT) brings its fall production to the Wheeler Opera House. Performed and presented by your neighbors and friends\, Neil Simon’s “Rumors” promises to be a night of farce and fun. “Rumors” contains adult language and themes. \nAt a tastefully appointed Snedens Landing home\, the Deputy Mayor of New York has been shot on the night of his tenth wedding anniversary. Though it’s only a flesh wound\, the incident sets off a series of events causing four couples to unite in a fast and furious experience of farce. As the first couple arrives for the party\, they discover the Deputy Mayor bleeding in another room and his wife nowhere to be found. They scramble to “get their story straight” and protect their friend while maintaining the celebratory atmosphere. With each new guests’ arrival\, the story layers evolve adding confusion and complexity resulting in an evening of classical farce hilarity. \n“Rumors” marks ACT’s first non-musical theatrical production since 1999\, a nod to their storied history as they gear up for a landmark 50th anniversary year in 2026. Learn more about ACT and support local theatre at AspenCommunityTheatre.org.
URL:https://wheeleroperahouse.com/event/aspen-community-theatre-presents-rumors-by-neil-simon-3/
LOCATION:Wheeler Opera House\, 320 E Hyman Ave\, Aspen\, CO\, 81611\, United States
CATEGORIES:Theater
ATTACH;FMTTYPE=image/jpeg:https://wheeleroperahouse.com/app/uploads/2025/10/1200x800-Wheeler_Rumors-Travis-Lane-McDiffett-1-1-1.jpg
END:VEVENT
BEGIN:VEVENT
DTSTART;TZID=America/Denver:20251116T140000
DTEND;TZID=America/Denver:20251116T164000
DTSTAMP:20260421T192809
CREATED:20251001T182953Z
LAST-MODIFIED:20251021T144144Z
UID:10001704-1763301600-1763311200@wheeleroperahouse.com
SUMMARY:Aspen Community Theatre Presents: Rumors by Neil Simon
DESCRIPTION:Aspen Community Theatre (ACT) brings its fall production to the Wheeler Opera House. Performed and presented by your neighbors and friends\, Neil Simon’s “Rumors” promises to be a night of farce and fun. “Rumors” contains adult language and themes. \nAt a tastefully appointed Snedens Landing home\, the Deputy Mayor of New York has been shot on the night of his tenth wedding anniversary. Though it’s only a flesh wound\, the incident sets off a series of events causing four couples to unite in a fast and furious experience of farce. As the first couple arrives for the party\, they discover the Deputy Mayor bleeding in another room and his wife nowhere to be found. They scramble to “get their story straight” and protect their friend while maintaining the celebratory atmosphere. With each new guests’ arrival\, the story layers evolve adding confusion and complexity resulting in an evening of classical farce hilarity. \n“Rumors” marks ACT’s first non-musical theatrical production since 1999\, a nod to their storied history as they gear up for a landmark 50th anniversary year in 2026. Learn more about ACT and support local theatre at AspenCommunityTheatre.org.
URL:https://wheeleroperahouse.com/event/aspen-community-theatre-presents-rumors-by-neil-simon-4/
LOCATION:Wheeler Opera House\, 320 E Hyman Ave\, Aspen\, CO\, 81611\, United States
CATEGORIES:Theater
ATTACH;FMTTYPE=image/jpeg:https://wheeleroperahouse.com/app/uploads/2025/10/1200x800-Wheeler_Rumors-Travis-Lane-McDiffett-1-1-1.jpg
END:VEVENT
BEGIN:VEVENT
DTSTART;TZID=America/Denver:20251120T190000
DTEND;TZID=America/Denver:20251120T203000
DTSTAMP:20260421T192809
CREATED:20250508T150034Z
LAST-MODIFIED:20251015T221927Z
UID:10001564-1763665200-1763670600@wheeleroperahouse.com
SUMMARY:Garrison Keillor Tonight
DESCRIPTION:Garrison Keillor Tonight is an evening of stand-up\, storytelling\, audience sing-alongs\, and poetry. One man\, one microphone.\nThe performance features sung sonnets\, limericks\, and musical jokes—all woven together by reflections on the beauty of growing older. Despite its inconveniences\, old age brings a kind of contentment: the wisdom that less is more. With your big ambitions and past mistakes behind you\, there’s nothing left to prove—and great joy can be found in life’s smaller moments. \nAs Keillor puts it:\n“I was unhappy in college because it was a requirement for an intellectual\, but then I went into show business and discovered that people won’t pay to be made unhappy—their kids will do it for free.” \nThe evening also includes the beloved News from Lake Wobegon\, where the town is buzzing with new entrepreneurs—makers of artisanal firewood\, gourmet meatloaf\, breeders of composting worms\, and dogs trained to do childcare. Yet\, some traditions endure\, like the annual Living Flag formation on Main Street\, with citizens donning red\, white\, and blue caps. Keillor stands shoulder to shoulder with familiar neighbors like Myrtle Krebsbach (“Truckstop”)\, Julie Christensen (“Bruno\, The Fishing Dog”)\, and Clint Bunsen. The evening concludes with a heartfelt a cappella sing-along\, as the audience joins in from memory on a medley of patriotic songs\, pop standards\, and hymns—culminating in the national anthem. \n 
URL:https://wheeleroperahouse.com/event/garrison-keillor-tonight/
LOCATION:Wheeler Opera House\, 320 E Hyman Ave\, Aspen\, CO\, 81611\, United States
CATEGORIES:Comedy,Theater
ATTACH;FMTTYPE=image/jpeg:https://wheeleroperahouse.com/app/uploads/2025/04/Garrison-1200-x-800.jpg
END:VEVENT
BEGIN:VEVENT
DTSTART;TZID=America/Denver:20260114T193000
DTEND;TZID=America/Denver:20260114T210000
DTSTAMP:20260421T192809
CREATED:20250926T000003Z
LAST-MODIFIED:20260106T194147Z
UID:10001687-1768419000-1768424400@wheeleroperahouse.com
SUMMARY:Gwyneth Goes Skiing
DESCRIPTION:She’s a Hollywood icon. He’s a retired optometrist. In 2016\, they collided—on the slopes of Deer Valley. In 2023\, they collided again—in court. This is their story. Kind of. \nAfter sold-out runs in London\, Edinburgh\, New York\, LA\, and Park City\, Gwyneth Goes Skiing lands in Aspen for a limited engagement. Written and performed by Linus Karp and Joseph Martin\, with original songs by Leland (RuPaul\, Troye Sivan\, Cher)\, and featuring a special video appearance by Trixie Mattel\, this high-camp courtroom musical transforms the Wheeler into a snow-speckled spectacle of queer joy. \nAs seen in The New York Times\, Rolling Stone\, Variety\, BBC\, and more. \n“Hilarious\, camp and outrageous” – Attitude\n“Pure theatrical magic” – All That Dazzles \nYou are the jury. Prepare to be gooped.
URL:https://wheeleroperahouse.com/event/gwyneth-goes-skiing-2/
LOCATION:Wheeler Opera House\, 320 E Hyman Ave\, Aspen\, CO\, 81611\, United States
CATEGORIES:Theater
ATTACH;FMTTYPE=image/jpeg:https://wheeleroperahouse.com/app/uploads/2025/09/Gwyneth-1200-x-800.jpg
END:VEVENT
BEGIN:VEVENT
DTSTART;TZID=America/Denver:20260115T193000
DTEND;TZID=America/Denver:20260115T210000
DTSTAMP:20260421T192809
CREATED:20250926T000000Z
LAST-MODIFIED:20260106T183217Z
UID:10001647-1768505400-1768510800@wheeleroperahouse.com
SUMMARY:Diana: The Untold and Untrue Story
DESCRIPTION:Awkward Productions present their multi award winning\, Edinburgh Fringe sell-out show Diana: The Untold and Untrue Story. \nDo you know the story of Diana? Probably. But do you know this story of Diana? We very much doubt it. Join Diana in heaven as she shares the untold and untrue tale of her extraordinary life. \nCombining drag\, multimedia\, audience interaction\, puppetry and a lot of queer joy – this unique celebration of the people’s princess has won multiple awards and sold out venues across the UK. A celebration of Ar Di that is as hilarious as it is tasteless. Visiting the Wheeler Opera House fresh from a WORLD TOUR! \nFeatures special multimedia appearances by Jeanna de Waal (star of Diana: The Musical; Broadway)\, Geri Allen (Operation Mincemeat; West End)\, and Rob Madge (star of My Son’s a Queer (But What Can You Do?); New York City Centre & West End) as the voice of Mother Teresa. \nHealth Warning: Flashing lights\nContent Warnings: Strong language\, puppetry\, audience participation\, Camilla Parker Bowles
URL:https://wheeleroperahouse.com/event/diana-the-untold-and-untrue-story/
LOCATION:Wheeler Opera House\, 320 E Hyman Ave\, Aspen\, CO\, 81611\, United States
CATEGORIES:Theater
ATTACH;FMTTYPE=image/jpeg:https://wheeleroperahouse.com/app/uploads/2025/08/Diana-1200-x-800.jpg
END:VEVENT
BEGIN:VEVENT
DTSTART;TZID=America/Denver:20260116T193000
DTEND;TZID=America/Denver:20260116T210000
DTSTAMP:20260421T192809
CREATED:20250926T000004Z
LAST-MODIFIED:20260106T194108Z
UID:10001646-1768591800-1768597200@wheeleroperahouse.com
SUMMARY:Gwyneth Goes Skiing
DESCRIPTION:She’s a Hollywood icon. He’s a retired optometrist. In 2016\, they collided—on the slopes of Deer Valley. In 2023\, they collided again—in court. This is their story. Kind of. \nAfter sold-out runs in London\, Edinburgh\, New York\, LA\, and Park City\, Gwyneth Goes Skiing lands in Aspen for a limited engagement. Written and performed by Linus Karp and Joseph Martin\, with original songs by Leland (RuPaul\, Troye Sivan\, Cher)\, and featuring a special video appearance by Trixie Mattel\, this high-camp courtroom musical transforms the Wheeler into a snow-speckled spectacle of queer joy. \nAs seen in The New York Times\, Rolling Stone\, Variety\, BBC\, and more. \n“Hilarious\, camp and outrageous” – Attitude\n“Pure theatrical magic” – All That Dazzles \nYou are the jury. Prepare to be gooped.
URL:https://wheeleroperahouse.com/event/gwyneth-goes-skiing/
LOCATION:Wheeler Opera House\, 320 E Hyman Ave\, Aspen\, CO\, 81611\, United States
CATEGORIES:Theater
ATTACH;FMTTYPE=image/jpeg:https://wheeleroperahouse.com/app/uploads/2025/09/Gwyneth-1200-x-800.jpg
END:VEVENT
BEGIN:VEVENT
DTSTART;TZID=America/Denver:20260124T193000
DTEND;TZID=America/Denver:20260124T211500
DTSTAMP:20260421T192809
CREATED:20260109T160054Z
LAST-MODIFIED:20260106T173301Z
UID:10001774-1769283000-1769289300@wheeleroperahouse.com
SUMMARY:Sopris Theatre Company Presents: 26 Pebbles
DESCRIPTION:26 Pebbles by Eric Ulloa chronicles the experiences of the parents and community members of Newtown and Sandy Hook. In a series of monologues and short dialogues\, they tell the story of their hometown: The experience of community events\, the day of the shooting and their panic\, the grief and trauma following the tragedy. Lauded for its compassion and message of healing\, 26 Pebbles shows how pebbles dropped in the pond can create a ripple effect for the rest of the world.
URL:https://wheeleroperahouse.com/event/sopris-theatre-company-presents-26-pebbles/
LOCATION:Wheeler Opera House\, 320 E Hyman Ave\, Aspen\, CO\, 81611\, United States
CATEGORIES:Theater
ATTACH;FMTTYPE=image/jpeg:https://wheeleroperahouse.com/app/uploads/2026/01/Morgan-Walsh-and-Willie-Moseley-1200x800-Brad-Moore.jpg
END:VEVENT
BEGIN:VEVENT
DTSTART;TZID=America/Denver:20260125T160000
DTEND;TZID=America/Denver:20260125T170000
DTSTAMP:20260421T192809
CREATED:20250926T000010Z
LAST-MODIFIED:20260106T202344Z
UID:10001652-1769356800-1769360400@wheeleroperahouse.com
SUMMARY:Don't Let the Pigeon Drive the Bus! The Musical!
DESCRIPTION:Whatever you do\, don’t let the Pigeon star in his own musical production! With a script written by Mo Willems\, the creator of the #1 New York Times best-selling\, Caldecott Honor award-winning “Pigeon” picture books\, and featuring music by Deborah Wicks La Puma (Elephant & Piggie’s We Are in a Play!)\, TheaterWorksUSA‘s Don’t Let the Pigeon Drive the Bus! The Musical! is even more fun than staying up late and having a hot dog party! \nIt’s not easy being the Pigeon-you never get to do ANYTHING! But when the Bus Driver has a crisis that threatens to make her passengers (gasp!) late\, maybe that wily bird CAN do something. Featuring an innovative mix of songs\, and feathers\, Don’t Let the Pigeon Drive the Bus! The Musical! is sure to get everyone’s wings flapping. The production runs for approximately 60 minutes and is recommended for ages 5 and up. \nBased on the book Don’t Let the Pigeon Drive the Bus! by Mo Willems\, published by Hyperion Books for Children\, the show features a script by Mo Willems and Mr. Warburton\, lyrics by Mo Willems\, music by Deborah Wicks La Puma\, and dramaturgy by Megan Alrutz. This play was commissioned by the John F. Kennedy Center for the Performing Arts and was first produced at the Kennedy Center during the 2019-2020 season. \nAdditional credits include set design by Timothy R. Mackabee\, costume design by Heidi Leigh Hanson\, props design by Lake Simons\, and direction and choreography by Jen Wineman.
URL:https://wheeleroperahouse.com/event/dont-let-the-pigeon-drive-the-bus-the-musical/
LOCATION:Wheeler Opera House\, 320 E Hyman Ave\, Aspen\, CO\, 81611\, United States
CATEGORIES:Family,Theater
ATTACH;FMTTYPE=image/jpeg:https://wheeleroperahouse.com/app/uploads/2025/09/Pigeon-1200-x-800-Final.jpg
END:VEVENT
BEGIN:VEVENT
DTSTART;TZID=America/Denver:20260128T193000
DTEND;TZID=America/Denver:20260128T210000
DTSTAMP:20260421T192809
CREATED:20250715T160051Z
LAST-MODIFIED:20260126T232827Z
UID:10001634-1769628600-1769634000@wheeleroperahouse.com
SUMMARY:Welcome to Night Vale: Murder Night in Blood Forest + Musical Guest\, Mal Blum
DESCRIPTION:Beloved former teen militia member Tamika Flynn is joining a few hundred of her friends for the annual Murder Night in Blood Forest\, a celebration of crows\, ravens\, and all corvids. But a masked killer is hunting these carefree partiers one by one. Who would ruin Murder Night with murder? Can Cecil and Tamika solve the mystery before the murderer has gotten them all? \nWelcome to Night Vale’s Brand-new touring live show\, Murder Night in Blood Forest\, features Cecil Baldwin\, Symphony Sanders\, Jeffrey Cranor\, surprise guests playing fan favorite characters\, a special musical guest as “The Weather\,” and live music by Disparition. Both fans of the show and newcomers will be able to enjoy this stand-alone show. \nNight Vale’s unforgettable live shows bring the audience into the story in surprising and thrilling ways. Over the years\, our live shows have become the heart of the Night Vale experience. They are unique theatrical evenings that take you to our weird little town in a way you can’t get from listening to the podcast at home. The live shows are entirely stand-alone and do not require any knowledge of the podcast\, so bring a friend or a parent or a child or a neighbor. \n 
URL:https://wheeleroperahouse.com/event/welcome-to-night-vale-murder-night-in-blood-forest-musical-guest/
LOCATION:Wheeler Opera House\, 320 E Hyman Ave\, Aspen\, CO\, 81611\, United States
CATEGORIES:Concert,Theater
ATTACH;FMTTYPE=image/jpeg:https://wheeleroperahouse.com/app/uploads/2025/07/Night-Vale-1200-x-800-V2.jpg
END:VEVENT
BEGIN:VEVENT
DTSTART;TZID=America/Denver:20260421T183000
DTEND;TZID=America/Denver:20260421T183000
DTSTAMP:20260421T192809
CREATED:20250926T161238Z
LAST-MODIFIED:20260414T170840Z
UID:10001698-1776796200-1776796200@wheeleroperahouse.com
SUMMARY:"Infinitely Yours" and other works by Miwa Matreyek
DESCRIPTION:Step into a world where animation\, performance\, and environmental storytelling converge in a singular\, dreamlike experience. Internationally acclaimed artist Miwa Matreyek brings her spellbinding shadow performances to the Wheeler Opera House for one night only. \nBlending cinematic animation with live performance\, Matreyek’s silhouette becomes part of the projected world—moving through oceanscapes\, cityscapes\, and surreal dream sequences that explore the relationship between humanity and the natural world. Her work has captivated audiences at TED\, MoMA\, Sundance\, and beyond\, and now comes to Aspen for an unforgettable evening of visual poetry and performance. \nThe evening features three of Matreyek’s most celebrated works:\nMyth & Infrastructure: A fantastical journey through shifting landscapes\, where the artist’s shadow becomes an integral part of the animated world\, conjuring scenes of wonder and transformation. \nThis World Made Itself: A visually rich\, semi-scientific\, and emotionally resonant journey through the history of the Earth—from the birth of the universe to the rise of human civilization. \nInfinitely Yours: A kaleidoscopic and urgent meditation on the climate crisis\, this piece physicalizes the overwhelming stream of environmental news through haunting\, surreal imagery.\nMatreyek’s work invites us to see the invisible\, feel the intangible\, and reflect on our place in a rapidly changing world.
URL:https://wheeleroperahouse.com/event/infinitely-yours-and-other-works-by-miwa-matreyek/
LOCATION:Wheeler Opera House\, 320 E Hyman Ave\, Aspen\, CO\, 81611\, United States
CATEGORIES:Theater
ATTACH;FMTTYPE=image/jpeg:https://wheeleroperahouse.com/app/uploads/2025/09/Miwa-2-1200-x-800.jpg
END:VEVENT
BEGIN:VEVENT
DTSTART;TZID=America/Denver:20260501T190000
DTEND;TZID=America/Denver:20260501T190000
DTSTAMP:20260421T192809
CREATED:20260421T150028Z
LAST-MODIFIED:20260420T173628Z
UID:10001834-1777662000-1777662000@wheeleroperahouse.com
SUMMARY:Aspen Community School Presents: Dahlapalooza
DESCRIPTION:Aspen Community School presents a stage interpretation of Raold Dahl’s greatest hits including James and the Giant Peach\, Charlie and the Chocolate Factory\, The BFG\, Matilda\, The Witches\, and his early years autobiography\, Boy.
URL:https://wheeleroperahouse.com/event/aspen-community-school-presents-dahlapalooza-2/
LOCATION:Wheeler Opera House\, 320 E Hyman Ave\, Aspen\, CO\, 81611\, United States
CATEGORIES:Family,Theater
ATTACH;FMTTYPE=image/jpeg:https://wheeleroperahouse.com/app/uploads/2026/04/Dahl_Wheeler_1200x800-scaled.jpg
END:VEVENT
BEGIN:VEVENT
DTSTART;TZID=America/Denver:20260523T190000
DTEND;TZID=America/Denver:20260523T190000
DTSTAMP:20260421T192809
CREATED:20260224T160003Z
LAST-MODIFIED:20260224T144515Z
UID:10001792-1779562800-1779562800@wheeleroperahouse.com
SUMMARY:Roaring Fork Rising - Alya Howe\, WRIT LARGE presents Women's Voices
DESCRIPTION:A Writ Large live storytelling evening featuring Rachelle Anslyn\, Christa Wagner\, Gwen Garcelon\, Mellie Test\, Nee Findley. Alya Howe is a movement‑based and storytelling‑focused artist whose work examines personal histories\, interior landscapes\, and the social and environmental pressures shaping individuals and communities. Her background includes work with the José Limón Dance Company\, Kei Takei\, Danceteller\, Zakir Hussain\, and teaching roles at the State Ballet School in Athens\, the Laban Institute\, and the Lincoln Center Institute. In the Roaring Fork Valley\, she founded Under Alya’s Umbrella\, creating platforms centered on performance and community narrative. Writ Large extends this practice\, presenting stories that highlight lived experience\, community memory\, and the role of narrative in cohesion and resilience.
URL:https://wheeleroperahouse.com/event/roaring-fork-rising-alya-howe-writ-large-presents-womens-voices/
LOCATION:The Vault at the Wheeler\, 320 E Hyman Ave\, Aspen\, CO\, 81611\, United States
CATEGORIES:Theater
ATTACH;FMTTYPE=image/jpeg:https://wheeleroperahouse.com/app/uploads/2026/02/RFR-Alya-1200-x-800.jpg
END:VEVENT
BEGIN:VEVENT
DTSTART;TZID=America/Denver:20260612T193000
DTEND;TZID=America/Denver:20260612T193000
DTSTAMP:20260421T192809
CREATED:20260414T150017Z
LAST-MODIFIED:20260413T180102Z
UID:10001827-1781292600-1781292600@wheeleroperahouse.com
SUMMARY:Aspen Fringe Festival
DESCRIPTION:DANCE & FILM: SILVER LININGS: Only in Darkness can you see the Stars\nA celebration of the human spirit through live dance and film. \nUNEXPECTED ENCOUNTERS — SOULSKIN Dance. Following its NYC Premiere at Alvin Ailey Dance Center (Feb 2026)\, a transformative ballet about how we collide\, diverge\, and reconnect.      “A Ravishing Lust for Life…” — Dance Enthusiast \nDISAPPEARED — Alya Howe. Balancing disappearing values with hope’s renewal. \nGas // Lightening — Lilly Bright. Freedom is not for the Faint of Heart. \nAFF FilmFest Award Films: DREAMADRE — Elisabetta Carnevale. THE KEY — Jaco Strydom.
URL:https://wheeleroperahouse.com/event/aspen-fringe-festival/
LOCATION:Wheeler Opera House\, 320 E Hyman Ave\, Aspen\, CO\, 81611\, United States
CATEGORIES:Dance,Film,Theater
ATTACH;FMTTYPE=image/jpeg:https://wheeleroperahouse.com/app/uploads/2026/04/1200x800_Wheeler-Aspen-Fringe-Festival.jpeg
END:VEVENT
BEGIN:VEVENT
DTSTART;TZID=America/Denver:20260613T193000
DTEND;TZID=America/Denver:20260613T193000
DTSTAMP:20260421T192809
CREATED:20260414T150031Z
LAST-MODIFIED:20260413T174147Z
UID:10001826-1781379000-1781379000@wheeleroperahouse.com
SUMMARY:Aspen Fringe Festival
DESCRIPTION:JUNE 13 — THEATRE: STILL\, by Lia Romero A funny\, thought-provoking play about lost love & second chances. \n“Best New American Play” — NY Outer Critics Circle Nominee. \nNearly 30 years after their relationship ended\, Helen and Mark meet over drinks… and find themselves charmed and attracted all over again. When past choices and new secrets surface\, everything they believe about the future is called into question.. Humorous and revealing\, Still explores the delicate dance between what connects us and what divides us. \nStarring David Ledingham and Libby Rife\, directed by Maurice Lamee. \nJuicy. Smart.” — NY Times       “Romantic and timely.” — TheaterMania
URL:https://wheeleroperahouse.com/event/aspen-fringe-festival-2/
LOCATION:Wheeler Opera House\, 320 E Hyman Ave\, Aspen\, CO\, 81611\, United States
CATEGORIES:Theater
ATTACH;FMTTYPE=image/jpeg:https://wheeleroperahouse.com/app/uploads/2026/04/1200x800_Wheeler-Aspen-Fringe-Festival.jpeg
END:VEVENT
BEGIN:VEVENT
DTSTART;TZID=America/Denver:20261009T190000
DTEND;TZID=America/Denver:20261009T190000
DTSTAMP:20260421T192809
CREATED:20260324T150001Z
LAST-MODIFIED:20260324T155900Z
UID:10001797-1791572400-1791572400@wheeleroperahouse.com
SUMMARY:Sugar Skull! A Dia de Muertos Musical Adventure
DESCRIPTION:Sugar Skull! A Día de Muertos Musical Adventure brings a vibrant bilingual story for young audiences and families to the Wheeler stage. Twelve-year-old Vita Flores cannot understand why her family prepares an elaborate celebration for relatives who have passed on. Everything changes when Sugar Skull\, a lively candy skeleton with secrets of her own\, appears and launches Vita into a colorful world between memory and imagination. \nGuided by her skeletal companion\, Vita dances with ancient ancestors\, sings with a sorrowful sorceress\, and outwits mischievous Chaneques drawn from Mexican folklore. Traditional regional music and dance\, rich visuals\, and bilingual storytelling illuminate the history and symbols of Día de Muertos\, highlighting themes of remembrance\, family\, and cultural pride. Crafted as a touring bicultural musical\, Sugar Skull! offers an engaging introduction to Mexican traditions for children while resonating with adults through its layered story and spirited score. The performance is designed for multilingual\, multicultural audiences of all ages.
URL:https://wheeleroperahouse.com/event/sugar-skull-a-dia-de-muertos-musical-adventure/
LOCATION:Wheeler Opera House\, 320 E Hyman Ave\, Aspen\, CO\, 81611\, United States
CATEGORIES:Musical,Theater
ATTACH;FMTTYPE=image/jpeg:https://wheeleroperahouse.com/app/uploads/2026/02/Sugar-Skull-1200-x-800.jpg
END:VEVENT
END:VCALENDAR