BEGIN:VCALENDAR
VERSION:2.0
PRODID:-//Wheeler Opera House - ECPv6.15.18//NONSGML v1.0//EN
CALSCALE:GREGORIAN
METHOD:PUBLISH
X-WR-CALNAME:Wheeler Opera House
X-ORIGINAL-URL:https://wheeleroperahouse.com
X-WR-CALDESC:Events for Wheeler Opera House
REFRESH-INTERVAL;VALUE=DURATION:PT1H
X-Robots-Tag:noindex
X-PUBLISHED-TTL:PT1H
BEGIN:VTIMEZONE
TZID:America/Denver
BEGIN:DAYLIGHT
TZOFFSETFROM:-0700
TZOFFSETTO:-0600
TZNAME:MDT
DTSTART:20230312T090000
END:DAYLIGHT
BEGIN:STANDARD
TZOFFSETFROM:-0600
TZOFFSETTO:-0700
TZNAME:MST
DTSTART:20231105T080000
END:STANDARD
BEGIN:DAYLIGHT
TZOFFSETFROM:-0700
TZOFFSETTO:-0600
TZNAME:MDT
DTSTART:20240310T090000
END:DAYLIGHT
BEGIN:STANDARD
TZOFFSETFROM:-0600
TZOFFSETTO:-0700
TZNAME:MST
DTSTART:20241103T080000
END:STANDARD
BEGIN:DAYLIGHT
TZOFFSETFROM:-0700
TZOFFSETTO:-0600
TZNAME:MDT
DTSTART:20250309T090000
END:DAYLIGHT
BEGIN:STANDARD
TZOFFSETFROM:-0600
TZOFFSETTO:-0700
TZNAME:MST
DTSTART:20251102T080000
END:STANDARD
END:VTIMEZONE
BEGIN:VEVENT
DTSTART;TZID=America/Denver:20240306T133000
DTEND;TZID=America/Denver:20240306T143000
DTSTAMP:20260422T132919
CREATED:20240130T144102Z
LAST-MODIFIED:20240307T185013Z
UID:10000167-1709731800-1709735400@wheeleroperahouse.com
SUMMARY:Aspen Historical Society presents: History Tours
DESCRIPTION:Enjoy a guided tour inside the center of Aspen’s arts and cultural scene since it was built in 1889. This free tour led by the Aspen Historical Society and in partnership with the City of Aspen’s Wheeler Opera House offers an insider’s look at the iconic building\, including its recent renovations and storied past. \nMeet in the lobby. Maximum 20 guests.
URL:https://wheeleroperahouse.com/event/history-tour-10-2/2024-03-06/
LOCATION:Wheeler Opera House\, 320 E Hyman Ave\, Aspen\, CO\, 81611\, United States
CATEGORIES:Tour
ATTACH;FMTTYPE=image/png:https://wheeleroperahouse.com/app/uploads/2023/03/AHS-Tour-image.png
END:VEVENT
BEGIN:VEVENT
DTSTART;TZID=America/Denver:20240313T133000
DTEND;TZID=America/Denver:20240313T143000
DTSTAMP:20260422T132919
CREATED:20240130T144102Z
LAST-MODIFIED:20240307T185013Z
UID:10000168-1710336600-1710340200@wheeleroperahouse.com
SUMMARY:Aspen Historical Society presents: History Tours
DESCRIPTION:Enjoy a guided tour inside the center of Aspen’s arts and cultural scene since it was built in 1889. This free tour led by the Aspen Historical Society and in partnership with the City of Aspen’s Wheeler Opera House offers an insider’s look at the iconic building\, including its recent renovations and storied past. \nMeet in the lobby. Maximum 20 guests.
URL:https://wheeleroperahouse.com/event/history-tour-10-2/2024-03-13/
LOCATION:Wheeler Opera House\, 320 E Hyman Ave\, Aspen\, CO\, 81611\, United States
CATEGORIES:Tour
ATTACH;FMTTYPE=image/png:https://wheeleroperahouse.com/app/uploads/2023/03/AHS-Tour-image.png
END:VEVENT
BEGIN:VEVENT
DTSTART;TZID=America/Denver:20240320T133000
DTEND;TZID=America/Denver:20240320T143000
DTSTAMP:20260422T132919
CREATED:20240130T144102Z
LAST-MODIFIED:20240307T185013Z
UID:10000169-1710941400-1710945000@wheeleroperahouse.com
SUMMARY:Aspen Historical Society presents: History Tours
DESCRIPTION:Enjoy a guided tour inside the center of Aspen’s arts and cultural scene since it was built in 1889. This free tour led by the Aspen Historical Society and in partnership with the City of Aspen’s Wheeler Opera House offers an insider’s look at the iconic building\, including its recent renovations and storied past. \nMeet in the lobby. Maximum 20 guests.
URL:https://wheeleroperahouse.com/event/history-tour-10-2/2024-03-20/
LOCATION:Wheeler Opera House\, 320 E Hyman Ave\, Aspen\, CO\, 81611\, United States
CATEGORIES:Tour
ATTACH;FMTTYPE=image/png:https://wheeleroperahouse.com/app/uploads/2023/03/AHS-Tour-image.png
END:VEVENT
END:VCALENDAR