BEGIN:VCALENDAR
VERSION:2.0
PRODID:-//Wheeler Opera House - ECPv6.15.18//NONSGML v1.0//EN
CALSCALE:GREGORIAN
METHOD:PUBLISH
X-WR-CALNAME:Wheeler Opera House
X-ORIGINAL-URL:https://wheeleroperahouse.com
X-WR-CALDESC:Events for Wheeler Opera House
REFRESH-INTERVAL;VALUE=DURATION:PT1H
X-Robots-Tag:noindex
X-PUBLISHED-TTL:PT1H
BEGIN:VTIMEZONE
TZID:America/Denver
BEGIN:DAYLIGHT
TZOFFSETFROM:-0700
TZOFFSETTO:-0600
TZNAME:MDT
DTSTART:20250309T090000
END:DAYLIGHT
BEGIN:STANDARD
TZOFFSETFROM:-0600
TZOFFSETTO:-0700
TZNAME:MST
DTSTART:20251102T080000
END:STANDARD
BEGIN:DAYLIGHT
TZOFFSETFROM:-0700
TZOFFSETTO:-0600
TZNAME:MDT
DTSTART:20260308T090000
END:DAYLIGHT
BEGIN:STANDARD
TZOFFSETFROM:-0600
TZOFFSETTO:-0700
TZNAME:MST
DTSTART:20261101T080000
END:STANDARD
BEGIN:DAYLIGHT
TZOFFSETFROM:-0700
TZOFFSETTO:-0600
TZNAME:MDT
DTSTART:20270314T090000
END:DAYLIGHT
BEGIN:STANDARD
TZOFFSETFROM:-0600
TZOFFSETTO:-0700
TZNAME:MST
DTSTART:20271107T080000
END:STANDARD
END:VTIMEZONE
BEGIN:VEVENT
DTSTART;TZID=America/Denver:20261001T190000
DTEND;TZID=America/Denver:20261001T190000
DTSTAMP:20260423T165129
CREATED:20260414T150003Z
LAST-MODIFIED:20260414T140745Z
UID:10001828-1790881200-1790881200@wheeleroperahouse.com
SUMMARY:An Evening with Tom Rush accompanied by Brendan Cleary
DESCRIPTION:Folk icon Tom Rush brings a night of songs and stories to the historic Wheeler Opera House. Known for a warm\, expressive voice\, distinctive guitar work\, and wry\, laugh‑out‑loud storytelling\, Rush moves effortlessly from tender ballads to gritty blues. \nA pivotal voice of the ’60s folk revival\, he later helped spark the acoustic renaissance of the ’80s and ’90s. James Taylor told Rolling Stone\, “Tom was not only one of my early heroes\, but also one of my main influences\,” and Garth Brooks has named Rush among his top five musical influences. \nHe’s also long championed emerging writers—his early recordings introduced audiences to Joni Mitchell and Jackson Browne—and his Club 47® concert series continues that tradition of musical discovery. \nHis set traces the tradition and spectrum of American song—what it has been\, can be\, and will become.
URL:https://wheeleroperahouse.com/event/an-evening-with-tom-rush-accompanied-by-brendan-cleary/
LOCATION:Wheeler Opera House\, 320 E Hyman Ave\, Aspen\, CO\, 81611\, United States
CATEGORIES:Concert
ATTACH;FMTTYPE=image/jpeg:https://wheeleroperahouse.com/app/uploads/2026/04/Tom-Rush-1200-x-800.jpg
END:VEVENT
BEGIN:VEVENT
DTSTART;TZID=America/Denver:20261212T200000
DTEND;TZID=America/Denver:20261212T200000
DTSTAMP:20260423T165129
CREATED:20250508T150012Z
LAST-MODIFIED:20260409T144750Z
UID:10001587-1797105600-1797105600@wheeleroperahouse.com
SUMMARY:Ismo: Perseverence Tour
DESCRIPTION:ISMO is an internationally acclaimed comedian\, author\, rally driver and master of wordplay. Freshly recovered from a broken back\, Finland’s funniest export is back on stage and better than ever! ISMO: Perseverance Tour blends clever wit with Finnish grit for a comedy experience that’s smart\, surprising and seriously funny. \nGlobally recognized as THE voice of all second -language English speakers\, ISMO has won over audiences in person and online with his sharp takes on language\, culture and life’s absurdities. ISMO: Perseverance Tour kicks off in 2026 with all new material and observations in the Finnish spirit of SISU – having a stoic determination\, tenacity\, and resilience in the face of adversity. Perseverance. ISMO plans to bring the Perseverance Tour to the U.S. Canada\, Australia\, Europe\, Middle East\, South Africa and Asia in 2026. \nSince moving to the U.S.\, ISMO has made numerous TV appearances on NBC\, CBS\, Just For Laughs\, Top Gear Finland. His debut\, iconic stand up set on Conan went viral with over 135 million views. The following year he was invited to perform on The Late Late Show with James Corden\, sparking massive growth across social media. Follow ISMO on social media for weekly viral stand-up clips and behind-the-scenes moments: @ISMOcomedy\nFor tour dates\, merch and more\, visit: ismo.fun
URL:https://wheeleroperahouse.com/event/ismo/
LOCATION:Wheeler Opera House\, 320 E Hyman Ave\, Aspen\, CO\, 81611\, United States
CATEGORIES:Comedy
ATTACH;FMTTYPE=image/jpeg:https://wheeleroperahouse.com/app/uploads/2025/05/Ismo-1200-x-800-1.jpg
END:VEVENT
END:VCALENDAR