BEGIN:VCALENDAR
VERSION:2.0
PRODID:-//Wheeler Opera House - ECPv6.15.18//NONSGML v1.0//EN
CALSCALE:GREGORIAN
METHOD:PUBLISH
X-WR-CALNAME:Wheeler Opera House
X-ORIGINAL-URL:https://wheeleroperahouse.com
X-WR-CALDESC:Events for Wheeler Opera House
REFRESH-INTERVAL;VALUE=DURATION:PT1H
X-Robots-Tag:noindex
X-PUBLISHED-TTL:PT1H
BEGIN:VTIMEZONE
TZID:America/Denver
BEGIN:DAYLIGHT
TZOFFSETFROM:-0700
TZOFFSETTO:-0600
TZNAME:MDT
DTSTART:20220313T090000
END:DAYLIGHT
BEGIN:STANDARD
TZOFFSETFROM:-0600
TZOFFSETTO:-0700
TZNAME:MST
DTSTART:20221106T080000
END:STANDARD
BEGIN:DAYLIGHT
TZOFFSETFROM:-0700
TZOFFSETTO:-0600
TZNAME:MDT
DTSTART:20230312T090000
END:DAYLIGHT
BEGIN:STANDARD
TZOFFSETFROM:-0600
TZOFFSETTO:-0700
TZNAME:MST
DTSTART:20231105T080000
END:STANDARD
BEGIN:DAYLIGHT
TZOFFSETFROM:-0700
TZOFFSETTO:-0600
TZNAME:MDT
DTSTART:20240310T090000
END:DAYLIGHT
BEGIN:STANDARD
TZOFFSETFROM:-0600
TZOFFSETTO:-0700
TZNAME:MST
DTSTART:20241103T080000
END:STANDARD
BEGIN:DAYLIGHT
TZOFFSETFROM:-0700
TZOFFSETTO:-0600
TZNAME:MDT
DTSTART:20250309T090000
END:DAYLIGHT
BEGIN:STANDARD
TZOFFSETFROM:-0600
TZOFFSETTO:-0700
TZNAME:MST
DTSTART:20251102T080000
END:STANDARD
END:VTIMEZONE
BEGIN:VEVENT
DTSTART;TZID=America/Denver:20241114T170000
DTEND;TZID=America/Denver:20241114T183000
DTSTAMP:20260423T165447
CREATED:20241028T172604Z
LAST-MODIFIED:20241111T170337Z
UID:10000562-1731603600-1731609000@wheeleroperahouse.com
SUMMARY:Wheeler Season Announcement
DESCRIPTION:Whether you’ve seen one show at the Wheeler or one hundred\, there’s nothing better than getting excited for a new season.  On Thursday November 14\, from 5:00-6:30\, join us in The Vault at the Wheeler. \n\nBe among the first to know the 2025 season lineup\, including Aspen Laugh Festival!\nBecome a Wheeler Insider! We’re launching a new Local’s Program. (Hint: Bring your driver’s license.)\nMeet the new Wheeler Executive Director\, Mike Harrington.\nMingle with fellow arts enthusiasts and make plans for events at the Wheeler in 2025.\n\nDoors open at 5:00pm; Season presentation by starts at 5:30pm.
URL:https://wheeleroperahouse.com/event/wheeler-season-announcement/
LOCATION:The Vault at the Wheeler\, 320 E Hyman Ave\, Aspen\, CO\, 81611\, United States
ATTACH;FMTTYPE=image/png:https://wheeleroperahouse.com/app/uploads/2024/10/Season-Announce-Party-just-the-title-v3-WhWebsite.png
END:VEVENT
BEGIN:VEVENT
DTSTART;TZID=America/Denver:20241025T193000
DTEND;TZID=America/Denver:20241025T193000
DTSTAMP:20260423T165447
CREATED:20240710T150052Z
LAST-MODIFIED:20240930T143620Z
UID:10000548-1729884600-1729884600@wheeleroperahouse.com
SUMMARY:Consensual Improv
DESCRIPTION:Consensual Improv returns to the Wheeler with a very special Halloween Spooktacular!\nConsensual Improv formed in 2016 and has been winging it ever since. Composed of comedians and actors living in Colorado’s Roaring Fork Valley\, their shows are an interactive and hilarious journey with the audience at the helm. The group has been a regular at the Aspen Laugh Festival and shared the bill with Trevor Noah\, Second City\, and the late\, great Norm MacDonald. Current members include Al Atkinson\, Kristin Carlson\, Gerald DeLisser\, Eliphalet (Miller) Ford\, Nina Gabianelli\, Emily Henley\, Ryan Honey\, Brian Keleher\, Mike Monroney\, Zoe Rom\, Jeff Patterson\, Jack Trembath\, and Cassidy Willey. \nVisit www.theconsensualimprov.com and learn more about how they are making the funny happen. \nThis performance will take place in The Vault bar lobby at the Wheeler. \n \n 
URL:https://wheeleroperahouse.com/event/consensual-improv/
LOCATION:Wheeler Opera House\, 320 E Hyman Ave\, Aspen\, CO\, 81611\, United States
CATEGORIES:Comedy
ATTACH;FMTTYPE=image/png:https://wheeleroperahouse.com/app/uploads/2024/07/CI-Halloween-Spooktacular-2-1200-x-800.png
END:VEVENT
BEGIN:VEVENT
DTSTART;TZID=America/Denver:20240224T193000
DTEND;TZID=America/Denver:20240224T193000
DTSTAMP:20260423T165447
CREATED:20231227T150056Z
LAST-MODIFIED:20240131T230612Z
UID:10000137-1708803000-1708803000@wheeleroperahouse.com
SUMMARY:Aspen Laugh Festival - Reggie Watts
DESCRIPTION:Get ready for a mind-bending finale as Reggie Watts\, the internationally renowned Musician/Comedian/Writer/Actor\, takes center stage to close the Aspen Laugh Festival 2024. Widely recognized for his role as the bandleader on CBS’s “The Late Late Show with James Corden\,” Watts seamlessly blurs the lines between music and comedy\, delivering 100% improvised performances that leave audiences in awe. \nRecently making waves as the DJ at the 2021 Emmy Awards\, Watts continues to push boundaries. His first Netflix special\, “Spatial\,” received massive critical acclaim\, with The New York Times hailing it as “a giddy rush of escapist nonsense\,” and dubbing Watts “the most influential absurdist in comedy today.” A solo performer with a unique musical/comedy fusion\, Watts has led sold-out headlining tours in the U.S. and Europe\, gracing stages at renowned festivals such as Bonnaroo\, SXSW\, and Just For Laughs. \nIn 2020\, Watts launched his content app\, WattsApp\, providing a techno-savvy glimpse into his life and work. The app features original content\, including the show “Droneversations\,” where he interviews guests filmed by drones. Watts’ comedic journey began with his debut special\, “Why Shit So Crazy?” on Comedy Central Records\, followed by the critically acclaimed “Reggie Watts: A Live At Central Park.” His memoir\, “Great Falls\, MT\,” published by Penguin’s Tiny Reparations imprint\, adds another dimension to Watts’ multifaceted career. \nBorn in Germany\, raised in Montana\, and currently residing in Los Angeles\, Reggie Watts promises a finale that transcends the ordinary—a fitting end to the laughter-filled celebration at the Aspen Laugh Festival. \n\nOpener \nChris Turner is a British comedian and freestyle rapper\, with over 40 million views on YouTube thanks to his jaw-dropping improvisational talent. Chris is the first comedian to ever have performed with Cirque Du Soleil in Las Vegas\, while his appearance on The Late Show with Stephen Colbert earned him a rapturous standing ovation. A regular headline act at New York’s world famous Comedy Cellar\, Chris’ shows combine freestyle rap\, musical comedy\, and stand-up for a unique and unmissable live experience that must be seen to be believed. \n“The UK’s finest freestyle rapper” –Fox Sports\n\n“A virtuoso…a hip-hop machine” –Guardian \n“Very funny\, uniquely appealing…nobody on a Vegas stage does what Chris Turner does” -Las Vegas Review-Journal
URL:https://wheeleroperahouse.com/event/reggie-watts/
LOCATION:Wheeler Opera House\, 320 E Hyman Ave\, Aspen\, CO\, 81611\, United States
CATEGORIES:Comedy,Stand-Up
ATTACH;FMTTYPE=image/jpeg:https://wheeleroperahouse.com/app/uploads/2023/12/AspenLaughFest2024_Reggie_Watts.jpeg
END:VEVENT
BEGIN:VEVENT
DTSTART;TZID=America/Denver:20240223T193000
DTEND;TZID=America/Denver:20240223T193000
DTSTAMP:20260423T165447
CREATED:20231227T150001Z
LAST-MODIFIED:20240118T191901Z
UID:10000136-1708716600-1708716600@wheeleroperahouse.com
SUMMARY:Aspen Laugh Festival - Patti Harrison
DESCRIPTION:Prepare for laughter as Patti Harrison\, the rising star of comedy\, graces the Aspen Laugh Festival 2024 stage. Currently captivating audiences in the Sundance hit comedy “Theater Camp\,” Patti’s star continues to rise with outstanding performances in notable films like “The Lost City” and Nikole Beckwith’s “Together Together\,” earning her a nomination for the Independent Spirit Award for Best Female Lead. \nHailing from rural Ohio\, Patti made her mark in the NYC comedy scene and quickly gained recognition with her sociopathic character “Ruthie” on Hulu’s “Shrill” and appearances on popular shows like “I Think You Should Leave with Tim Robinson\,” “High Maintenance\,” and “The Tonight Show with Jimmy Fallon.” As a versatile talent\, she’s written for series like “Big Mouth” on Netflix and voiced characters in Disney’s “Raya and the Last Dragon.” \nPatti’s comedic brilliance extends to the small screen\, with current and upcoming appearances on HBO Max’s “Made for Love\,” Disney+’s “She Hulk\,” and notable film projects like Netflix’s “Electric State” and the independent film “Turn Me On.” 
URL:https://wheeleroperahouse.com/event/patti-harrison/
LOCATION:Wheeler Opera House\, 320 E Hyman Ave\, Aspen\, CO\, 81611\, United States
CATEGORIES:Comedy,Stand-Up
ATTACH;FMTTYPE=image/jpeg:https://wheeleroperahouse.com/app/uploads/2023/12/AspenLaughFest2024_Patti_Harrison.jpeg
END:VEVENT
BEGIN:VEVENT
DTSTART;TZID=America/Denver:20240222T193000
DTEND;TZID=America/Denver:20240222T193000
DTSTAMP:20260423T165447
CREATED:20231227T150018Z
LAST-MODIFIED:20240131T230402Z
UID:10000135-1708630200-1708630200@wheeleroperahouse.com
SUMMARY:Aspen Laugh Festival - Beth Stelling
DESCRIPTION:Embark on a laughter-filled journey with Beth Stelling\, a standout comedian\, and force to be reckoned with in the comedy world. With her one-hour stand-up special\, “If You Didn’t Want Me Then\,” currently streaming on Netflix\, Beth showcases her comedic prowess and storytelling finesse. Originating from Chicago\, Beth quickly rose to prominence\, earning the title of “Best Stand-up Comedian in Chicago” by The Chicago Reader in 2010. A mere three years into her comedy career\, she became a New Face of Comedy at Montreal’s renowned Just for Laughs Festival. \nIn 2011\, Beth made a mark in Los Angeles where she seamlessly transitioned from making her late-night TV debut on “Conan” to releasing her debut album\, “Sweet Beth.” Her comedic talent caught the eye of Jimmy Kimmel\, leading to a performance on “Jimmy Kimmel Live” after he witnessed her stand-up at the Upright Citizens Brigade in Los Angeles. Beth’s journey continued with her Comedy Central half-hour special in Boston\, recognized as one of the “Best Stand-up Specials of 2015” by Vulture. Her Netflix special\, part of “The Standups” series\, received critical acclaim\, prompting HBO Max to feature her first-hour stand-up special\, “Girl Daddy\,” produced by Conan O’Brien and Team Coco\, earning praise from The New York Times as “The Best Debut Special of the year.” \nBeyond the stage\, Beth has showcased her versatility as a writer on various projects\, including “I Love You\, America” with Sarah Silverman and HBO’s “Crashing.” Her podcast\, “We Called Your Mom\,” co-hosted with her mom Diane\, has gained popularity on Apple Podcasts and Spotify. As a go-to hire for punch-ups on feature films\, Beth’s comedic genius extends to the big screen\, highlighted by her role as Ms. Fish on Peacock’s comedy “Rutherford Falls.”  \n\nOpener \nJanae Burris (Just For Laughs/NBC First Look) is a comedian\, actor and event host in Denver\, Colorado. In 2020\, Janae was also a house sitter\, nanny and dog walker who performed lots of Zoom comedy from the comfort of her well-lit bathroom. (It was a weird year y’all.) She is a South Los Angeles native and a California Institute of the Arts alumna. Since moving to Colorado Janae has performed with Local Theater Co.\, Colorado Shakespeare Fest\, The Denver Center for Performing Arts and most recently the starring role in Aurora Fox Theater’s “Queens Girl In The World”. Her years growing up in one of L.A.’s most notorious neighborhoods\, combined with her training in avant garde theater make Janae’s comedy style something similar to a one-woman show\, a perfect fit for Shit Talk Tours\, which she hosts regularly at the Museum of Contemporary Art in Denver.  \nShe has opened for nationally touring comics Michael Che\, Roy Wood Jr.\, Beth Stelling\, Josh Blue and Gary Gulman to name a few.  Janae has been featured at Portland’s Bridgetown Comedy Festival\, Limestone Comedy Festival in Bloomington Ind\, Telluride Blues Fest and High Plains Comedy Festival in Denver as well as headlining at Ha Ha Harvest in Portland and Aspen Laugh Fest. Janae is a 2019 Just For Laughs New Face. She is a “Pro” on the coveted regulars list at Comedy Works in Denver as well as the 2016 Comedy Works New Faces Champ. She has showcased at NACA West\, Midwest and Central. She is a founding member of Pussy Bros\, her stand up comedy girl gang with Christie Buchele and Rachel Weeks\, who made their television debut on NBC’s First Look. (Ok\, technically her first TV appearance was on Family Feud where she lost her shot at $10\, 000 because what they don’t tell you on FF is that the real feud is between you and your own damn family.)
URL:https://wheeleroperahouse.com/event/beth-stelling/
LOCATION:Wheeler Opera House\, 320 E Hyman Ave\, Aspen\, CO\, 81611\, United States
CATEGORIES:Comedy,Stand-Up
ATTACH;FMTTYPE=image/jpeg:https://wheeleroperahouse.com/app/uploads/2023/12/AspenLaughFest2024_Beth_1200x800_.jpeg
END:VEVENT
BEGIN:VEVENT
DTSTART;TZID=America/Denver:20240221T193000
DTEND;TZID=America/Denver:20240224T193000
DTSTAMP:20260423T165447
CREATED:20231227T150059Z
LAST-MODIFIED:20240212T153335Z
UID:10000138-1708543800-1708803000@wheeleroperahouse.com
SUMMARY:Aspen Laugh Festival 2024
DESCRIPTION:The Wheeler Opera House is tickled to unveil the highly anticipated Aspen Laugh Festival 2024 lineup!  From sidesplitting anecdotes to clever wit\, this festival promises an unforgettable experience that transcends boundaries and speaks to a diverse audience. At the Wheeler\, we believe in the power of laughter as the best medicine\, and this lineup is a testament to the joyous tradition of comedy that has graced our historic venue since its opening in April 1889 with a hilarious production of “A King’s Fool.” \nWhile humor reverberates through our halls year-round\, February 21 through 24 holds a special place in our hearts as we present the Aspen Laugh Festival. Featuring the comedic brilliance of Patton Oswalt\, Beth Stelling\, Patti Harrison\, and Reggie Watts\, this lineup is guaranteed to tickle your funny bone and leave you laughing in the aisles. \nFestival Pass includes entry and general admission seating for each festival headline event. \n 
URL:https://wheeleroperahouse.com/event/aspen-laugh-festival-pass/
LOCATION:Wheeler Opera House\, 320 E Hyman Ave\, Aspen\, CO\, 81611\, United States
CATEGORIES:Comedy,Stand-Up
ATTACH;FMTTYPE=image/jpeg:https://wheeleroperahouse.com/app/uploads/2023/12/AspenLaughFest2024_1200x800_v1.jpg
END:VEVENT
BEGIN:VEVENT
DTSTART;TZID=America/Denver:20240221T193000
DTEND;TZID=America/Denver:20240221T193000
DTSTAMP:20260423T165447
CREATED:20231227T150053Z
LAST-MODIFIED:20240131T225200Z
UID:10000134-1708543800-1708543800@wheeleroperahouse.com
SUMMARY:Aspen Laugh Festival - Patton Oswalt
DESCRIPTION:Prepare for a comedic feast as the Aspen Laugh Festival 2024 kicks off with the one and only Patton Oswalt. With an illustrious career spanning across comedy specials\, television\, and film\, Oswalt continues to leave an indelible mark on the entertainment industry. His recent Netflix special\, “We All Scream\,” not only marked his directorial debut but also earned him a Grammy® nomination\, adding to his impressive accolades. Oswalt’s versatile talent extends to the big screen\, with standout performances in films like “Young Adult\,” for which he received a Critics Choice Award nomination\, and “Big Fan\,” earning him critical acclaim and a Gotham Award nomination. \nIn the realm of television\, Oswalt has graced audiences with memorable roles on iconic shows such as “Parks and Recreation\,” earning him a TV Critics Choice Award\, and “The King of Queens\,” where he played ‘Spence’ for nine seasons. His voice work in animations\, including ‘Remy’ in Pixar’s Oscar® winner “Ratatouille” and ‘Max’ in “The Secret Life of Pets 2\,” has solidified him as a sought-after talent in the industry. Oswalt’s comedic prowess has not gone unnoticed\, with multiple Grammy and Emmy® nominations\, including a win for ‘Outstanding Writing for a Variety Special’ for his sixth comedy special\, “Talking for Clapping.”  \n\nOpener \nOrlando Leyba is a Dominican American actor and stand-up comedian who connects with all audiences through his unique life experience and perspective and undeniable likability. Orlando has become a regular at comedy festivals and touring nationwide at clubs throughout the U.S and Canada. Most recently\, Orlando was featured in NBC’s BRING THE FUNNY. His HBO stand-up special ORLANDO LEBYA: ADORABLE\, premiered on HBO Latino and is now on HBO Max. In addition to touring nationwide\, Orlando recurs in truTV’s LAFF MOBB LAFF TRACKS\, both performing stand-up and acting in his re-enactment stories. He has made appearances on NBC?s THE TONIGHT SHOW STARRING JIMMY FALLON and was featured on HBO’s ENTRE NOS: PART 3. And he voices the role of “Wabo” alongside Will Forte and Lea Thompson in the animated feature LUIS & THE ALIENS.
URL:https://wheeleroperahouse.com/event/patton-oswalt/
LOCATION:Wheeler Opera House\, 320 E Hyman Ave\, Aspen\, CO\, 81611\, United States
CATEGORIES:Comedy,Stand-Up
ATTACH;FMTTYPE=image/jpeg:https://wheeleroperahouse.com/app/uploads/2023/12/AspenLaughFest2024_Patton_Oswalt.jpeg
END:VEVENT
BEGIN:VEVENT
DTSTART;TZID=America/Denver:20240118T210000
DTEND;TZID=America/Denver:20240118T210000
DTSTAMP:20260423T165447
CREATED:20231102T134647Z
LAST-MODIFIED:20240116T214725Z
UID:10000119-1705611600-1705611600@wheeleroperahouse.com
SUMMARY:AspenOUT/AGSW - Frenemies: A Fierce\, Fabulous\, & Funny Show
DESCRIPTION:AspenOUT and AGSW present a night of Laughs\, Tears\, and Sassy Fun starring Brendan Scannell and Mariam T plus Friends. \nBrendan is an actor\, writer\, and comedian most known for his starring role in the Netflix dark comedy series Bonding\, for which he was nominated for an Emmy for Outstanding Actor in a Short Form Comedy or Drama Series. He previously co-starred in Heathers\, Paramount Network’s TV adaptation of the cult classic film. Scannell also appeared in BJ Novak’s FX anthology series The Premise\, opposite Kaitlyn Dever and Lucas Hedges. Other acting credits include Diary of a Future President\, Aunty Donna’s House of Fun\, and the feature films Bromates on Hulu and indie rom-com Straight Up on Netflix. He is currently developing at HBO and has developed pilots for ABC and AppleTV+\, and he was a 2019 “New Face” at Montreal’s Just For Laughs Comedy Festival. Additionally\, his standup and sketch comedy videos for Comedy Central have over 10 million views on YouTube. You can follow him at @bscan on IG. \nMariam T is our sassy clown in a gown who has just come off her one woman show in San Diego. You’ll laugh and cry at her freshly minted material brought to you alongside her talented sisters Naomi Daniels and Ella Mentry.
URL:https://wheeleroperahouse.com/event/aspenout-agsw-frenemies-a-fierce-fabulous-funny-show/
LOCATION:Wheeler Opera House\, 320 E Hyman Ave\, Aspen\, CO\, 81611\, United States
CATEGORIES:Comedy
ATTACH;FMTTYPE=image/jpeg:https://wheeleroperahouse.com/app/uploads/2023/11/wheeler-agsw-frenemies-1200x800-1.jpg
END:VEVENT
BEGIN:VEVENT
DTSTART;TZID=America/Denver:20231231T180000
DTEND;TZID=America/Denver:20231231T180000
DTSTAMP:20260423T165447
CREATED:20231110T170017Z
LAST-MODIFIED:20231230T194723Z
UID:10000123-1704045600-1704045600@wheeleroperahouse.com
SUMMARY:New Year's Eve at the Wheeler with Carbonaro: Lies on Stage
DESCRIPTION:Best known as the star and executive producer of the immensely popular series\, The Carbonaro Effect on truTV\, Michael Carbonaro has also made notable television appearances in well-loved shows like Happily Divorced\, 30 Rock\, Grey’s Anatomy\, and CSI Miami. A performing magician since his youth\, Carbonaro went on to study experimental theater at New York University with aspirations of entertaining audiences through a variety of theatrical mediums\, including hidden-camera magic\, which he later showcased frequently on The Tonight Show with Jay Leno. \nFollowing his numerous late-night appearances\, Michael introduced his hit comedy series\, The Carbonaro Effect\, which has exceeded 100 episodes on truTV and currently airs on Max and in syndication worldwide. In this series\, Michael astounds unsuspecting members of the public with innovative tricks\, all while they remain blissfully unaware of his magical prowess. Whether he’s making a car vanish from under a security guard’s nose or turning alien crabs into kittens in a science lab\, Carbonaro’s illusions\, combined with his humorous and matter-of-fact explanations\, consistently bewilder real people and leave families at home in fits of laughter. \nCelebrate New Year’s Eve at the Wheeler with this special early show.  This family-friendly performance gets you back out on the town to enjoy the fireworks on Aspen mountain.
URL:https://wheeleroperahouse.com/event/new-years-eve-at-the-wheeler-with-carbonaro-lies-on-stage/
LOCATION:Wheeler Opera House\, 320 E Hyman Ave\, Aspen\, CO\, 81611\, United States
CATEGORIES:Family,Magic
ATTACH;FMTTYPE=image/jpeg:https://wheeleroperahouse.com/app/uploads/2023/11/Carbonara_Digital_1200x800_v1.jpg
END:VEVENT
BEGIN:VEVENT
DTSTART;TZID=America/Denver:20231226T213000
DTEND;TZID=America/Denver:20231226T213000
DTSTAMP:20260423T165447
CREATED:20231110T170014Z
LAST-MODIFIED:20231114T171942Z
UID:10000125-1703626200-1703626200@wheeleroperahouse.com
SUMMARY:Becky Robinson The “She Gone” Tour (9:30 PM)
DESCRIPTION:She’s baaack\, and “She Gone!” And that’s right\, we’ve added a second show of Becky Robinson\, Entitled Housewife and more creative characters return to the Wheeler stage. \nGet your divots and your giggle quotas filled by witnessing the most action-packed\, one-woman show in existence. \nOriginally from Portland\, Oregon\, Becky Robinson is an LGBTQ+ LA-based comedian\, writer\, actor\, and voice-over star. You may also know her for the “Entitled Housewife\,” the outspoken viral golf character Becky created. Becky’s explosively unique character antics and viral videos have racked up millions of views and fans across social media. In addition to touring internationally as a stand-up comedian\, Becky was named a Just For Laughs Montreal New Face of Comedy where her stand-out multi-character performance landed her a sketch show development deal and many voiceover jobs with DreamWorks\, Nickelodeon\, and Netflix.
URL:https://wheeleroperahouse.com/event/becky-robinson-the-she-gone-tour-930-pm/
LOCATION:CO
CATEGORIES:Comedy
ATTACH;FMTTYPE=image/jpeg:https://wheeleroperahouse.com/app/uploads/2023/11/BeckyRobinson_Digital_1200x800_v3.jpg
END:VEVENT
BEGIN:VEVENT
DTSTART;TZID=America/Denver:20230815T193000
DTEND;TZID=America/Denver:20230815T193000
DTSTAMP:20260423T165447
CREATED:20230606T163951Z
LAST-MODIFIED:20230606T224722Z
UID:10000082-1692127800-1692127800@wheeleroperahouse.com
SUMMARY:Consensual Improv in The Vault
DESCRIPTION:Consensual Improv was formed in 2016 and has been winging it ever since. Composed of comedians and actors living in Colorado’s Roaring Fork Valley\, their shows are an interactive and hilarious journey with the audience at the helm. The group has been a regular at the Aspen Laugh Festival and shared the bill with Trevor Noah\, Second City\, and the late\, great Norm MacDonald. Current members include Al Atkinson\, Kristin Carlson\, Gerald DeLisser\, Eliphalet (Miller) Ford\, Nina Gabianelli\, Emily Henley\, Ryan Honey\, Brian Keleher\, Mike Monroney\, Zoe Rom\, Jeff Patterson\, Jack Trembath\, and Cassidy Willey. \n“We are really excited to be back for a show in the Wheeler Vault\,” said Ryan Honey\, long-time Consensual Improv cast member. “The Aspen audiences are always a blast\, and for the members of Consensual Improv that live in Aspen\, it’s especially convenient. So convenient\, in fact\, those very same members have declared August 15 Bike-to-Work-Day. How nice for them. The rest of us will start training now\, so we are in good enough shape to bike to Aspen\, be hilarious\, and then bike home. If you’ll excuse me\, I need to get on my Peloton.”
URL:https://wheeleroperahouse.com/event/consensual-improv-in-the-vault/
LOCATION:The Vault at the Wheeler\, 320 E Hyman Ave\, Aspen\, CO\, 81611\, United States
CATEGORIES:Comedy
ATTACH;FMTTYPE=image/jpeg:https://wheeleroperahouse.com/app/uploads/2023/06/ConsensualImprov_Digital_1200x800_v1.jpg
END:VEVENT
END:VCALENDAR