BEGIN:VCALENDAR
VERSION:2.0
PRODID:-//Wheeler Opera House - ECPv6.15.18//NONSGML v1.0//EN
CALSCALE:GREGORIAN
METHOD:PUBLISH
X-WR-CALNAME:Wheeler Opera House
X-ORIGINAL-URL:https://wheeleroperahouse.com
X-WR-CALDESC:Events for Wheeler Opera House
REFRESH-INTERVAL;VALUE=DURATION:PT1H
X-Robots-Tag:noindex
X-PUBLISHED-TTL:PT1H
BEGIN:VTIMEZONE
TZID:America/Denver
BEGIN:DAYLIGHT
TZOFFSETFROM:-0700
TZOFFSETTO:-0600
TZNAME:MDT
DTSTART:20240310T090000
END:DAYLIGHT
BEGIN:STANDARD
TZOFFSETFROM:-0600
TZOFFSETTO:-0700
TZNAME:MST
DTSTART:20241103T080000
END:STANDARD
BEGIN:DAYLIGHT
TZOFFSETFROM:-0700
TZOFFSETTO:-0600
TZNAME:MDT
DTSTART:20250309T090000
END:DAYLIGHT
BEGIN:STANDARD
TZOFFSETFROM:-0600
TZOFFSETTO:-0700
TZNAME:MST
DTSTART:20251102T080000
END:STANDARD
BEGIN:DAYLIGHT
TZOFFSETFROM:-0700
TZOFFSETTO:-0600
TZNAME:MDT
DTSTART:20260308T090000
END:DAYLIGHT
BEGIN:STANDARD
TZOFFSETFROM:-0600
TZOFFSETTO:-0700
TZNAME:MST
DTSTART:20261101T080000
END:STANDARD
END:VTIMEZONE
BEGIN:VEVENT
DTSTART;TZID=America/Denver:20250202T190000
DTEND;TZID=America/Denver:20250202T190000
DTSTAMP:20260424T115047
CREATED:20241119T180057Z
LAST-MODIFIED:20250106T190100Z
UID:10000565-1738522800-1738522800@wheeleroperahouse.com
SUMMARY:Tom Papa: Grateful Bread Tour
DESCRIPTION:With over two decades of experience\, Tom Papa stands out as one of the nation’s most beloved comedic voices. Known for his relatable humor and keen observations\, Tom has had six highly acclaimed stand-up specials\, including his latest Netflix hit “Home Free”. In this special\, filmed at the iconic Warner Theatre in Washington\, D.C.\, he hilariously navigates life as an empty-nester\, tackling the absurdity of everyday experiences. Other celebrated specials like “You’re Doing Great!” and “Human Mule” have solidified his place in comedy\, with two of his specials directed by the legendary Rob Zombie. \nBeyond the stage\, Tom is a multifaceted entertainer. He’s authored three comedic books\, with his latest\, “We’re All In This Together…So Make Some Room”\, aiming to unite us through humor. He also hosts the insightful “Breaking Bread with Tom Papa” podcast and co-hosts the Netflix radio show “What A Joke With Papa And Fortune” on SiriusXM. Fans will recognize him from film roles in “The Informant and Analyze That”\, and his Emmy-winning collaboration on HBO’s “Behind the Candelabra”. \nGet Ready for Tom Papa’s “Grateful Bread Tour” as he brings laughter and heartwarming stories to the stage.
URL:https://wheeleroperahouse.com/event/tom-papa/
LOCATION:Wheeler Opera House\, 320 E Hyman Ave\, Aspen\, CO\, 81611\, United States
CATEGORIES:Comedy,Stand-Up
ATTACH;FMTTYPE=image/jpeg:https://wheeleroperahouse.com/app/uploads/2024/11/Tom-Papa-1200X800.jpg
END:VEVENT
BEGIN:VEVENT
DTSTART;TZID=America/Denver:20250221T190000
DTEND;TZID=America/Denver:20250221T190000
DTSTAMP:20260424T115047
CREATED:20241115T010032Z
LAST-MODIFIED:20241219T234930Z
UID:10000577-1740164400-1740164400@wheeleroperahouse.com
SUMMARY:Colin Cloud: Mastermind
DESCRIPTION:Colin Cloud: Mastermind\nPrepare to be astonished as Colin Cloud\, the world-renowned mentalist and master of deduction\, brings his critically acclaimed show Mastermind to the Wheeler Opera House for one exclusive night. Dubbed the “Real-Life Sherlock Holmes\,” Colin Cloud has captivated audiences across the globe\, from London’s West End and Broadway to his headlining residency on the Las Vegas Strip. Known for his jaw-dropping ability to read people’s minds\, influence their choices\, and bend reality\, Cloud’s show is an electrifying blend of psychological illusion\, razor-sharp wit\, and interactive audience experiences. \nHave you ever wondered what your partner is really thinking or how someone could possibly know your secrets? Colin Cloud will leave you stunned as he reveals your thoughts\, predicts your actions\, and crafts an evening of thrilling surprises. His performances have astounded millions on America’s Got Talent\, Ellen\, and The Today Show\, where his mastery of the human mind has left both celebrities and audiences speechless. With accolades from critics like “Slick\, Skillful and Utterly Compelling!” (EdinburghSpotlight.com) and endorsements from stars like Simon Cowell\, who declared\, “Together we could take over the world\,” Cloud’s act is a spectacle not to be missed. \nGet ready to experience the impossible\, as Colin Cloud transforms the Wheeler Opera House into a playground of the mind\, filled with laughter\, suspense\, and unforgettable moments. This performance promises to be one of the most thrilling and entertaining events of the year—secure your tickets now and prepare to have your mind blown! \nThis performance is suitable for ages 10 and up.
URL:https://wheeleroperahouse.com/event/colin-cloud-mastermind/
LOCATION:Wheeler Opera House\, 320 E Hyman Ave\, Aspen\, CO\, 81611\, United States
CATEGORIES:Magic
ATTACH;FMTTYPE=image/png:https://wheeleroperahouse.com/app/uploads/2024/11/WOH-JPG-1200-x-800-9-Colin-Cloud.png
END:VEVENT
END:VCALENDAR