BEGIN:VCALENDAR
VERSION:2.0
PRODID:-//Wheeler Opera House - ECPv6.15.18//NONSGML v1.0//EN
CALSCALE:GREGORIAN
METHOD:PUBLISH
X-ORIGINAL-URL:https://wheeleroperahouse.com
X-WR-CALDESC:Events for Wheeler Opera House
REFRESH-INTERVAL;VALUE=DURATION:PT1H
X-Robots-Tag:noindex
X-PUBLISHED-TTL:PT1H
BEGIN:VTIMEZONE
TZID:America/Denver
BEGIN:DAYLIGHT
TZOFFSETFROM:-0700
TZOFFSETTO:-0600
TZNAME:MDT
DTSTART:20240310T090000
END:DAYLIGHT
BEGIN:STANDARD
TZOFFSETFROM:-0600
TZOFFSETTO:-0700
TZNAME:MST
DTSTART:20241103T080000
END:STANDARD
BEGIN:DAYLIGHT
TZOFFSETFROM:-0700
TZOFFSETTO:-0600
TZNAME:MDT
DTSTART:20250309T090000
END:DAYLIGHT
BEGIN:STANDARD
TZOFFSETFROM:-0600
TZOFFSETTO:-0700
TZNAME:MST
DTSTART:20251102T080000
END:STANDARD
BEGIN:DAYLIGHT
TZOFFSETFROM:-0700
TZOFFSETTO:-0600
TZNAME:MDT
DTSTART:20260308T090000
END:DAYLIGHT
BEGIN:STANDARD
TZOFFSETFROM:-0600
TZOFFSETTO:-0700
TZNAME:MST
DTSTART:20261101T080000
END:STANDARD
END:VTIMEZONE
BEGIN:VEVENT
DTSTART;TZID=America/Denver:20250311T173000
DTEND;TZID=America/Denver:20250311T173000
DTSTAMP:20260424T100440
CREATED:20241115T010048Z
LAST-MODIFIED:20250302T235955Z
UID:10000580-1741714200-1741714200@wheeleroperahouse.com
SUMMARY:Valley Comedy Showcase
DESCRIPTION:Valley Comedy Showcase\nKick off Aspen Laugh Festival 2025 with the Valley Comedy Showcase in The Vault at the Wheeler! Hosted by the hilarious Sarah Sanders and Julie Gillespie\, the showcase will feature five outstanding comics from our local community\, each bringing their unique style and wit to the stage. \nPrepare for an unforgettable evening of laughter and camaraderie as these talented comedians serve up quick wit\, punchy jokes\, and plenty of good vibes. The Valley Comedy Showcase is more than just a warm-up—it’s a celebration of the vibrant local comedy scene\, setting the perfect tone for the rest of the festival. Don’t miss this opportunity to support homegrown talent and start the festival on a high note with a night that promises endless laughs and great energy! \nPresented in partnership with The Collective Snowmass \n \nFeatured comedians:\nSarah Sanders\, Director of Events in Base Village and recently crowned Ms.Snowmass. Sarah has been in the valley comedy scene for over eight years. Creator of The Collective’s Snowmass Live Comedy Series and Snowmass’s summer comedy festival Comedy WKND. She has been performing comedy for the last four years and has fallen in love with being on stage in addition to producing. When she is not on stage you can find her curating tons of events for Snowmass or enjoying the mountains. \nJulie Gillespie\, an Austin native turned Roaring Fork Valley local\, has spent more than a decade making friends\, cracking jokes\, and pretending she’s a billionaire. A natural entertainer\, she recently dove into the local comedy scene\, bringing her big personality\, sharp wit\, and questionable life choices to the stage. \nGarrett Hall\, winner of the 2023 Colorado Comedy Competition\, Hall cut his teeth in comedy on the Vegas strip and has been performing comedy across the states for the last seven years. His TV credits include Viceland\, CMT and VetTV. A former veteran\, and athlete he now takes to the stage to share his humor with the world. \nMiller Ford is a local comedy fixture. He is a founding member of Consensual Improv and Co-Founder of valley comedy series Patio Night Live. \nRyan Honey spent nearly 20 years in Los Angeles as an actor\, writer\, producer\, and comedian. He was part of Conan O’Brien’s sketch team for ‘Conan’ from 2012 to 2016\, made numerous appearances on film and TV\, and produced feature films that sold to Warner Brothers and Lionsgate. Currently\, Ryan runs TACAW\, a net-zero performing arts center that brings world-class performances to the Roaring Fork Valley. He regularly performs with Consensual Improv and has recently opened for Rory Scoval\, Noah Gardenswartz\, and Dino Archie as a stand-up.
URL:https://wheeleroperahouse.com/event/valley-comedy-showcase/
LOCATION:Wheeler Opera House\, 320 E Hyman Ave\, Aspen\, CO\, 81611\, United States
CATEGORIES:Comedy,Stand-Up
ATTACH;FMTTYPE=image/jpeg:https://wheeleroperahouse.com/app/uploads/2024/11/Valley-Comedy-Showcase.jpeg
END:VEVENT
BEGIN:VEVENT
DTSTART;TZID=America/Denver:20250311T200000
DTEND;TZID=America/Denver:20250311T200000
DTSTAMP:20260424T100440
CREATED:20241118T160022Z
LAST-MODIFIED:20250203T204458Z
UID:10000581-1741723200-1741723200@wheeleroperahouse.com
SUMMARY:Becky Robinson: Members Only Tour
DESCRIPTION:Get ready for an uproarious evening with Becky Robinson\, a local favorite returning to the Wheeler Opera House for the Aspen Laugh Festival 2025! As part of her “Members Only Tour”\, Becky brings her high-energy\, character-driven comedy to Aspen for a night of unhinged laughter. Originally from Portland\, Oregon\, Becky Robinson has skyrocketed from viral internet fame to sold-out theater shows across the country. Known for her explosively unique characters and spot-on impressions\, Becky has amassed millions of views on social media\, including her fan-favorite “Entitled Housewife” character\, which took the internet by storm during the pandemic. \nIn 2024\, Becky launched her “She Gone Tour\,” delighting audiences with her high-energy stand-up and original comedic songs like “Mama Needs a Claw.” A true multi-talent\, Becky has voiced characters for DreamWorks\, Nickelodeon\, and Netflix and currently stars as “Parker J. Cloud” in Nickelodeon’s “Middlemost Post.” You may also recognize her from “MTV’s Wild ’N Out\,” “The G Word with Adam Conover\,” and “Kevin Hart’s Writer’s Room.” \nDon’t miss the chance to see Becky Robinson live at the Aspen Laugh Festival\, where she’ll bring her signature blend of stand-up\, character comedy\, and infectious energy to the Wheeler stage. This is comedy at its most unhinged and hilarious! \n  \n 
URL:https://wheeleroperahouse.com/event/becky-robinson-members-only/
LOCATION:Wheeler Opera House\, 320 E Hyman Ave\, Aspen\, CO\, 81611\, United States
CATEGORIES:Comedy,Stand-Up
ATTACH;FMTTYPE=image/png:https://wheeleroperahouse.com/app/uploads/2024/11/ALF-4-Becky.png
END:VEVENT
BEGIN:VEVENT
DTSTART;TZID=America/Denver:20250312T173000
DTEND;TZID=America/Denver:20250312T173000
DTSTAMP:20260424T100440
CREATED:20241115T010012Z
LAST-MODIFIED:20241218T143626Z
UID:10000582-1741800600-1741800600@wheeleroperahouse.com
SUMMARY:Chloe Troast
DESCRIPTION:Chloe Troast\nAspen Laugh Festival welcomes Chloe Troast to The Vault at the Wheeler! As the only new cast member to join “Saturday Night Live” in Season 49\, Chloe is a rising star in the world of comedy. She was named a New Face at Just for Laughs 2023\, and her digital sketches\, like “Feminism Professor” and “Interesting Americans: Pepper Slit\,” have been profiled by Vulture. \nBeyond her comedy roots\, Chloe has made waves in film and TV\, with roles in the Amy Pascal feature film “Goodrich\,” starring Michael Keaton\, and a recurring part in Paul Feig’s ABC pilot “Drop Off\,” opposite Ellie Kemper. Keep an eye out for her in HBO Max’s “Sweethearts” and Judd Apatow’s “Please Don’t Destroy: The Treasure of Foggy Mountain\,” where she stars alongside Conan O’Brien\, Bowen Yang\, and Megan Stalter. \nDon’t miss Chloe Troast’s unique and hilarious performance\, where she brings her signature wit\, character-driven humor\, and a fresh comedic voice. 
URL:https://wheeleroperahouse.com/event/chloe-troast/
LOCATION:The Vault at the Wheeler\, 320 E Hyman Ave\, Aspen\, CO\, 81611\, United States
CATEGORIES:Comedy,Stand-Up
ATTACH;FMTTYPE=image/png:https://wheeleroperahouse.com/app/uploads/2024/11/ALF-1-Chloe.png
END:VEVENT
BEGIN:VEVENT
DTSTART;TZID=America/Denver:20250312T200000
DTEND;TZID=America/Denver:20250312T200000
DTSTAMP:20260424T100440
CREATED:20241115T010049Z
LAST-MODIFIED:20250124T175352Z
UID:10000583-1741809600-1741809600@wheeleroperahouse.com
SUMMARY:The Sklar Brothers
DESCRIPTION:The Sklar Brothers\nGet ready for a night of sharp wit and infectious laughter with The Sklar Brothers! Randy and Jason Sklar bring their unique brand of twin-based comedy to Aspen for an unforgettable night. Known for their hilarious commentary on sports\, pop culture\, and daily absurdities\, the Sklars have made a name for themselves with appearances on shows like HBO’s “Curb Your Enthusiasm\,” FX’s “It’s Always Sunny in Philadelphia\,” and Netflix’s “GLOW.” Their comedic timing and sibling banter have also been featured in movies like “Wild Hogs” and “Teacher of the Year.” \nBeyond acting\, Randy and Jason host two hit podcasts: “View from the Cheap Seats\,” blending sports and comedy\, and “Dumb People Town\,” a humor-filled look at human misadventures. Both podcasts showcase their knack for turning everyday situations into comedic gold. The Sklars have also written for “Comedy Central’s Not Safe” and performed memorable stand-up specials\, including “The Sklar Brothers: What Are We Talking About” on Netflix and “Hipster Ghosts” on Starz. \n \n 
URL:https://wheeleroperahouse.com/event/the-sklar-brothers/
LOCATION:Wheeler Opera House\, 320 E Hyman Ave\, Aspen\, CO\, 81611\, United States
CATEGORIES:Comedy,Stand-Up
ATTACH;FMTTYPE=image/png:https://wheeleroperahouse.com/app/uploads/2024/11/Sklar-Photo-USE.png
END:VEVENT
BEGIN:VEVENT
DTSTART;TZID=America/Denver:20250313T173000
DTEND;TZID=America/Denver:20250313T173000
DTSTAMP:20260424T100440
CREATED:20241115T010051Z
LAST-MODIFIED:20241218T143708Z
UID:10000584-1741887000-1741887000@wheeleroperahouse.com
SUMMARY:Michael Cruz Kayne "Sorry for your Loss"
DESCRIPTION:Michael Cruz Kayne “Sorry for your Loss”\nMichael Cruz Kayne presents “Sorry for Your Loss\,” a deeply moving yet hilariously heartfelt show in The Vault at the Wheeler. As a Filipino-American comedian\, actor\, and writer\, Michael has made audiences laugh on shows like “The Chris Gethard Show” and performed stand-up on “Late Night with Seth Meyers.” But life isn’t always funny. The loss of his young son profoundly changed his world and inspired this touching and comedic exploration of grief. \nIn “Sorry for Your Loss\,” Michael Cruz Kayne confronts the difficult questions around mortality: If everyone dies\, why does nobody talk about it? Balancing humor\, compassion\, and moments of raw honesty\, Michael finds a way to make the unbearable feel\, somehow\, bearable. \n“Breathtaking and funny… performed by a master writer/actor… can’t stop thinking about it.” – Gary Gulman\n“Absolutely gorgeous storytelling that will leave your heart both full and broken.” – Lea Salonga\nPlease note: Recommended for mature audiences.\nContent warning: This show discusses the loss of a child.
URL:https://wheeleroperahouse.com/event/michael-cruz-kayne-sorry-for-your-loss/
LOCATION:The Vault at the Wheeler\, 320 E Hyman Ave\, Aspen\, CO\, 81611\, United States
CATEGORIES:Comedy,Stand-Up
ATTACH;FMTTYPE=image/jpeg:https://wheeleroperahouse.com/app/uploads/2024/11/MCK-Headshot.jpg
END:VEVENT
BEGIN:VEVENT
DTSTART;TZID=America/Denver:20250314T200000
DTEND;TZID=America/Denver:20250314T200000
DTSTAMP:20260424T100440
CREATED:20241210T192454Z
LAST-MODIFIED:20250208T193255Z
UID:10000594-1741982400-1741982400@wheeleroperahouse.com
SUMMARY:Nurse John
DESCRIPTION:John Dela Cruz’s (a.k.a Nurse John’s) comedy is like talking to your work bestie; you trauma dump\, cry\, scream\, and laugh together through all the high and the lows of working in the service industry. It’s the feeling of relatability and instant relief that you are not crazy from experiencing all the roller coaster of emotions working short staffed while being underpaid\, undervalued\, and under appreciated. \nHis relatable humor helped him garner over 12 million besties & followers across the globe and growing each day in all his social media platforms. John also hosts ‘I Beg Your Pardon’; one of the top comedy podcasts in North America that currently has 3 million downloads and serves as a weekly therapy for many. It highlights all the good\, the bad\, and the ugly of working in healthcare and the service industry. An actual nurse by profession and an accidental comedian at heart\, his portrayal of life working in healthcare has\nproven hilariously relatable to those both in and out of the healthcare industry. \nJohn’s ability to combine reality\, truth\, and entertainment continues to inspire millions around the world that with enough caffeine\, medication\, and hydration…you too can make it to your next short staffed shift.
URL:https://wheeleroperahouse.com/event/nurse-john/
LOCATION:Wheeler Opera House\, 320 E Hyman Ave\, Aspen\, CO\, 81611\, United States
CATEGORIES:Comedy,Stand-Up
ATTACH;FMTTYPE=image/png:https://wheeleroperahouse.com/app/uploads/2024/12/1200-x-800-11-Nurse-John.png
END:VEVENT
BEGIN:VEVENT
DTSTART;TZID=America/Denver:20250315T150000
DTEND;TZID=America/Denver:20250315T150000
DTSTAMP:20260424T100440
CREATED:20241115T010006Z
LAST-MODIFIED:20241220T204229Z
UID:10000586-1742050800-1742050800@wheeleroperahouse.com
SUMMARY:Alex Zerbe: The Zaniac
DESCRIPTION:Get ready for laughs\, amazement\, and non-stop action as Aspen Laugh Festival presents its first-ever kids’ show with “The Zaniac” Alex Zerbe in The Vault at the Wheeler! Known for his incredible energy and wild antics\, Alex Zerbe brings a show perfect for kids 4 and up and families. With a career that spans two Guinness World Records and appearances on “America’s Got Talent” and “Last Comic Standing\,” Alex is a true “comedy beacon.” \nAlex’s show blends comedy\, juggling\, beatboxing\, magic\, and much more. Watch in awe as he juggles bowling balls and flaming torches\, slices vegetables in half with flying playing cards\, and bounces around the stage like an untamed rubber band. The Zaniac is here to entertain\, astonish\, and leave you in stitches.  \nWith the energy of ten thousand suns\, The Zaniac shines like a comedy beacon as he bounces from one end of the stage to the other like an untamed rubber band. Don’t miss this high-energy\, family-friendly performance that’s sure to be a festival highlight!
URL:https://wheeleroperahouse.com/event/alex-zerbe-the-zaniac/
LOCATION:The Vault at the Wheeler\, 320 E Hyman Ave\, Aspen\, CO\, 81611\, United States
CATEGORIES:Comedy,Family
ATTACH;FMTTYPE=image/png:https://wheeleroperahouse.com/app/uploads/2024/11/ALF-3-Alex-Zerbe.png
END:VEVENT
END:VCALENDAR