BEGIN:VCALENDAR
VERSION:2.0
PRODID:-//Wheeler Opera House - ECPv6.15.18//NONSGML v1.0//EN
CALSCALE:GREGORIAN
METHOD:PUBLISH
X-WR-CALNAME:Wheeler Opera House
X-ORIGINAL-URL:https://wheeleroperahouse.com
X-WR-CALDESC:Events for Wheeler Opera House
REFRESH-INTERVAL;VALUE=DURATION:PT1H
X-Robots-Tag:noindex
X-PUBLISHED-TTL:PT1H
BEGIN:VTIMEZONE
TZID:America/Denver
BEGIN:DAYLIGHT
TZOFFSETFROM:-0700
TZOFFSETTO:-0600
TZNAME:MDT
DTSTART:20240310T090000
END:DAYLIGHT
BEGIN:STANDARD
TZOFFSETFROM:-0600
TZOFFSETTO:-0700
TZNAME:MST
DTSTART:20241103T080000
END:STANDARD
BEGIN:DAYLIGHT
TZOFFSETFROM:-0700
TZOFFSETTO:-0600
TZNAME:MDT
DTSTART:20250309T090000
END:DAYLIGHT
BEGIN:STANDARD
TZOFFSETFROM:-0600
TZOFFSETTO:-0700
TZNAME:MST
DTSTART:20251102T080000
END:STANDARD
BEGIN:DAYLIGHT
TZOFFSETFROM:-0700
TZOFFSETTO:-0600
TZNAME:MDT
DTSTART:20260308T090000
END:DAYLIGHT
BEGIN:STANDARD
TZOFFSETFROM:-0600
TZOFFSETTO:-0700
TZNAME:MST
DTSTART:20261101T080000
END:STANDARD
END:VTIMEZONE
BEGIN:VEVENT
DTSTART;TZID=America/Denver:20250604T190000
DTEND;TZID=America/Denver:20250604T203000
DTSTAMP:20260424T044939
CREATED:20250416T150042Z
LAST-MODIFIED:20250422T213539Z
UID:10000981-1749063600-1749069000@wheeleroperahouse.com
SUMMARY:The Unteachables Comedy Tour
DESCRIPTION:One was named Teacher of the Year. Another was fired for posting jokes online. Together\, they’re unhinged\, uncensored\, and unforgettable. \nThe Unteachables is a comedy showcase led by a group of stand-up comedians who just happened to stumble into the world of education. Once the loudest kids in the back of the classroom\, they’re now bringing their hilarious\, no-holds-barred perspectives to the stage. Their material dives into far more than just classroom antics—it’s authentic\, relatable\, and laugh-out-loud funny for anyone who’s ever worked in education\, needed a break from reality\, or just loves a great night of comedy. \nFeatured on NBC\, The Breakfast Club\, The New York Post\, and Roast Battle League\, The Unteachables are turning school stories into full-on stand-up gold. \nRecommended for audiences 18+. \nMeet the Comedians:\nStephen Taylor\nA Louisiana native turned Kansas City comic\, Stephen blends southern charm with sharp wit and wild stories—both from the stage and his classroom. He’s been featured on The Breakfast Club\, The New York Post\, and San Francisco Sketchfest\, and is the co-founder of both the Fountain City Comedy Festival and Barrel of the Bottoms studio. \nLou Pharis\nHigh-energy and wildly entertaining\, Lou draws from his outrageous experiences as a teacher and husband. After failed attempts at the NFL and American Ninja Warrior\, he found his true calling in public education—and comedy. With over 75 million video views\, Lou has been featured in the U.S. and U.K.\, appeared on NBC\, and was a finalist in Comedy Works’ New Faces Contest. \nJoe McKenna\nBoston-born and Denver-based\, Joe McKenna is one of the fastest-rising comics in the scene. He mines his middle school teaching career\, international travels\, and daily run-ins with Gen Z culture for material that’s as sharp as it is hilarious. Joe has shared the stage with Mark Normand\, Shane Gillis\, and Jeff Ross\, and continues to tour comedy clubs nationwide.
URL:https://wheeleroperahouse.com/event/the-unteachables-comedy-tour/
LOCATION:Wheeler Opera House\, 320 E Hyman Ave\, Aspen\, CO\, 81611\, United States
CATEGORIES:Comedy,Stand-Up
ATTACH;FMTTYPE=image/png:https://wheeleroperahouse.com/app/uploads/2025/04/Unteachables-1200-x-800.png
END:VEVENT
END:VCALENDAR