BEGIN:VCALENDAR
VERSION:2.0
PRODID:-//Wheeler Opera House - ECPv6.15.18//NONSGML v1.0//EN
CALSCALE:GREGORIAN
METHOD:PUBLISH
X-ORIGINAL-URL:https://wheeleroperahouse.com
X-WR-CALDESC:Events for Wheeler Opera House
REFRESH-INTERVAL;VALUE=DURATION:PT1H
X-Robots-Tag:noindex
X-PUBLISHED-TTL:PT1H
BEGIN:VTIMEZONE
TZID:America/Denver
BEGIN:DAYLIGHT
TZOFFSETFROM:-0700
TZOFFSETTO:-0600
TZNAME:MDT
DTSTART:20240310T090000
END:DAYLIGHT
BEGIN:STANDARD
TZOFFSETFROM:-0600
TZOFFSETTO:-0700
TZNAME:MST
DTSTART:20241103T080000
END:STANDARD
BEGIN:DAYLIGHT
TZOFFSETFROM:-0700
TZOFFSETTO:-0600
TZNAME:MDT
DTSTART:20250309T090000
END:DAYLIGHT
BEGIN:STANDARD
TZOFFSETFROM:-0600
TZOFFSETTO:-0700
TZNAME:MST
DTSTART:20251102T080000
END:STANDARD
BEGIN:DAYLIGHT
TZOFFSETFROM:-0700
TZOFFSETTO:-0600
TZNAME:MDT
DTSTART:20260308T090000
END:DAYLIGHT
BEGIN:STANDARD
TZOFFSETFROM:-0600
TZOFFSETTO:-0700
TZNAME:MST
DTSTART:20261101T080000
END:STANDARD
END:VTIMEZONE
BEGIN:VEVENT
DTSTART;TZID=America/Denver:20251024T190000
DTEND;TZID=America/Denver:20251024T203000
DTSTAMP:20260423T220713
CREATED:20250508T150029Z
LAST-MODIFIED:20251023T204522Z
UID:10001575-1761332400-1761337800@wheeleroperahouse.com
SUMMARY:Legends of Native American Comedy
DESCRIPTION:Native Voices\, Big Laughs: A Night of Indigenous Comedy\nGet ready for a powerhouse evening of laughter\, culture\, and storytelling as “Legends of Native American Comedy” brings three acclaimed Indigenous comedians to the Wheeler stage. This high-energy showcase features Jim Ruel\, Ernest Tsosie III\, and Monique Moreau—each offering a unique perspective and voice rooted in Native experience and identity. \nJim Ruel is a comedian\, writer\, and filmmaker from the Bay Mills Band of Ojibwe. A finalist in NBC’s Diversity Talent Search\, he has appeared on Goin’ Native: The American Indian Comedy Slam (Showtime)\, The World Stands Up\, and First Nations Comedy Experience. He currently co-hosts the Hollywood NDNz podcast and runs Frybread Productions\, a Native-owned media company. \nErnest Tsosie III is a veteran actor and comedian whose credits include Netflix’s Rez Ball and recurring roles on AMC’s Longmire\, Better Call Saul\, Dark Winds\, and NBC’s Rutherford Falls. A seasoned performer\, he’s brought his quick wit to stages across the country\, including the Laugh Factory\, House of Comedy\, and the Kennedy Center. \nMonique Moreau is an autistic Cree/Saulteaux comedian\, writer\, and musician whose razor-sharp comedy has taken her around the globe. She’s performed at the Edinburgh Fringe\, Melbourne Comedy Festival\, and San Francisco Sketchfest\, and has opened for Nick Kroll\, Sarah Cooper\, and Anthony Jeselnik. Her writing credits include Thomas & Friends: All Engines Go and American Girl. \nTogether\, these three bring bold\, fresh\, and hilarious Native perspectives to the stage in a show that’s as thought-provoking as it is entertaining.
URL:https://wheeleroperahouse.com/event/legends-of-native-american-comedy/
LOCATION:The Vault at the Wheeler\, 320 E Hyman Ave\, Aspen\, CO\, 81611\, United States
CATEGORIES:Comedy
ATTACH;FMTTYPE=image/jpeg:https://wheeleroperahouse.com/app/uploads/2025/05/Legends-1200-x-800-Key-Art.jpg
END:VEVENT
END:VCALENDAR