BEGIN:VCALENDAR
VERSION:2.0
PRODID:-//Wheeler Opera House - ECPv6.15.18//NONSGML v1.0//EN
CALSCALE:GREGORIAN
METHOD:PUBLISH
X-WR-CALNAME:Wheeler Opera House
X-ORIGINAL-URL:https://wheeleroperahouse.com
X-WR-CALDESC:Events for Wheeler Opera House
REFRESH-INTERVAL;VALUE=DURATION:PT1H
X-Robots-Tag:noindex
X-PUBLISHED-TTL:PT1H
BEGIN:VTIMEZONE
TZID:America/Denver
BEGIN:DAYLIGHT
TZOFFSETFROM:-0700
TZOFFSETTO:-0600
TZNAME:MDT
DTSTART:20250309T090000
END:DAYLIGHT
BEGIN:STANDARD
TZOFFSETFROM:-0600
TZOFFSETTO:-0700
TZNAME:MST
DTSTART:20251102T080000
END:STANDARD
BEGIN:DAYLIGHT
TZOFFSETFROM:-0700
TZOFFSETTO:-0600
TZNAME:MDT
DTSTART:20260308T090000
END:DAYLIGHT
BEGIN:STANDARD
TZOFFSETFROM:-0600
TZOFFSETTO:-0700
TZNAME:MST
DTSTART:20261101T080000
END:STANDARD
BEGIN:DAYLIGHT
TZOFFSETFROM:-0700
TZOFFSETTO:-0600
TZNAME:MDT
DTSTART:20270314T090000
END:DAYLIGHT
BEGIN:STANDARD
TZOFFSETFROM:-0600
TZOFFSETTO:-0700
TZNAME:MST
DTSTART:20271107T080000
END:STANDARD
END:VTIMEZONE
BEGIN:VEVENT
DTSTART;TZID=America/Denver:20260108T190000
DTEND;TZID=America/Denver:20260108T203000
DTSTAMP:20260423T165205
CREATED:20251104T170043Z
LAST-MODIFIED:20260108T151712Z
UID:10001709-1767898800-1767904200@wheeleroperahouse.com
SUMMARY:Monty Franklin
DESCRIPTION:Monty Franklin is an Australian born stand-up comedian and actor based in Los Angeles. His tours take him to over 100 cities in the USA\, Canada\, UK\, Europe\, Asia\, New Zealand and Australia. Monty has also toured with Rob Schneider\, Joe Rogan and John Cleese. Monty’s online videos pointing out the ‘perils’ of being an Australian living in America have amassed over 1 billion views. Monty was on Ep #1794 of The Joe Rogan Experience and is currently appearing in ‘Real Rob’ on NETFLIX\, seasons 1 & 2. He has had roles on ‘New Girl’ – FOX\, ‘Becoming Bond’ – Hulu. Monty performs in Los Angeles as a regular at the The Improv Comedy Clubs and The Laugh Factory – and he was the first Australian to have their name added to the wall of the The Comedy Store in Hollywood. Monty is currently set to star in his first feature film that he co-wrote with Rob Schneider and John Cleese\, THE GREAT EMU WAR\, filming in Australia in 2026. Also starring Schneider\, Cleese\, Rhys Darby and Jim Jefferies. “Go see this man from DOWN UNDER\, he’s absolutely killing it UP OVER.” – Rob Schneider “The only MONTY worthy of attaching a PYTHON to.” – John Cleese \nWith special guest\, Miller Ford
URL:https://wheeleroperahouse.com/event/monty-franklin/
LOCATION:Wheeler Opera House\, 320 E Hyman Ave\, Aspen\, CO\, 81611\, United States
CATEGORIES:Comedy
ATTACH;FMTTYPE=image/png:https://wheeleroperahouse.com/app/uploads/2025/10/Monty-Franklin-1200x-800-png.png
END:VEVENT
END:VCALENDAR